{"text_format":"1","workbook":"xlsx","n_sheets":8,"sheets":["BASIN_DESIGN","CUT_SHEET","STAGE-STORAGE_CHART","DEWATERING_CHART","STAGE-STORAGE","DEWATERING","REGULATORY","GIS_DATA"],"not_rendered":{"charts":6,"images":6,"macros":1,"external_links":0,"defined_names":28,"comments":0,"pivot_tables":0},"unopened":[{"sheet":"STAGE-STORAGE_CHART","index":2,"reason":"not_a_worksheet"},{"sheet":"DEWATERING_CHART","index":3,"reason":"not_a_worksheet"}],"bounds":{"document_bytes":16777216,"sheet_cells":100000,"rows_first":2000,"rows_last":500,"rows_between":2000,"halvings":0,"cell_chars":16384,"cell_head_chars":4096},"cells_cut":0,"cells_raw":0,"read":"whole","date_system":"1900"}

{"sheet":"BASIN_DESIGN","index":0,"n_rows":51,"n_cols":15,"rows_kept":51,"cut":false,"hidden":false,"merged":[[16,11,16,14],[46,11,46,14],[17,6,17,9],[23,6,23,9],[33,6,33,9],[18,6,18,9],[41,11,42,14],[38,11,39,11],[40,11,40,14],[44,1,45,14],[46,1,46,10],[41,1,41,4],[38,12,39,14],[27,11,27,14],[37,11,37,14],[33,11,33,14],[3,1,3,14],[5,1,5,4],[1,1,1,14],[15,6,16,9],[33,1,33,4],[23,1,23,4],[7,12,7,14],[7,1,7,9],[13,6,13,9],[9,11,9,14],[9,1,9,4],[5,6,5,9],[5,11,5,14],[9,6,9,9],[22,1,22,4],[14,6,14,9]]}
[]
[null,"SEDspread: Sediment Basin Design Tool"]
[]
[null,"User Notes: 1) user is required to know the sediment basin drainage area (C18) and spillway design flow rate (C20); 2) Select regulatory design guidance criteria to follow; 3) Cells or parameters for user to change are in RED, all other cells/parameters will be automatically calculated; 4) û denotes parameter does not comply with regulatory design guidance or site geometry constraints ; 5) û denotes parameter does not comply with regulatory design recommendations; 6) ü denotes design within regulatory guidance or recommendation."]
[]
[null,"Project & Location:",null,null,null,null,"Designer:",null,null,null,null,{"$f":"\"Date: \"&TEXT(B50, \"MM/DD/YYYY\")","v":"Date: 08/03/2015"}]
[]
[null,"User Provided Input Parameters (Red)",null,null,null,null,null,null,null,null,null,"Regulatory Design Guidance","ALDOT"]
[]
[null,{"$f":"IF(C12=\"2-Yr, 24-Hr\",\"Site Parameters:   \"&IFERROR(VLOOKUP(C13,GIS_DATA!A13:F40000,2,FALSE),\" \")&\", \"&IFERROR(VLOOKUP(C13,GIS_DATA!A13:F40000,3,FALSE),\" \"),\"Site Parameters\")","v":"Site Parameters:   Auburn University, AL"},null,null,null,null,"Site Geometry Constraints (Optional)",null,null,null,null,"Storage Sizing"]
[null,"System of Units","U.S.",null,null,null,"Max Length Available ",500,{"$f":"IF($C$11=\"SI\", \"m\",\"ft\")","v":"ft"},{"$f":"IF(C29>H11,CHAR(251),\"\")","v":""},null,"Volume Design Storm Event ",{"$f":"LOOKUP($M$8,REGULATORY!$C$2:$E$2,REGULATORY!C4)","v":"2-yr, 24-hr"}]
[null,"Sizing Method","2-Yr, 24-Hr",null,null,null,"Max Width Available ",500,{"$f":"IF($C$11=\"SI\", \"m\",\"ft\")","v":"ft"},{"$f":"IF(C30>H12,CHAR(251),\"\")","v":""},null,"Spillway Design Storm Event",{"$f":"LOOKUP($M$8,REGULATORY!$C$2:$F$2,REGULATORY!C5)","v":"10-yr, 24-hr"}]
[null,{"$f":"IF(C12=\"2-Yr, 24-Hr\",\"Project Zip Code\",\"\")","v":"Project Zip Code"},"36849",null,null,null,"Max Depth Available ",10,{"$f":"IF($C$11=\"SI\", \"m\",\"ft\")","v":"ft"},{"$f":"IF(H26>H13,CHAR(251),\"\")","v":""},null,"Min. Volume Requirement",{"$f":"LOOKUP($M$8,REGULATORY!$C$2:$F$2,REGULATORY!C6)","v":3600},{"$f":"IF(BASIN_DESIGN!$C$11=\"SI\", \"m³/ha\",\"ft³/ac\")","v":"ft³/ac"},{"$f":"IF(C22>H28,CHAR(251),CHAR(252))","v":"ü"}]
[null,{"$f":"IF(C12=\"2-Yr, 24-Hr\",\"Site Curve Number (CN)\",\"\")","v":"Site Curve Number (CN)"},{"$f":"VLOOKUP(C13,GIS_DATA!A3:F40000,6,FALSE)","v":86.129997299999999},null,null,null,{"$f":"IF(OR(C29>H11,C30>H12,H26>H13),\"WARNING: BASIN DESIGN EXCEEDS SITE GEOMETRY RESTRICTIONS\",\"\")","v":""},null,null,null,null,"Min. Surface Area Requirement",{"$f":"LOOKUP($M$8,REGULATORY!$C$2:$F$2,REGULATORY!C7)","v":"-"},{"$f":"IF(BASIN_DESIGN!$C$11=\"SI\", \"m²/m³\",\"ft²/ft³\")","v":"ft²/ft³"},{"$f":"IF(M14=\"-\",\" \",IF(M14>(((C31+2*(C26*H25))*(C32+2*(C26*H25)))/C20),CHAR(251),CHAR(252)))","v":" "}]
[null,{"$f":"IF(C12=\"2-Yr, 24-Hr\",\"2-Yr, 24-hr Rainfall (P)\",\"\")","v":"2-Yr, 24-hr Rainfall (P)"},{"$f":"IF($C$11=\"SI\",VLOOKUP(C13,GIS_DATA!A3:F40000,5),VLOOKUP(C13,GIS_DATA!A3:F40000,4,FALSE))","v":4.1630000999999996},{"$f":"IF($C$11=\"SI\", \"cm\",\"in.\")","v":"in."},null,null,{"$f":"IF((C21<1),\"WARNING: SAFETY FACTOR CANNOT BE LESS THAN 1.00\",\"\")","v":""},null,null,null,null,"Max. Contributing Drainage Area",{"$f":"LOOKUP($M$8,REGULATORY!$C$2:$F$2,REGULATORY!C8)","v":10},{"$f":"IF(BASIN_DESIGN!$C$11=\"SI\",\"ha\",\"ac\")","v":"ac"},{"$f":"IF(C18>M15,CHAR(251),CHAR(252))","v":"ü"}]
[null,"Volume Sizing Factor",{"$f":"IF(C12=\"Regulatory\",M13,IF(C12=\"2-Yr, 24-Hr\",((C15-0.2*((1000/C14)-10))^2)/(C15+0.8*((1000/C14)-10))*43560/12,C19/C18))","v":9823.8154097360984},{"$f":"IF($C$11=\"SI\", \"m³/ha\",\"ft³/ac\")","v":"ft³/ac"},null,null,{"$f":"C51","v":-6.8394001573324203E-10},null,null,null,null,"Recommended Drainage Area",{"$f":"LOOKUP($M$8,REGULATORY!$C$2:$F$2,REGULATORY!C9)","v":2},{"$f":"IF(BASIN_DESIGN!$C$11=\"SI\",\"ha\",\"ac\")","v":"ac"},{"$f":"IF(C18>M16,CHAR(251),CHAR(252))","v":"û"}]
[null,{"$f":"IF(C12=\"Manual\",\"\",\"Design Sediment Basin Volume\")","v":"Design Sediment Basin Volume"},{"$f":"IF(C12=\"Manual\",\"\",C16*C18)","v":49119.07704868049},{"$f":"IF($C$11=\"SI\", \"m³\",\"ft³\")","v":"ft³"},null,null,null,null,null,null,null,"Geometry"]
[null,"Contributory Drainage Area",5,{"$f":"IF($C$11=\"SI\",\"ha\",\"ac\")","v":"ac"},{"$f":"IF(C18>M15,CHAR(251),\"\")","v":""},null,{"$f":"IFERROR(C16,\"ZIP CODE NOT SUPPORTED, ENTER CN AND/OR P MANUALLY\")","v":9823.8154097360984},null,null,null,null,"Recommended L:W Ratio",{"$f":"LOOKUP($M$8,REGULATORY!$C$2:$F$2,REGULATORY!C11)","v":10},{"$f":"IF($C$11=\"SI\", \"m/m\",\"ft/ft\")","v":"ft/ft"},{"$f":"IF(M18=\"-\",\" \",IF(C25<M18,CHAR(251),CHAR(252)))","v":"û"}]
[null,{"$f":"IF(C12=\"Manual\",\"Design Storm (Sediment Basin) Volume \",\"\" )","v":""},7000,{"$f":"IF($C$11=\"SI\", \"m³\",\"ft³\")","v":"ft³"},null,null,"Surface Skimmer Design",null,null,null,null,"Max. L:W Ratio",{"$f":"LOOKUP($M$8,REGULATORY!$C$2:$F$2,REGULATORY!C12)","v":"-"},{"$f":"IF($C$11=\"SI\", \"m/m\",\"ft/ft\")","v":"ft/ft"},{"$f":"IF(M19=\"-\",\" \",IF(C25>M19,CHAR(251),CHAR(252)))","v":" "}]
[null,"Spillway Design Flow Rate",20,{"$f":"IF($C$11=\"SI\", \"m³/s\",\"ft³/s\")","v":"ft³/s"},null,null,"Desired Detention Time",72,"hrs",null,null,"Min. L:W Ratio",{"$f":"LOOKUP($M$8,REGULATORY!$C$2:$F$2,REGULATORY!C13)","v":2},{"$f":"IF($C$11=\"SI\", \"m/m\",\"ft/ft\")","v":"ft/ft"},{"$f":"IF(M20>C25,CHAR(251),CHAR(252))","v":"ü"}]
[null,"Live Storage Safety Factor",1,null,null,null,"Required Dewatering Rate",{"$f":"H28/H20","v":682.20940345388624},{"$f":"IF($C$11=\"SI\", \"m³/hr\",\"ft³/hr\")","v":"ft³/hr"},null,null,"Min. Side Slopes H:V",{"$f":"LOOKUP($M$8,REGULATORY!$C$2:$F$2,REGULATORY!C14)","v":3},{"$f":"IF($C$11=\"SI\", \"m/m\",\"ft/ft\")","v":"ft/ft"},{"$f":"IF(M21>C26,CHAR(251),CHAR(252))","v":"ü"}]
[null,"Minimum Regulatory Volume Requirement",{"$f":"C18*M13","v":18000},{"$f":"IF($C$11=\"SI\", \"m³\",\"ft³\")","v":"ft³"},null,null,"Recommended Orifice Size",{"$f":"IF(C11=\"SI\",2.8163*(H21)^0.4,0.2665*(H21)^0.4)","v":3.6246351181739276},{"$f":"IF($C$11=\"SI\", \"cm\",\"in\")","v":"in"},null,null,"Min. Basin Width:Depth Ratio",{"$f":"LOOKUP($M$8,REGULATORY!$C$2:$F$2,REGULATORY!C15)","v":"-"},{"$f":"IF($C$11=\"SI\", \"m/m\",\"ft/ft\")","v":"ft/ft"},{"$f":"IF(M22=\"-\",\" \",IF(C30<(M22*H26),CHAR(251),CHAR(252)))","v":" "}]
[null,{"$f":"IF((C22>H28),\"WARNING: MINIMUM VOLUME REQUIREMENTS NOT MET\",\"\")","v":""},null,null,null,null,null,null,null,null,null,"Recommended Live Storage Depth",{"$f":"LOOKUP($M$8,REGULATORY!$C$2:$F$2,REGULATORY!C16)","v":4},{"$f":"IF($C$11=\"SI\", \"m\",\"ft\")","v":"ft"},{"$f":"IF(M23=\"-\",\" \",IF(C28>M23,CHAR(251),CHAR(252)))","v":"ü"}]
[null,"Basin Configuration",null,null,null,null,"Basin Capacity",null,null,null,null,"Min. Dead Storage Depth",{"$f":"LOOKUP($M$8,REGULATORY!$C$2:$F$2,REGULATORY!C17)","v":0},{"$f":"IF($C$11=\"SI\", \"m\",\"ft\")","v":"ft"},{"$f":"IF(M24=\"-\",\" \",IF(C27<M24,CHAR(251),CHAR(252)))","v":"ü"}]
[null,"Length to Width Ratio (L:W)",2,null,{"$f":"IF(M20>C25,CHAR(251),\"\")","v":""},null,"Total Storage Depth (Spillway crest elevation)",{"$f":"C27+C28","v":2.25},{"$f":"IF($C$11=\"SI\", \"m\",\"ft\")","v":"ft"},null,null,"Max. Dead Storage Depth",{"$f":"LOOKUP($M$8,REGULATORY!$C$2:$F$2,REGULATORY!C18)","v":1},{"$f":"IF($C$11=\"SI\", \"m\",\"ft\")","v":"ft"},{"$f":"IF(M25=\"-\",\" \",IF(C27>M25,CHAR(251),CHAR(252)))","v":"ü"}]
[null,"Side Slopes (H:V)",3,null,{"$f":"IF(M21>C26,CHAR(251),\"\")","v":""},null,"Total Basin Depth",{"$f":"C38+C39+C36","v":4.9986765594259497},{"$f":"IF($C$11=\"SI\", \"m\",\"ft\")","v":"ft"},{"$f":"IF(M27<H26,CHAR(251),\"\")","v":""},null,"Min. Total Depth",{"$f":"LOOKUP($M$8,REGULATORY!$C$2:$F$2,REGULATORY!C19)","v":2},{"$f":"IF($C$11=\"SI\", \"m\",\"ft\")","v":"ft"},{"$f":"IF(M26=\"-\",\" \",IF(H26<M26,CHAR(251),CHAR(252)))","v":"ü"}]
[null,"Dead Storage Depth ",0.1,{"$f":"IF($C$11=\"SI\", \"m\",\"ft\")","v":"ft"},{"$f":"IF(OR(C27>M25,C27<M24),CHAR(251),\"\")","v":""},null,"Dead Storage Volume",{"$f":"(1/6)*(C27)*(C32*C31+(C32+(C32+2*C26*C27))*(C31+(C31+2*C26*C27))+((C32+2*C26*C27)*(C31+2*C26*C27)))","v":2067.2342286702574},{"$f":"IF($C$11=\"SI\", \"m³\",\"ft³\")","v":"ft³"},null,null,"Max. Total Depth",{"$f":"LOOKUP($M$8,REGULATORY!$C$2:$F$2,REGULATORY!C20)","v":5},{"$f":"IF($C$11=\"SI\", \"m\",\"ft\")","v":"ft"},{"$f":"IF(M27=\"-\",\" \",IF(H26>M27,CHAR(251),CHAR(252)))","v":"ü"}]
[null,"Live Storage Depth",2.15,"ft",null,null,"Live Storage Volume",{"$f":"(1/6)*(C28)*((C32+2*C26*C27)*(C31+2*C26*C27)+((C32+2*C26*C27)+(C32+2*C26*(C28+C27)))*((C31+2*C26*C27)+(C31+2*C26*(C27+C28)))+((C32+2*C26*(C28+C27))*(C31+2*C26*(C27+C28))))","v":49119.077048679806},"ft³",null,null,"Spillway & Surface Skimmer",{"$f":"LOOKUP($M$8,REGULATORY!$C$2:$E$2,REGULATORY!C21)","v":0}]
[null,"Top Length",248.41312225521946,"ft",{"$f":"IF(C29>H11,CHAR(251),\"\")","v":""},null,"Total Storage Volume (without overflow)",{"$f":"(1/6)*(H25)*(C32*C31+(C32+(C32+2*C26*H25))*(C31+(C31+2*C26*H25))+((C32+2*C26*H25)*(C31+2*C26*H25)))","v":51186.311277350076},"ft³",null,null,"Recommended Spillway Length/Flow Ratio",{"$f":"LOOKUP($M$8,REGULATORY!$C$2:$F$2,REGULATORY!C22)","v":"-"},{"$f":"IF($C$11=\"SI\", \"m/m³\",\"ft/ft³\")","v":"ft/ft³"},{"$f":"IF(M29=\"-\",\" \",IF(C35=C37,CHAR(251),CHAR(252)))","v":" "}]
[null,"Top Width",{"$f":"C29/C25","v":124.20656112760973},"ft",{"$f":"IF(C30>H12,CHAR(251),\"\")","v":""},null,"Spillway & Freeboard Volume",{"$f":"((H26-H25)/6)*((((C29*C30)+(C30+(C32+(2*C26*H25)))*(C29+(C31+(2*C26*H25)))+((C32+(2*C26*H25))*(C31+(2*C26*H25))))))","v":76612.678051762632},"ft³",null,null,"Min. Spillway Length",{"$f":"LOOKUP($M$8,REGULATORY!$C$2:$F$2,REGULATORY!C23)","v":"-"},{"$f":"IF($C$11=\"SI\", \"m\",\"ft\")","v":"ft"},{"$f":"IF(M30=\"-\",\" \",IF(C35<M30,CHAR(251),CHAR(252)))","v":" "}]
[null,"Bottom Length",{"$f":"C29-(2*C26*H26)","v":218.42106289866376},"ft",null,null,"Total Basin Volume",{"$f":"(1/6)*(H26)*(((C29*C30)+((C29+C31)*(C30+C32))+((C31*C32))))","v":127798.98932911271},"ft³",null,null,"Freeboard above spillway flow",{"$f":"LOOKUP($M$8,REGULATORY!$C$2:$F$2,REGULATORY!C24)","v":2},{"$f":"IF($C$11=\"SI\", \"m\",\"ft\")","v":"ft"},{"$f":"IF(C36<M31,CHAR(251),CHAR(252))","v":"ü"}]
[null,"Bottom Width",{"$f":"C30-(2*C26*H26)","v":94.214501771054032},"ft",null,null,"Total Basin Surface Area",{"$f":"(C31+(2*C26*H26))*(C32+(2*C26*H26))","v":30854.539654293305},{"$f":"IF($C$11=\"SI\", \"m²\",\"ft²\")","v":"ft²"},null,null,"Min. Detention Time",{"$f":"LOOKUP($M$8,REGULATORY!$C$2:$F$2,REGULATORY!C25)","v":"-"},"hrs",{"$f":"IF(M32=\"-\",\" \",IF(H20<M32,CHAR(251),CHAR(252)))","v":" "}]
[null,null,null,null,null,null,null,null,null,null,null,"Max. Detention Time",{"$f":"LOOKUP($M$8,REGULATORY!$C$2:$F$2,REGULATORY!C26)","v":72},"hrs",{"$f":"IF(H20>M33,CHAR(251),CHAR(252))","v":"ü"}]
[null,"Auxiliary Weir Spillway Design",null,null,null,null,"Baffles",null,null,null,null,"Baffles"]
[null,"Spillway Length",10,{"$f":"IF($C$11=\"SI\", \"m\",\"ft\")","v":"ft"},{"$f":"IF(C35>C30,CHAR(251),\"\")","v":""},null,"No. of Bays",4,null,{"$f":"IF(H35<M35,CHAR(251),\"\")","v":""},null,"No. of Bays",{"$f":"LOOKUP($M$8,REGULATORY!$C$2:$F$2,REGULATORY!C28)","v":4},null,{"$f":"IF(M35=\"-\",\" \",IF(H35<M35,CHAR(251),CHAR(252)))","v":"ü"}]
[null,"Freeboard above Crown",2,{"$f":"IF($C$11=\"SI\", \"m\",\"ft\")","v":"ft"},{"$f":"IF(C36<M31,CHAR(251),\"\")","v":""},null,"T-Post Spacing",3,{"$f":"IF($C$11=\"SI\", \"m\",\"ft\")","v":"ft"},{"$f":"IF(H36>M36,CHAR(251),\"\")","v":""},null,"Baffle T-Post Spacing",{"$f":"LOOKUP($M$8,REGULATORY!$C$2:$F$2,REGULATORY!C29)","v":4},{"$f":"IF($C$11=\"SI\", \"m\",\"ft\")","v":"ft"},{"$f":"IF(H36>M36,CHAR(251),CHAR(252))","v":"ü"}]
[null,{"$f":"IF(M29=\"-\",\" \",\"Recommended Spillway Length\")","v":" "},{"$f":"IF(M29=\"-\",\" \",M29*C20)","v":" "},{"$f":"IF(M29=\"-\",\" \",IF($C$11=\"SI\", \"m\",\"ft\"))","v":" "},null,null,"T-Post Stake Depth",2,{"$f":"IF($C$11=\"SI\", \"m\",\"ft\")","v":"ft"},{"$f":"IF(H37<M37,CHAR(251),\"\")","v":""},null,"T-Post Stake Depth",{"$f":"LOOKUP($M$8,REGULATORY!$C$2:$F$2,REGULATORY!C30)","v":2},{"$f":"IF($C$11=\"SI\", \"m\",\"ft\")","v":"ft"},{"$f":"IF(H37<M37,CHAR(251),CHAR(252))","v":"ü"}]
[null,"Spillway Crest Elevation",{"$f":"H25","v":2.25},{"$f":"IF($C$11=\"SI\", \"m\",\"ft\")","v":"ft"},null,null,"Bay Length",{"$f":"C31/H35","v":54.605265724665941},{"$f":"IF($C$11=\"SI\", \"m\",\"ft\")","v":"ft"},null,null,"Maintenance Requirements"]
[null,"Spillway Height",{"$f":"(C20/((2/3)^(3/2)*(IF(C11=\"SI\",9.81,32.17))^(0.5)*C35))^(2/3)","v":0.74867655942594979},{"$f":"IF($C$11=\"SI\", \"m\",\"ft\")","v":"ft"},null,null,"No. of T-Posts Required",{"$f":"(H35-1)*(((C32+(2*C26*C40))/H36)+1)","v":115.20656112760972},null,null,null,"Maintenance Required When:",{"$f":"LOOKUP($M$8,REGULATORY!$C$2:$F$2,REGULATORY!C32)","v":"Sediment Reaches 1/3 Height of Bay 1 Baffle"}]
[null,"Spillway Flow Elevation",{"$f":"C38+C39","v":2.9986765594259497},{"$f":"IF($C$11=\"SI\", \"m\",\"ft\")","v":"ft"},null,null,"T-Post Length Required",{"$f":"H37+C40+(IF(C11=1,0.15,0.5))","v":5.4986765594259497},{"$f":"IF($C$11=\"SI\", \"m\",\"ft\")","v":"ft"}]
[null,"Design Flow Rate",{"$f":"IF(BASIN_DESIGN!$C$11=\"SI\",1.866*C35*(C39)^(3/2),3.367*C35*(C39)^(3/2))","v":21.811446597447365},{"$f":"IF($C$11=\"SI\", \"m³/s\",\"ft³/s\")","v":"ft³/s"},null,null,"Height of Baffle Required",{"$f":"C40","v":2.9986765594259497},{"$f":"IF($C$11=\"SI\", \"m\",\"ft\")","v":"ft"},null,null,"Other Notes"]
[null,{"$f":"IF((C35>C30),\"WARNING: SPILLWAY LENGTH EXCEEDS BASIN WIDTH\",\"\")","v":""},null,null,null,null,"Length of Baffle Required",{"$f":"2*(H35-1)*((C32+(2*C26*C40)))","v":673.23936676565836},{"$f":"IF($C$11=\"SI\", \"m\",\"ft\")","v":"ft"},null,null,{"$f":"LOOKUP($M$8,REGULATORY!$C$2:$F$2,REGULATORY!C35)","v":"-"}]
[]
[]
[null,{"$f":"\"References: \"&LOOKUP($M$8,REGULATORY!$C$2:$E$2,REGULATORY!C37)","v":"References: Alabama Department of Transportation [ALDOT] (2014). \"Standard Best Management Practices\". Montgomery, AL.; ALDOT (2010). \"Sedimentation Basin Recommendations\". Montgomery, AL."}]
[]
[null,"Disclaimer:  this tool is to be used for design guidance only.  The engineer of record is responsible for final design.",null,null,null,null,null,null,null,null,null,"© AUBURN UNIVERSITY 2015 - SEDspread v1.0   "]
[]
[]
[null,{"$f":"NOW()","v":"2015-08-03T13:39:35.310"}]
[null,"Difference",{"$f":"IF(C12=\"Manual\",H28-(C19*C21),H28-(C17*C21))","v":-6.8394001573324203E-10}]

{"sheet":"CUT_SHEET","index":1,"n_rows":39,"n_cols":20,"rows_kept":39,"cut":false,"hidden":false,"merged":[[38,3,38,5],[38,9,38,12],[38,14,38,18],[12,16,13,21],[12,8,12,12],[13,8,13,12],[25,4,25,9],[35,9,35,10],[35,16,35,18],[35,20,35,21],[36,9,36,10],[36,16,36,18],[37,3,37,5],[37,9,37,10],[37,16,37,18],[29,9,29,10],[32,9,32,10],[32,16,33,19],[33,9,34,10],[33,11,34,11],[33,12,34,12],[27,9,28,12],[22,15,23,20],[24,4,24,9],[30,9,30,10],[31,9,31,10]]}
[]
[]
[]
[]
[]
[]
[]
[]
[]
[]
[]
[]
[null,null,null,null,null,null,null,null,"PROFILE VIEW - LENGTH",null,null,null,null,null,null,null,{"$f":"IF(BASIN_DESIGN!H35=4,\"\",\"Note: basin design includes \"&BASIN_DESIGN!H35&\" bays spaced at \"&REGULATORY!A61&\" \"&BASIN_DESIGN!I38&\", check design notes\")","v":""}]
[null,null,null,null,null,null,null,null,"NOT TO SCALE"]
[]
[]
[]
[]
[]
[]
[]
[]
[]
[]
[null,null,null,null,"CROSS SECTION VIEW - WIDTH"]
[null,null,null,null,"NOT TO SCALE"]
[]
[null,null,null,null,null,null,null,null,null,"DESIGN SUMMARY"]
[]
[null,null,null,null,null,null,null,null,null," LIVE STORAGE VOLUME:",null,{"$f":"BASIN_DESIGN!H28","v":49119.077048679806},{"$f":"BASIN_DESIGN!I28","v":"ft³"}]
[null,null,null,null,null,null,null,null,null," TOP LENGTH:",null,{"$f":"BASIN_DESIGN!C29","v":248.41312225521946},{"$f":"BASIN_DESIGN!D29","v":"ft"}]
[null,null,null,null,null,null,null,null,null," TOP WIDTH:",null,{"$f":"BASIN_DESIGN!C30","v":124.20656112760973},{"$f":"BASIN_DESIGN!D30","v":"ft"}]
[null,null,null,null,null,null,null,null," "," SIDE SLOPES (H:V):",null,{"$f":"BASIN_DESIGN!C26&\":1\"","v":"3:1"}]
[null,null,null,null,null,null,null,null,null," TOTAL BASIN DEPTH:",null,{"$f":"BASIN_DESIGN!H26","v":4.9986765594259497},{"$f":"BASIN_DESIGN!I26","v":"ft"}]
[]
[null,null,null,null,null,null,null,null,null," AUX. SPILLWAY LENGTH:",null,{"$f":"BASIN_DESIGN!C35","v":10},{"$f":"BASIN_DESIGN!D35","v":"ft"},null," PROJECT:",null,null,null,null," DATE:"]
[null,null,null,null,null,null,null,null,null," SKIMMER ORIFACE SIZE:",null,{"$f":"BASIN_DESIGN!H22","v":3.6246351181739276},{"$f":"BASIN_DESIGN!I22","v":"in"},null," DESCRIPTION:",null,null,null,null," REVISION:"]
[null,null,null,"SPILLWAY DESIGN",null,null,null,null,null," BAFFLE HEIGHT:",null,{"$f":"ROUND(BASIN_DESIGN!H41,2)","v":3},{"$f":"BASIN_DESIGN!I41","v":"ft"},null," LOCATION:",null,null,null,null," DESIGNED BY:"]
[null,null,null,"NOT TO SCALE",null,null,null,null,null,"FOR CONCEPTUAL DESIGN PURPOSES ONLY",null,null,null,null,"© AUBURN UNIVERSITY 2015 - SEDspread v1.0",null,null,null,null," CHECKED BY:"]

{"sheet":"STAGE-STORAGE","index":4,"n_rows":110,"n_cols":8,"rows_kept":110,"cut":false,"hidden":false,"merged":[[0,0,0,6]]}
["Basin Stage-Storage Relationship"]
["Stage","Length","Width","Surface Area","Incremental Volume","Cumulative Volume","Cumulative Volume"]
[{"$f":"IF(BASIN_DESIGN!$C$11=\"SI\", \"m\",\"ft\")","v":"ft"},{"$f":"IF(BASIN_DESIGN!$C$11=\"SI\", \"m\",\"ft\")","v":"ft"},{"$f":"IF(BASIN_DESIGN!$C$11=\"SI\", \"m\",\"ft\")","v":"ft"},{"$f":"IF(BASIN_DESIGN!$C$11=\"SI\", \"m²\", \"ft²\")","v":"ft²"},{"$f":"IF(BASIN_DESIGN!$C$11=\"SI\", \"m³\",\"ft³\")","v":"ft³"},{"$f":"IF(BASIN_DESIGN!$C$11=\"SI\", \"m³\",\"ft³\")","v":"ft³"},{"$f":"IF(BASIN_DESIGN!$C$11=\"SI\",\"m³/ha\",\"ft/ac\")","v":"ft/ac"}]
[{"$f":"BASIN_DESIGN!H26","v":4.9986765594259497},{"$f":"$B$104+(2*A4*BASIN_DESIGN!$C$26)","v":248.41312225521946},{"$f":"$C$104+(2*A4*BASIN_DESIGN!$C$26)","v":124.20656112760973},{"$f":"B4*C4","v":30854.539654293305},{"$f":"(1/6)*(A4-A5)*((C4*B4)+(C4+C5)*(B4+B5)+(B5*C5))","v":1539.5269716260259},{"$f":"(1/6)*(A4)*(B4*C4+(B4+$B$104)*(C4+$C$104)+($B$104*$C$104))","v":127798.98932911271},{"$f":"IF(BASIN_DESIGN!$C$11=\"SI\",F4/10000,F4/43560)","v":2.9338610957096583}]
[{"$f":"A4-($A$4/100)","v":4.9486897938316901},{"$f":"$B$104+(2*A5*BASIN_DESIGN!$C$26)","v":248.1132016616539},{"$f":"$C$104+(2*A5*BASIN_DESIGN!$C$26)","v":123.90664053404417},30742.87329004136,1533.9496276790567,126259.46235748667,{"$f":"IF(BASIN_DESIGN!$C$11=\"SI\",F5/10000,F5/43560)","v":2.898518419593358}]
[{"$f":"A5-($A$4/100)","v":4.8987030282374304},{"$f":"$B$104+(2*A6*BASIN_DESIGN!$C$26)","v":247.81328106808834},{"$f":"$C$104+(2*A6*BASIN_DESIGN!$C$26)","v":123.60671994047861},30631.386830514308,1528.3812765874004,124725.51272980761,{"$f":"IF(BASIN_DESIGN!$C$11=\"SI\",F6/10000,F6/43560)","v":2.8633037816760241}]
[4.8487162626431708,{"$f":"$B$104+(2*A7*BASIN_DESIGN!$C$26)","v":247.51336047452278},{"$f":"$C$104+(2*A7*BASIN_DESIGN!$C$26)","v":123.30679934691305},30520.080275712142,1522.821918351056,123197.13145322021,{"$f":"IF(BASIN_DESIGN!$C$11=\"SI\",F7/10000,F7/43560)","v":2.8282169755101059}]
[4.7987294970489112,{"$f":"$B$104+(2*A8*BASIN_DESIGN!$C$26)","v":247.21343988095722},{"$f":"$C$104+(2*A8*BASIN_DESIGN!$C$26)","v":123.00687875334751},30408.953625634869,1517.2715529700242,121674.30953486917,{"$f":"IF(BASIN_DESIGN!$C$11=\"SI\",F8/10000,F8/43560)","v":2.7932577946480528}]
[4.7487427314546515,{"$f":"$B$104+(2*A9*BASIN_DESIGN!$C$26)","v":246.91351928739167},{"$f":"$C$104+(2*A9*BASIN_DESIGN!$C$26)","v":122.70695815978195},30298.006880282483,1511.7301804443046,120157.03798189911,{"$f":"IF(BASIN_DESIGN!$C$11=\"SI\",F9/10000,F9/43560)","v":2.758426032642312}]
[4.6987559658603919,{"$f":"$B$104+(2*A10*BASIN_DESIGN!$C$26)","v":246.61359869382611},{"$f":"$C$104+(2*A10*BASIN_DESIGN!$C$26)","v":122.40703756621639},30187.240039654986,1506.1978007738974,118645.30780145482,{"$f":"IF(BASIN_DESIGN!$C$11=\"SI\",F10/10000,F10/43560)","v":2.7237214830453356}]
[4.6487692002661323,{"$f":"$B$104+(2*A11*BASIN_DESIGN!$C$26)","v":246.31367810026055},{"$f":"$C$104+(2*A11*BASIN_DESIGN!$C$26)","v":122.10711697265083},30076.653103752378,1500.6744139588025,117139.11000068093,{"$f":"IF(BASIN_DESIGN!$C$11=\"SI\",F11/10000,F11/43560)","v":2.6891439394095715}]
[4.5987824346718726,{"$f":"$B$104+(2*A12*BASIN_DESIGN!$C$26)","v":246.01375750669501},{"$f":"$C$104+(2*A12*BASIN_DESIGN!$C$26)","v":121.80719637908527},29966.246072574664,1495.1600199990201,115638.43558672213,{"$f":"IF(BASIN_DESIGN!$C$11=\"SI\",F12/10000,F12/43560)","v":2.6546931952874684}]
[4.548795669077613,{"$f":"$B$104+(2*A13*BASIN_DESIGN!$C$26)","v":245.71383691312946},{"$f":"$C$104+(2*A13*BASIN_DESIGN!$C$26)","v":121.50727578551971},29856.018946121832,1489.6546188945499,114143.27556672311,{"$f":"IF(BASIN_DESIGN!$C$11=\"SI\",F13/10000,F13/43560)","v":2.6203690442314764}]
[4.4988089034833534,{"$f":"$B$104+(2*A14*BASIN_DESIGN!$C$26)","v":245.4139163195639},{"$f":"$C$104+(2*A14*BASIN_DESIGN!$C$26)","v":121.20735519195415},29745.971724393894,1484.158210645392,112653.62094782856,{"$f":"IF(BASIN_DESIGN!$C$11=\"SI\",F14/10000,F14/43560)","v":2.5861712797940442}]
[4.4488221378890938,{"$f":"$B$104+(2*A15*BASIN_DESIGN!$C$26)","v":245.11399572599834},{"$f":"$C$104+(2*A15*BASIN_DESIGN!$C$26)","v":120.90743459838859},29636.104407390845,1478.6707952515467,111169.46273718317,{"$f":"IF(BASIN_DESIGN!$C$11=\"SI\",F15/10000,F15/43560)","v":2.5520996955276209}]
[4.3988353722948341,{"$f":"$B$104+(2*A16*BASIN_DESIGN!$C$26)","v":244.81407513243278},{"$f":"$C$104+(2*A16*BASIN_DESIGN!$C$26)","v":120.60751400482303},29526.416995112682,1473.1923727130134,109690.7919419316,{"$f":"IF(BASIN_DESIGN!$C$11=\"SI\",F16/10000,F16/43560)","v":2.5181540849846558}]
[4.3488486067005745,{"$f":"$B$104+(2*A17*BASIN_DESIGN!$C$26)","v":244.51415453886722},{"$f":"$C$104+(2*A17*BASIN_DESIGN!$C$26)","v":120.30759341125747},29416.909487559413,1467.7229430297928,108217.5995692186,{"$f":"IF(BASIN_DESIGN!$C$11=\"SI\",F17/10000,F17/43560)","v":2.4843342417175989}]
[4.2988618411063149,{"$f":"$B$104+(2*A18*BASIN_DESIGN!$C$26)","v":244.21423394530166},{"$f":"$C$104+(2*A18*BASIN_DESIGN!$C$26)","v":120.00767281769191},29307.581884731033,1462.2625062018842,106749.87662618881,{"$f":"IF(BASIN_DESIGN!$C$11=\"SI\",F18/10000,F18/43560)","v":2.4506399592788983}]
[4.2488750755120552,{"$f":"$B$104+(2*A19*BASIN_DESIGN!$C$26)","v":243.9143133517361},{"$f":"$C$104+(2*A19*BASIN_DESIGN!$C$26)","v":119.70775222412637},29198.434186627543,1456.8110622292882,105287.61411998692,{"$f":"IF(BASIN_DESIGN!$C$11=\"SI\",F19/10000,F19/43560)","v":2.4170710312210035}]
[4.1988883099177956,{"$f":"$B$104+(2*A20*BASIN_DESIGN!$C$26)","v":243.61439275817054},{"$f":"$C$104+(2*A20*BASIN_DESIGN!$C$26)","v":119.40783163056081},29089.466393248938,1451.3686111120046,103830.80305775764,{"$f":"IF(BASIN_DESIGN!$C$11=\"SI\",F20/10000,F20/43560)","v":2.3836272510963648}]
[4.148901544323536,{"$f":"$B$104+(2*A21*BASIN_DESIGN!$C$26)","v":243.31447216460498},{"$f":"$C$104+(2*A21*BASIN_DESIGN!$C$26)","v":119.10791103699525},28980.678504595227,1445.9351528500333,102379.43444664564,{"$f":"IF(BASIN_DESIGN!$C$11=\"SI\",F21/10000,F21/43560)","v":2.3503084124574296}]
[4.0989147787292763,{"$f":"$B$104+(2*A22*BASIN_DESIGN!$C$26)","v":243.01455157103942},{"$f":"$C$104+(2*A22*BASIN_DESIGN!$C$26)","v":118.80799044342969},28872.070520666402,1440.5106874433741,100933.4992937956,{"$f":"IF(BASIN_DESIGN!$C$11=\"SI\",F22/10000,F22/43560)","v":2.3171143088566484}]
[4.0489280131350167,{"$f":"$B$104+(2*A23*BASIN_DESIGN!$C$26)","v":242.71463097747386},{"$f":"$C$104+(2*A23*BASIN_DESIGN!$C$26)","v":118.50806984986413},28763.642441462467,1435.0952148920276,99492.988606352228,{"$f":"IF(BASIN_DESIGN!$C$11=\"SI\",F23/10000,F23/43560)","v":2.28404473384647}]
[3.9989412475407571,{"$f":"$B$104+(2*A24*BASIN_DESIGN!$C$26)","v":242.4147103839083},{"$f":"$C$104+(2*A24*BASIN_DESIGN!$C$26)","v":118.20814925629858},28655.394266983425,{"$f":"(1/6)*(A24-A25)*((C24*B24)+(C24+C25)*(B24+B25)+(B25*C25))","v":1429.6887351959931},98057.893391460195,{"$f":"IF(BASIN_DESIGN!$C$11=\"SI\",F24/10000,F24/43560)","v":2.2510994809793434}]
[3.9489544819464975,{"$f":"$B$104+(2*A25*BASIN_DESIGN!$C$26)","v":242.11478979034274},{"$f":"$C$104+(2*A25*BASIN_DESIGN!$C$26)","v":117.90822866273302},28547.325997229269,1424.2912483552711,96628.204656264206,{"$f":"IF(BASIN_DESIGN!$C$11=\"SI\",F25/10000,F25/43560)","v":2.218278343807718}]
[3.8989677163522378,{"$f":"$B$104+(2*A26*BASIN_DESIGN!$C$26)","v":241.81486919677718},{"$f":"$C$104+(2*A26*BASIN_DESIGN!$C$26)","v":117.60830806916746},28439.437632200006,1418.9027543698614,95203.913407908942,{"$f":"IF(BASIN_DESIGN!$C$11=\"SI\",F26/10000,F26/43560)","v":2.1855811158840437}]
[3.8489809507579782,{"$f":"$B$104+(2*A27*BASIN_DESIGN!$C$26)","v":241.51494860321162},{"$f":"$C$104+(2*A27*BASIN_DESIGN!$C$26)","v":117.3083874756019},28331.729171895629,1413.5232532397642,93785.010653539066,{"$f":"IF(BASIN_DESIGN!$C$11=\"SI\",F27/10000,F27/43560)","v":2.1530075907607684}]
[3.7989941851637186,{"$f":"$B$104+(2*A28*BASIN_DESIGN!$C$26)","v":241.21502800964606},{"$f":"$C$104+(2*A28*BASIN_DESIGN!$C$26)","v":117.00846688203634},28224.200616316142,1408.1527449649791,92371.487400299302,{"$f":"IF(BASIN_DESIGN!$C$11=\"SI\",F28/10000,F28/43560)","v":2.1205575619903421}]
[3.7490074195694589,{"$f":"$B$104+(2*A29*BASIN_DESIGN!$C$26)","v":240.9151074160805},{"$f":"$C$104+(2*A29*BASIN_DESIGN!$C$26)","v":116.70854628847079},28116.851965461541,1402.7912295455067,90963.334655334344,{"$f":"IF(BASIN_DESIGN!$C$11=\"SI\",F29/10000,F29/43560)","v":2.0882308231252145}]
[3.6990206539751993,{"$f":"$B$104+(2*A30*BASIN_DESIGN!$C$26)","v":240.61518682251494},{"$f":"$C$104+(2*A30*BASIN_DESIGN!$C$26)","v":116.40862569490523},28009.683219331833,1397.4387069813463,89560.543425788826,{"$f":"IF(BASIN_DESIGN!$C$11=\"SI\",F30/10000,F30/43560)","v":2.0560271677178337}]
[3.6490338883809397,{"$f":"$B$104+(2*A31*BASIN_DESIGN!$C$26)","v":240.31526622894941},{"$f":"$C$104+(2*A31*BASIN_DESIGN!$C$26)","v":116.10870510133967},27902.694377927019,1392.0951772724984,88163.104718807488,{"$f":"IF(BASIN_DESIGN!$C$11=\"SI\",F31/10000,F31/43560)","v":2.0239463893206495}]
[3.59904712278668,{"$f":"$B$104+(2*A32*BASIN_DESIGN!$C$26)","v":240.01534563538385},{"$f":"$C$104+(2*A32*BASIN_DESIGN!$C$26)","v":115.80878450777411},27795.88544124709,1386.7606404189628,86771.009541534979,{"$f":"IF(BASIN_DESIGN!$C$11=\"SI\",F32/10000,F32/43560)","v":1.9919882814861107}]
[3.5490603571924204,{"$f":"$B$104+(2*A33*BASIN_DESIGN!$C$26)","v":239.71542504181829},{"$f":"$C$104+(2*A33*BASIN_DESIGN!$C$26)","v":115.50886391420855},27689.256409292047,1381.4350964207395,85384.248901116036,{"$f":"IF(BASIN_DESIGN!$C$11=\"SI\",F33/10000,F33/43560)","v":1.9601526377666676}]
[3.4990735915981608,{"$f":"$B$104+(2*A34*BASIN_DESIGN!$C$26)","v":239.41550444825273},{"$f":"$C$104+(2*A34*BASIN_DESIGN!$C$26)","v":115.20894332064299},27582.807282061898,1376.1185452778286,84002.813804695266,{"$f":"IF(BASIN_DESIGN!$C$11=\"SI\",F34/10000,F34/43560)","v":1.9284392517147673}]
[3.4490868260039012,{"$f":"$B$104+(2*A35*BASIN_DESIGN!$C$26)","v":239.11558385468717},{"$f":"$C$104+(2*A35*BASIN_DESIGN!$C$26)","v":114.90902272707744},27476.538059556638,1370.8109869902303,82626.695259417465,{"$f":"IF(BASIN_DESIGN!$C$11=\"SI\",F35/10000,F35/43560)","v":1.896847916882862}]
[3.3991000604096415,{"$f":"$B$104+(2*A36*BASIN_DESIGN!$C$26)","v":238.81566326112161},{"$f":"$C$104+(2*A36*BASIN_DESIGN!$C$26)","v":114.60910213351188},{"$f":"B36*C36","v":27370.448741776268},1365.512421557944,{"$f":"(1/6)*(A36)*(B36*C36+(B36+$B$104)*(C36+$C$104)+($B$104*$C$104))","v":81255.884272427211},{"$f":"IF(BASIN_DESIGN!$C$11=\"SI\",F36/10000,F36/43560)","v":1.8653784268233979}]
[3.3491132948153819,{"$f":"$B$104+(2*A37*BASIN_DESIGN!$C$26)","v":238.51574266755605},{"$f":"$C$104+(2*A37*BASIN_DESIGN!$C$26)","v":114.30918153994632},27264.539328720784,1360.2228489809702,79890.371850869269,{"$f":"IF(BASIN_DESIGN!$C$11=\"SI\",F37/10000,F37/43560)","v":1.8340305750888262}]
[3.2991265292211223,{"$f":"$B$104+(2*A38*BASIN_DESIGN!$C$26)","v":238.21582207399049},{"$f":"$C$104+(2*A38*BASIN_DESIGN!$C$26)","v":114.00926094638076},27158.809820390194,1354.9422692593089,78530.149001888291,{"$f":"IF(BASIN_DESIGN!$C$11=\"SI\",F38/10000,F38/43560)","v":1.8028041552315952}]
[3.2491397636268626,{"$f":"$B$104+(2*A39*BASIN_DESIGN!$C$26)","v":237.91590148042494},{"$f":"$C$104+(2*A39*BASIN_DESIGN!$C$26)","v":113.7093403528152},27053.260216784489,1349.6706823929599,77175.206732628998,{"$f":"IF(BASIN_DESIGN!$C$11=\"SI\",F39/10000,F39/43560)","v":1.7716989608041551}]
[3.199152998032603,{"$f":"$B$104+(2*A40*BASIN_DESIGN!$C$26)","v":237.61598088685938},{"$f":"$C$104+(2*A40*BASIN_DESIGN!$C$26)","v":113.40941975924966},26947.890517903677,1344.4080883819231,75825.536050236027,{"$f":"IF(BASIN_DESIGN!$C$11=\"SI\",F40/10000,F40/43560)","v":1.7407147853589537}]
[3.1491662324383434,{"$f":"$B$104+(2*A41*BASIN_DESIGN!$C$26)","v":237.31606029329382},{"$f":"$C$104+(2*A41*BASIN_DESIGN!$C$26)","v":113.1094991656841},26842.700723747756,1339.1544872261986,74481.127961854116,{"$f":"IF(BASIN_DESIGN!$C$11=\"SI\",F41/10000,F41/43560)","v":1.7098514224484416}]
[3.0991794668440837,{"$f":"$B$104+(2*A42*BASIN_DESIGN!$C$26)","v":237.01613969972826},{"$f":"$C$104+(2*A42*BASIN_DESIGN!$C$26)","v":112.80957857211854},26737.69083431672,1333.9098789257866,73141.973474627899,{"$f":"IF(BASIN_DESIGN!$C$11=\"SI\",F42/10000,F42/43560)","v":1.6791086656250667}]
[3.0491927012498241,{"$f":"$B$104+(2*A43*BASIN_DESIGN!$C$26)","v":236.7162191061627},{"$f":"$C$104+(2*A43*BASIN_DESIGN!$C$26)","v":112.50965797855298},26632.860849610573,1328.6742634806867,71808.06359570213,{"$f":"IF(BASIN_DESIGN!$C$11=\"SI\",F43/10000,F43/43560)","v":1.6484863084412793}]
[2.9992059356555645,{"$f":"$B$104+(2*A44*BASIN_DESIGN!$C$26)","v":236.41629851259717},{"$f":"$C$104+(2*A44*BASIN_DESIGN!$C$26)","v":112.20973738498742},{"$f":"B44*C44","v":26528.210769629321},1323.4476408908997,{"$f":"(1/6)*(A44)*(B44*C44+(B44+$B$104)*(C44+$C$104)+($B$104*$C$104))","v":70479.389332221443},{"$f":"IF(BASIN_DESIGN!$C$11=\"SI\",F44/10000,F44/43560)","v":1.617984144449528}]
[2.9492191700613049,{"$f":"$B$104+(2*A45*BASIN_DESIGN!$C$26)","v":236.11637791903161},{"$f":"$C$104+(2*A45*BASIN_DESIGN!$C$26)","v":111.90981679142186},26423.740594372954,1318.2300111564243,69155.941691330547,{"$f":"IF(BASIN_DESIGN!$C$11=\"SI\",F45/10000,F45/43560)","v":1.5876019672022623}]
[2.8992324044670452,{"$f":"$B$104+(2*A46*BASIN_DESIGN!$C$26)","v":235.81645732546605},{"$f":"$C$104+(2*A46*BASIN_DESIGN!$C$26)","v":111.6098961978563},26319.450323841476,1313.0213742772617,67837.711680174121,{"$f":"IF(BASIN_DESIGN!$C$11=\"SI\",F46/10000,F46/43560)","v":1.5573395702519313}]
[2.8492456388727856,{"$f":"$B$104+(2*A47*BASIN_DESIGN!$C$26)","v":235.51653673190049},{"$f":"$C$104+(2*A47*BASIN_DESIGN!$C$26)","v":111.30997560429074},26215.339958034889,1307.8217302534115,66524.690305896846,{"$f":"IF(BASIN_DESIGN!$C$11=\"SI\",F47/10000,F47/43560)","v":1.5271967471509835}]
[2.799258873278526,{"$f":"$B$104+(2*A48*BASIN_DESIGN!$C$26)","v":235.21661613833493},{"$f":"$C$104+(2*A48*BASIN_DESIGN!$C$26)","v":111.01005501072518},26111.409496953191,1302.6310790848734,65216.868575643442,{"$f":"IF(BASIN_DESIGN!$C$11=\"SI\",F48/10000,F48/43560)","v":1.4971732914518696}]
[2.7492721076842663,{"$f":"$B$104+(2*A49*BASIN_DESIGN!$C$26)","v":234.91669554476937},{"$f":"$C$104+(2*A49*BASIN_DESIGN!$C$26)","v":110.71013441715962},26007.658940596379,1297.4494207716477,63914.237496558562,{"$f":"IF(BASIN_DESIGN!$C$11=\"SI\",F49/10000,F49/43560)","v":1.4672689967070378}]
[2.6992853420900067,{"$f":"$B$104+(2*A50*BASIN_DESIGN!$C$26)","v":234.61677495120381},{"$f":"$C$104+(2*A50*BASIN_DESIGN!$C$26)","v":110.41021382359406},25904.08828896446,1292.2767553137344,62616.788075786921,{"$f":"IF(BASIN_DESIGN!$C$11=\"SI\",F50/10000,F50/43560)","v":1.4374836564689375}]
[2.6492985764957471,{"$f":"$B$104+(2*A51*BASIN_DESIGN!$C$26)","v":234.31685435763825},{"$f":"$C$104+(2*A51*BASIN_DESIGN!$C$26)","v":110.11029323002852},25800.697542057434,1287.1130827111335,61324.511320473182,{"$f":"IF(BASIN_DESIGN!$C$11=\"SI\",F51/10000,F51/43560)","v":1.4078170642900181}]
[2.5993118109014874,{"$f":"$B$104+(2*A52*BASIN_DESIGN!$C$26)","v":234.01693376407269},{"$f":"$C$104+(2*A52*BASIN_DESIGN!$C$26)","v":109.81037263646296},25697.486699875291,1281.9584029638449,60037.398237762049,{"$f":"IF(BASIN_DESIGN!$C$11=\"SI\",F52/10000,F52/43560)","v":1.3782690137227285}]
[2.5493250453072278,{"$f":"$B$104+(2*A53*BASIN_DESIGN!$C$26)","v":233.71701317050713},{"$f":"$C$104+(2*A53*BASIN_DESIGN!$C$26)","v":109.5104520428974},25594.455762418042,1276.8127160718686,58755.439834798213,{"$f":"IF(BASIN_DESIGN!$C$11=\"SI\",F53/10000,F53/43560)","v":1.3488392983195183}]
[2.4993382797129682,{"$f":"$B$104+(2*A54*BASIN_DESIGN!$C$26)","v":233.41709257694157},{"$f":"$C$104+(2*A54*BASIN_DESIGN!$C$26)","v":109.21053144933184},25491.604729685678,1271.6760220352048,57478.627118726326,{"$f":"IF(BASIN_DESIGN!$C$11=\"SI\",F54/10000,F54/43560)","v":1.3195277116328359}]
[2.4493515141187086,{"$f":"$B$104+(2*A55*BASIN_DESIGN!$C$26)","v":233.11717198337601},{"$f":"$C$104+(2*A55*BASIN_DESIGN!$C$26)","v":108.91061085576628},25388.933601678207,1266.5483208538533,56206.951096691126,{"$f":"IF(BASIN_DESIGN!$C$11=\"SI\",F55/10000,F55/43560)","v":1.2903340472151315}]
[2.3993647485244489,{"$f":"$B$104+(2*A56*BASIN_DESIGN!$C$26)","v":232.81725138981045},{"$f":"$C$104+(2*A56*BASIN_DESIGN!$C$26)","v":108.61069026220072},25286.442378395623,1261.4296125278142,54940.402775837276,{"$f":"IF(BASIN_DESIGN!$C$11=\"SI\",F56/10000,F56/43560)","v":1.261258098618854}]
[2.3493779829301893,{"$f":"$B$104+(2*A57*BASIN_DESIGN!$C$26)","v":232.51733079624489},{"$f":"$C$104+(2*A57*BASIN_DESIGN!$C$26)","v":108.31076966863517},25184.131059837931,1256.3198970570872,53678.973163309463,{"$f":"IF(BASIN_DESIGN!$C$11=\"SI\",F57/10000,F57/43560)","v":1.2322996593964524}]
[2.2993912173359297,{"$f":"$B$104+(2*A58*BASIN_DESIGN!$C$26)","v":232.21741020267933},{"$f":"$C$104+(2*A58*BASIN_DESIGN!$C$26)","v":108.01084907506961},25081.99964600513,1251.2191744416727,52422.653266252382,{"$f":"IF(BASIN_DESIGN!$C$11=\"SI\",F58/10000,F58/43560)","v":1.203458523100376}]
[2.24940445174167,{"$f":"$B$104+(2*A59*BASIN_DESIGN!$C$26)","v":231.91748960911377},{"$f":"$C$104+(2*A59*BASIN_DESIGN!$C$26)","v":107.71092848150406},24980.048136897214,1246.1274446815703,51171.434091810712,{"$f":"IF(BASIN_DESIGN!$C$11=\"SI\",F59/10000,F59/43560)","v":1.1747344832830742}]
[2.1994176861474104,{"$f":"$B$104+(2*A60*BASIN_DESIGN!$C$26)","v":231.61756901554821},{"$f":"$C$104+(2*A60*BASIN_DESIGN!$C$26)","v":107.4110078879385},24878.276532514188,1241.0447077767808,49925.306647129131,{"$f":"IF(BASIN_DESIGN!$C$11=\"SI\",F60/10000,F60/43560)","v":1.1461273334969957}]
[2.1494309205531508,{"$f":"$B$104+(2*A61*BASIN_DESIGN!$C$26)","v":231.31764842198265},{"$f":"$C$104+(2*A61*BASIN_DESIGN!$C$26)","v":107.11108729437294},24776.684832856052,1235.9709637273033,48684.261939352356,{"$f":"IF(BASIN_DESIGN!$C$11=\"SI\",F61/10000,F61/43560)","v":1.1176368672945904}]
[2.0994441549588911,{"$f":"$B$104+(2*A62*BASIN_DESIGN!$C$26)","v":231.01772782841712},{"$f":"$C$104+(2*A62*BASIN_DESIGN!$C$26)","v":106.81116670080738},24675.273037922809,1230.9062125331382,47448.290975625052,{"$f":"IF(BASIN_DESIGN!$C$11=\"SI\",F62/10000,F62/43560)","v":1.0892628782283069}]
[2.0494573893646315,{"$f":"$B$104+(2*A63*BASIN_DESIGN!$C$26)","v":230.71780723485156},{"$f":"$C$104+(2*A63*BASIN_DESIGN!$C$26)","v":106.51124610724182},24574.041147714452,1225.85045419428,46217.384763091904,{"$f":"IF(BASIN_DESIGN!$C$11=\"SI\",F63/10000,F63/43560)","v":1.0610051598505947}]
[1.9994706237703721,{"$f":"$B$104+(2*A64*BASIN_DESIGN!$C$26)","v":230.417886641286},{"$f":"$C$104+(2*A64*BASIN_DESIGN!$C$26)","v":106.21132551367626},24472.989162230984,1220.8036887107396,44991.534308897637,{"$f":"IF(BASIN_DESIGN!$C$11=\"SI\",F64/10000,F64/43560)","v":1.0328635057139035}]
[1.9494838581761127,{"$f":"$B$104+(2*A65*BASIN_DESIGN!$C$26)","v":230.11796604772044},{"$f":"$C$104+(2*A65*BASIN_DESIGN!$C$26)","v":105.91140492011071},24372.11708147241,1215.7659160825115,43770.730620186892,{"$f":"IF(BASIN_DESIGN!$C$11=\"SI\",F65/10000,F65/43560)","v":1.0048377093706817}]
[1.8994970925818533,{"$f":"$B$104+(2*A66*BASIN_DESIGN!$C$26)","v":229.81804545415488},{"$f":"$C$104+(2*A66*BASIN_DESIGN!$C$26)","v":105.61148432654515},24271.424905438718,1210.7371363095958,42554.964704104379,{"$f":"IF(BASIN_DESIGN!$C$11=\"SI\",F66/10000,F66/43560)","v":0.9769275643733788}]
[1.8495103269875939,{"$f":"$B$104+(2*A67*BASIN_DESIGN!$C$26)","v":229.51812486058932},{"$f":"$C$104+(2*A67*BASIN_DESIGN!$C$26)","v":105.31156373297959},24170.91263412992,1205.7173493919925,41344.227567794784,{"$f":"IF(BASIN_DESIGN!$C$11=\"SI\",F67/10000,F67/43560)","v":0.9491328642744441}]
[1.7995235613933345,{"$f":"$B$104+(2*A68*BASIN_DESIGN!$C$26)","v":229.21820426702376},{"$f":"$C$104+(2*A68*BASIN_DESIGN!$C$26)","v":105.01164313941403},24070.580267546011,1200.7065553297016,40138.510218402793,{"$f":"IF(BASIN_DESIGN!$C$11=\"SI\",F68/10000,F68/43560)","v":0.92145340262632669}]
[1.7495367957990751,{"$f":"$B$104+(2*A69*BASIN_DESIGN!$C$26)","v":228.91828367345821},{"$f":"$C$104+(2*A69*BASIN_DESIGN!$C$26)","v":104.71172254584849},23970.427805686992,1195.7047541227228,38937.803663073086,{"$f":"IF(BASIN_DESIGN!$C$11=\"SI\",F69/10000,F69/43560)","v":0.89388897298147585}]
[{"$f":"A69-($A$4/100)","v":1.6995500302048157},{"$f":"$B$104+(2*A70*BASIN_DESIGN!$C$26)","v":228.61836307989265},{"$f":"$C$104+(2*A70*BASIN_DESIGN!$C$26)","v":104.41180195228293},23870.455248552862,1190.7119457710564,37742.098908950364,{"$f":"IF(BASIN_DESIGN!$C$11=\"SI\",F70/10000,F70/43560)","v":0.86643936889234074}]
[1.6495632646105562,{"$f":"$B$104+(2*A71*BASIN_DESIGN!$C$26)","v":228.31844248632711},{"$f":"$C$104+(2*A71*BASIN_DESIGN!$C$26)","v":104.11188135871737},23770.662596143622,1185.7281302747026,36551.386963179313,{"$f":"IF(BASIN_DESIGN!$C$11=\"SI\",F71/10000,F71/43560)","v":0.83910438391137088}]
[1.5995764990162968,{"$f":"$B$104+(2*A72*BASIN_DESIGN!$C$26)","v":228.01852189276156},{"$f":"$C$104+(2*A72*BASIN_DESIGN!$C$26)","v":103.81196076515181},23671.049848459272,1180.7533076336611,35365.658832904606,{"$f":"IF(BASIN_DESIGN!$C$11=\"SI\",F72/10000,F72/43560)","v":0.81188381159101486}]
[1.5495897334220374,{"$f":"$B$104+(2*A73*BASIN_DESIGN!$C$26)","v":227.718601299196},{"$f":"$C$104+(2*A73*BASIN_DESIGN!$C$26)","v":103.51204017158625},23571.617005499807,1175.787477847932,34184.905525270951,{"$f":"IF(BASIN_DESIGN!$C$11=\"SI\",F73/10000,F73/43560)","v":0.78477744548372252}]
[1.499602967827778,{"$f":"$B$104+(2*A74*BASIN_DESIGN!$C$26)","v":227.41868070563044},{"$f":"$C$104+(2*A74*BASIN_DESIGN!$C$26)","v":103.2121195780207},23472.36406726524,1170.830640917515,33009.118047423013,{"$f":"IF(BASIN_DESIGN!$C$11=\"SI\",F74/10000,F74/43560)","v":0.75778507914194249}]
[1.4496162022335186,{"$f":"$B$104+(2*A75*BASIN_DESIGN!$C$26)","v":227.11876011206488},{"$f":"$C$104+(2*A75*BASIN_DESIGN!$C$26)","v":102.91219898445515},23373.291033755555,1165.8827968424105,31838.2874065055,{"$f":"IF(BASIN_DESIGN!$C$11=\"SI\",F75/10000,F75/43560)","v":0.73090650611812447}]
[1.3996294366392592,{"$f":"$B$104+(2*A76*BASIN_DESIGN!$C$26)","v":226.81883951849932},{"$f":"$C$104+(2*A76*BASIN_DESIGN!$C$26)","v":102.61227839088959},23274.39790497076,1160.943945622618,30672.404609663088,{"$f":"IF(BASIN_DESIGN!$C$11=\"SI\",F76/10000,F76/43560)","v":0.70414151996471741}]
[1.3496426710449998,{"$f":"$B$104+(2*A77*BASIN_DESIGN!$C$26)","v":226.51891892493376},{"$f":"$C$104+(2*A77*BASIN_DESIGN!$C$26)","v":102.31235779732403},23175.684680910854,1156.0140872581383,29511.460664040467,{"$f":"IF(BASIN_DESIGN!$C$11=\"SI\",F77/10000,F77/43560)","v":0.67748991423417049}]
[1.2996559054507404,{"$f":"$B$104+(2*A78*BASIN_DESIGN!$C$26)","v":226.2189983313682},{"$f":"$C$104+(2*A78*BASIN_DESIGN!$C$26)","v":102.01243720375848},23077.151361575841,1151.0932217489708,28355.446576782335,{"$f":"IF(BASIN_DESIGN!$C$11=\"SI\",F78/10000,F78/43560)","v":0.65095148247893331}]
[1.249669139856481,{"$f":"$B$104+(2*A79*BASIN_DESIGN!$C$26)","v":225.91907773780264},{"$f":"$C$104+(2*A79*BASIN_DESIGN!$C$26)","v":101.71251661019292},22978.797946965715,1146.1813490951156,27204.35335503336,{"$f":"IF(BASIN_DESIGN!$C$11=\"SI\",F79/10000,F79/43560)","v":0.62452601825145448}]
[1.1996823742622216,{"$f":"$B$104+(2*A80*BASIN_DESIGN!$C$26)","v":225.61915714423708},{"$f":"$C$104+(2*A80*BASIN_DESIGN!$C$26)","v":101.41259601662736},22880.624437080482,1141.2784692965727,26058.172005938246,{"$f":"IF(BASIN_DESIGN!$C$11=\"SI\",F80/10000,F80/43560)","v":0.59821331510418374}]
[1.1496956086679622,{"$f":"$B$104+(2*A81*BASIN_DESIGN!$C$26)","v":225.31923655067155},{"$f":"$C$104+(2*A81*BASIN_DESIGN!$C$26)","v":101.1126754230618},22782.630831920134,1136.3845823533422,24916.893536641674,{"$f":"IF(BASIN_DESIGN!$C$11=\"SI\",F81/10000,F81/43560)","v":0.57201316658957013}]
[1.0997088430737028,{"$f":"$B$104+(2*A82*BASIN_DESIGN!$C$26)","v":225.01931595710599},{"$f":"$C$104+(2*A82*BASIN_DESIGN!$C$26)","v":100.81275482949624},22684.817131484677,1131.4996882654243,23780.508954288332,{"$f":"IF(BASIN_DESIGN!$C$11=\"SI\",F82/10000,F82/43560)","v":0.54592536626006272}]
[1.0497220774794433,{"$f":"$B$104+(2*A83*BASIN_DESIGN!$C$26)","v":224.71939536354043},{"$f":"$C$104+(2*A83*BASIN_DESIGN!$C$26)","v":100.5128342359307},22587.183335774112,1126.6237870328212,22649.009266022906,{"$f":"IF(BASIN_DESIGN!$C$11=\"SI\",F83/10000,F83/43560)","v":0.51994970766811077}]
[0.99973531188518383,{"$f":"$B$104+(2*A84*BASIN_DESIGN!$C$26)","v":224.41947476997487},{"$f":"$C$104+(2*A84*BASIN_DESIGN!$C$26)","v":100.21291364236514},22489.729444788434,1121.7568786555275,21522.385478990083,{"$f":"IF(BASIN_DESIGN!$C$11=\"SI\",F84/10000,F84/43560)","v":0.49408598436616352}]
[0.94974854629092431,{"$f":"$B$104+(2*A85*BASIN_DESIGN!$C$26)","v":224.11955417640931},{"$f":"$C$104+(2*A85*BASIN_DESIGN!$C$26)","v":99.912993048799578},22392.455458527646,1116.8989631335464,20400.628600334559,{"$f":"IF(BASIN_DESIGN!$C$11=\"SI\",F85/10000,F85/43560)","v":0.4683339899066703}]
[0.89976178069666479,{"$f":"$B$104+(2*A86*BASIN_DESIGN!$C$26)","v":223.81963358284375},{"$f":"$C$104+(2*A86*BASIN_DESIGN!$C$26)","v":99.613072455234018},22295.361376991743,1112.0500404668778,19283.729637201006,{"$f":"IF(BASIN_DESIGN!$C$11=\"SI\",F86/10000,F86/43560)","v":0.44269351784208005}]
[0.84977501510240527,{"$f":"$B$104+(2*A87*BASIN_DESIGN!$C$26)","v":223.51971298927819},{"$f":"$C$104+(2*A87*BASIN_DESIGN!$C$26)","v":99.313151861668459},22198.447200180733,1107.2101106555215,18171.679596734131,{"$f":"IF(BASIN_DESIGN!$C$11=\"SI\",F87/10000,F87/43560)","v":0.41716436172484234}]
[0.79978824950814575,{"$f":"$B$104+(2*A88*BASIN_DESIGN!$C$26)","v":223.21979239571263},{"$f":"$C$104+(2*A88*BASIN_DESIGN!$C$26)","v":99.013231268102913},22101.712928094614,{"$f":"(1/6)*(A88-A89)*((C88*B88)+(C88+C89)*(B88+B89)+(B89*C89))","v":1102.3791736994772},17064.469486078608,{"$f":"IF(BASIN_DESIGN!$C$11=\"SI\",F88/10000,F88/43560)","v":0.39174631510740604}]
[0.74980148391388624,{"$f":"$B$104+(2*A89*BASIN_DESIGN!$C$26)","v":222.91987180214707},{"$f":"$C$104+(2*A89*BASIN_DESIGN!$C$26)","v":98.713310674537354},22005.158560733384,1097.5572295987456,15962.090312379134,{"$f":"IF(BASIN_DESIGN!$C$11=\"SI\",F89/10000,F89/43560)","v":0.36643917154222072}]
[0.69981471831962672,{"$f":"$B$104+(2*A90*BASIN_DESIGN!$C$26)","v":222.61995120858151},{"$f":"$C$104+(2*A90*BASIN_DESIGN!$C$26)","v":98.413390080971794},21908.78409809704,1092.7442783533263,14864.533082780386,{"$f":"IF(BASIN_DESIGN!$C$11=\"SI\",F90/10000,F90/43560)","v":0.34124272458173521}]
[0.6498279527253672,{"$f":"$B$104+(2*A91*BASIN_DESIGN!$C$26)","v":222.32003061501598},{"$f":"$C$104+(2*A91*BASIN_DESIGN!$C$26)","v":98.113469487406235},21812.589540185589,1087.9403199632193,13771.788804427062,{"$f":"IF(BASIN_DESIGN!$C$11=\"SI\",F91/10000,F91/43560)","v":0.31615676777839902}]
[0.59984118713110768,{"$f":"$B$104+(2*A92*BASIN_DESIGN!$C$26)","v":222.02011002145042},{"$f":"$C$104+(2*A92*BASIN_DESIGN!$C$26)","v":97.813548893840675},21716.574886999028,1083.1453544284245,12683.848484463844,{"$f":"IF(BASIN_DESIGN!$C$11=\"SI\",F92/10000,F92/43560)","v":0.29118109468466125}]
[0.54985442153684816,{"$f":"$B$104+(2*A93*BASIN_DESIGN!$C$26)","v":221.72018942788486},{"$f":"$C$104+(2*A93*BASIN_DESIGN!$C$26)","v":97.513628300275116},21620.740138537352,1078.3593817489423,11600.703130035419,{"$f":"IF(BASIN_DESIGN!$C$11=\"SI\",F93/10000,F93/43560)","v":0.26631549885297107}]
[0.49986765594258864,{"$f":"$B$104+(2*A94*BASIN_DESIGN!$C$26)","v":221.4202688343193},{"$f":"$C$104+(2*A94*BASIN_DESIGN!$C$26)","v":97.213707706709556},21525.085294800567,1073.5824019247723,10522.343748286476,{"$f":"IF(BASIN_DESIGN!$C$11=\"SI\",F94/10000,F94/43560)","v":0.24155977383577767}]
[0.44988089034832912,{"$f":"$B$104+(2*A95*BASIN_DESIGN!$C$26)","v":221.12034824075374},{"$f":"$C$104+(2*A95*BASIN_DESIGN!$C$26)","v":96.913787113144011},21429.610355788674,1068.8144149559148,9448.7613463617035,{"$f":"IF(BASIN_DESIGN!$C$11=\"SI\",F95/10000,F95/43560)","v":0.21691371318553038}]
[0.3998941247540696,{"$f":"$B$104+(2*A96*BASIN_DESIGN!$C$26)","v":220.82042764718818},{"$f":"$C$104+(2*A96*BASIN_DESIGN!$C$26)","v":96.613866519578451},21334.315321501672,1064.0554208423694,8379.9469314057897,{"$f":"IF(BASIN_DESIGN!$C$11=\"SI\",F96/10000,F96/43560)","v":0.19237711045467837}]
[0.34990735915981008,{"$f":"$B$104+(2*A97*BASIN_DESIGN!$C$26)","v":220.52050705362262},{"$f":"$C$104+(2*A97*BASIN_DESIGN!$C$26)","v":96.313945926012892},21239.200191939555,1059.3054195841364,7315.8915105634196,{"$f":"IF(BASIN_DESIGN!$C$11=\"SI\",F97/10000,F97/43560)","v":0.16794975919567079}]
[0.29992059356555056,{"$f":"$B$104+(2*A98*BASIN_DESIGN!$C$26)","v":220.22058646005706},{"$f":"$C$104+(2*A98*BASIN_DESIGN!$C$26)","v":96.014025332447332},21144.264967102328,1054.5644111812151,6256.5860909792837,{"$f":"IF(BASIN_DESIGN!$C$11=\"SI\",F98/10000,F98/43560)","v":0.14363145296095692}]
[0.24993382797129107,{"$f":"$B$104+(2*A99*BASIN_DESIGN!$C$26)","v":219.9206658664915},{"$f":"$C$104+(2*A99*BASIN_DESIGN!$C$26)","v":95.714104738881773},21049.509646989991,1049.8323956336071,5202.0216797980684,{"$f":"IF(BASIN_DESIGN!$C$11=\"SI\",F99/10000,F99/43560)","v":0.11942198530298596}]
[0.19994706237703158,{"$f":"$B$104+(2*A100*BASIN_DESIGN!$C$26)","v":219.62074527292594},{"$f":"$C$104+(2*A100*BASIN_DESIGN!$C$26)","v":95.414184145316227},20954.934231602543,1045.1093729413112,4152.1892841644622,{"$f":"IF(BASIN_DESIGN!$C$11=\"SI\",F100/10000,F100/43560)","v":9.5321149774207123E-2}]
[0.14996029678277209,{"$f":"$B$104+(2*A101*BASIN_DESIGN!$C$26)","v":219.32082467936038},{"$f":"$C$104+(2*A101*BASIN_DESIGN!$C$26)","v":95.114263551750668},20860.538720939985,1040.3953431043276,3107.0799112231507,{"$f":"IF(BASIN_DESIGN!$C$11=\"SI\",F101/10000,F101/43560)","v":7.1328739927069576E-2}]
[9.9973531188512599E-2,{"$f":"$B$104+(2*A102*BASIN_DESIGN!$C$26)","v":219.02090408579483},{"$f":"$C$104+(2*A102*BASIN_DESIGN!$C$26)","v":94.814342958185108},20766.323115002317,1035.6903061226567,2066.6845681188224,{"$f":"IF(BASIN_DESIGN!$C$11=\"SI\",F102/10000,F102/43560)","v":4.7444549314022554E-2}]
[{"$f":"A102-($A$4/100)","v":4.9986765594253101E-2},{"$f":"$B$104+(2*A103*BASIN_DESIGN!$C$26)","v":218.72098349222929},{"$f":"$C$104+(2*A103*BASIN_DESIGN!$C$26)","v":94.514422364619548},20672.287413789538,1030.9942619962981,1030.9942619961662,{"$f":"IF(BASIN_DESIGN!$C$11=\"SI\",F103/10000,F103/43560)","v":2.3668371487515293E-2}]
[{"$f":"A103-($A$4/100)","v":-6.3976601794024646E-15},{"$f":"BASIN_DESIGN!C31","v":218.42106289866376},{"$f":"BASIN_DESIGN!C32","v":94.214501771054032},{"$f":"B104*C104","v":20578.43161730166},{"$f":"(1/6)*(A104-A106)*((C104*B104)+(C104+C106)*(B104+B106)+(B106*C106))","v":-4.3884604170855826E-11},0,{"$f":"IF(BASIN_DESIGN!$C$11=\"SI\",F104/10000,F104/43560)","v":0}]
[]
[null,null,null,null,0,{"$f":"G4","v":2.9338610957096583},0,{"$f":"BASIN_DESIGN!H20","v":72}]
[null,null,"Freeboard",null,{"$f":"BASIN_DESIGN!H26","v":4.9986765594259497},{"$f":"BASIN_DESIGN!H26","v":4.9986765594259497},{"$f":"BASIN_DESIGN!$H$26","v":4.9986765594259497},{"$f":"BASIN_DESIGN!$H$26","v":4.9986765594259497}]
[null,null,"Spillway Crown",null,{"$f":"BASIN_DESIGN!C40","v":2.9986765594259497},{"$f":"BASIN_DESIGN!C40","v":2.9986765594259497},{"$f":"BASIN_DESIGN!$C$40","v":2.9986765594259497},{"$f":"BASIN_DESIGN!$C$40","v":2.9986765594259497}]
[null,null,"Live Storage",null,{"$f":"BASIN_DESIGN!H25","v":2.25},{"$f":"E109","v":2.25},{"$f":"BASIN_DESIGN!$H$25","v":2.25},{"$f":"BASIN_DESIGN!$H$25","v":2.25}]
[null,null,"Dead Storage",null,{"$f":"BASIN_DESIGN!C27","v":0.1},{"$f":"E110","v":0.1},{"$f":"BASIN_DESIGN!$C$27","v":0.1},{"$f":"BASIN_DESIGN!$C$27","v":0.1}]

{"sheet":"DEWATERING","index":5,"n_rows":106,"n_cols":10,"rows_kept":106,"cut":false,"hidden":false,"merged":[[1,8,1,9],[1,0,1,3],[0,0,0,9]]}
["Computation of Dewatering Rate with Selected Surface Skimmer Orifice"]
["  Complete Live Storage Dewatering Time:",null,null,null,{"$f":"I106","v":72.000000000000128},"hrs"]
["Stage","Skimmer Height","Length","Width","Surface Area","Incremental Volume","Cumulative Volume","Dewatering Rate ","Dewatering Time","Cum. Dewatering Time"]
[{"$f":"IF(BASIN_DESIGN!$C$11=\"SI\", \"m\",\"ft\")","v":"ft"},{"$f":"IF(BASIN_DESIGN!$C$11=\"SI\", \"m\",\"ft\")","v":"ft"},{"$f":"IF(BASIN_DESIGN!$C$11=\"SI\", \"m\",\"ft\")","v":"ft"},{"$f":"IF(BASIN_DESIGN!$C$11=\"SI\", \"m\",\"ft\")","v":"ft"},{"$f":"IF(BASIN_DESIGN!$C$11=\"SI\", \"m²\", \"ft²\")","v":"ft²"},{"$f":"IF(BASIN_DESIGN!$C$11=\"SI\", \"m³\",\"ft³\")","v":"ft³"},{"$f":"IF(BASIN_DESIGN!$C$11=\"SI\", \"m³\",\"ft³\")","v":"ft³"},{"$f":"IF(BASIN_DESIGN!$C$11=\"SI\", \"m³/hr\",\"ft³/hr\")","v":"ft³/hr"},"hr","hr"]
[{"$f":"BASIN_DESIGN!H25","v":2.25},{"$f":"A5-BASIN_DESIGN!$C$27","v":2.15},{"$f":"'STAGE-STORAGE'!$B$104+(2*A5*BASIN_DESIGN!$C$26)","v":231.92106289866376},{"$f":"'STAGE-STORAGE'!$C$104+(2*A5*BASIN_DESIGN!$C$26)","v":107.71450177105403},{"$f":"C5*D5","v":24981.261740342852},{"$f":"(1/6)*(A5-A6)*((D5*C5)+(D5+D6)*(C5+C6)+(C6*D6))","v":536.62625705856738},{"$f":"(1/6)*(A5)*(C5*D5+(C5+'STAGE-STORAGE'!$B$104)*(D5+'STAGE-STORAGE'!$C$104)+('STAGE-STORAGE'!$B$104*'STAGE-STORAGE'!$C$104))","v":51186.311277350076},{"$f":"BASIN_DESIGN!$H$21","v":682.20940345388624},{"$f":"F5/H5","v":0.78660049882299887},{"$f":"F5/H5","v":0.78660049882299887}]
[{"$f":"A5-(($A$5-BASIN_DESIGN!$C$27)/100)","v":2.2284999999999999},{"$f":"A6-BASIN_DESIGN!$C$27","v":2.1284999999999998},{"$f":"'STAGE-STORAGE'!$B$104+(2*A6*BASIN_DESIGN!$C$26)","v":231.79206289866377},{"$f":"'STAGE-STORAGE'!$C$104+(2*A6*BASIN_DESIGN!$C$26)","v":107.58550177105403},{"$f":"C6*D6","v":24937.465393500457},{"$f":"(1/6)*(A6-A7)*((D6*C6)+(D6+D7)*(C6+C7)+(C7*D7))","v":535.68499338295589},{"$f":"(1/6)*(A6)*(C6*D6+(C6+'STAGE-STORAGE'!$B$104)*(D6+'STAGE-STORAGE'!$C$104)+('STAGE-STORAGE'!$B$104*'STAGE-STORAGE'!$C$104))","v":50649.685020291508},{"$f":"BASIN_DESIGN!$H$21","v":682.20940345388624},{"$f":"F6/H6","v":0.7852207704421732},{"$f":"F6/H6+J5","v":1.5718212692651721}]
[{"$f":"A6-(($A$5-BASIN_DESIGN!$C$27)/100)","v":2.2069999999999999},{"$f":"A7-BASIN_DESIGN!$C$27","v":2.1069999999999998},{"$f":"'STAGE-STORAGE'!$B$104+(2*A7*BASIN_DESIGN!$C$26)","v":231.66306289866375},{"$f":"'STAGE-STORAGE'!$C$104+(2*A7*BASIN_DESIGN!$C$26)","v":107.45650177105404},24893.702328658062,534.7444452703445,{"$f":"(1/6)*(A7)*(C7*D7+(C7+'STAGE-STORAGE'!$B$104)*(D7+'STAGE-STORAGE'!$C$104)+('STAGE-STORAGE'!$B$104*'STAGE-STORAGE'!$C$104))","v":50114.000026908543},{"$f":"BASIN_DESIGN!$H$21","v":682.20940345388624},{"$f":"F7/H7","v":0.78384209095190283},2.3556633602170747]
[{"$f":"A7-(($A$5-BASIN_DESIGN!$C$27)/100)","v":2.1854999999999998},{"$f":"A8-BASIN_DESIGN!$C$27","v":2.0854999999999997},{"$f":"'STAGE-STORAGE'!$B$104+(2*A8*BASIN_DESIGN!$C$26)","v":231.53406289866376},{"$f":"'STAGE-STORAGE'!$C$104+(2*A8*BASIN_DESIGN!$C$26)","v":107.32750177105403},24849.972545815672,533.80461272073308,{"$f":"(1/6)*(A8)*(C8*D8+(C8+'STAGE-STORAGE'!$B$104)*(D8+'STAGE-STORAGE'!$C$104)+('STAGE-STORAGE'!$B$104*'STAGE-STORAGE'!$C$104))","v":49579.255581638208},{"$f":"BASIN_DESIGN!$H$21","v":682.20940345388624},0.78246446035218786,3.1381278205692626]
[{"$f":"A8-(($A$5-BASIN_DESIGN!$C$27)/100)","v":2.1639999999999997},{"$f":"A9-BASIN_DESIGN!$C$27","v":2.0639999999999996},{"$f":"'STAGE-STORAGE'!$B$104+(2*A9*BASIN_DESIGN!$C$26)","v":231.40506289866377},{"$f":"'STAGE-STORAGE'!$C$104+(2*A9*BASIN_DESIGN!$C$26)","v":107.19850177105403},24806.276044973278,532.86549573412151,{"$f":"(1/6)*(A9)*(C9*D9+(C9+'STAGE-STORAGE'!$B$104)*(D9+'STAGE-STORAGE'!$C$104)+('STAGE-STORAGE'!$B$104*'STAGE-STORAGE'!$C$104))","v":49045.450968917481},{"$f":"BASIN_DESIGN!$H$21","v":682.20940345388624},0.78108787864302787,3.9192156992122906]
[{"$f":"A9-(($A$5-BASIN_DESIGN!$C$27)/100)","v":2.1424999999999996},{"$f":"A10-BASIN_DESIGN!$C$27","v":2.0424999999999995},{"$f":"'STAGE-STORAGE'!$B$104+(2*A10*BASIN_DESIGN!$C$26)","v":231.27606289866375},{"$f":"'STAGE-STORAGE'!$C$104+(2*A10*BASIN_DESIGN!$C$26)","v":107.06950177105404},24762.612826130884,531.92709431051003,{"$f":"(1/6)*(A10)*(C10*D10+(C10+'STAGE-STORAGE'!$B$104)*(D10+'STAGE-STORAGE'!$C$104)+('STAGE-STORAGE'!$B$104*'STAGE-STORAGE'!$C$104))","v":48512.585473183346},{"$f":"BASIN_DESIGN!$H$21","v":682.20940345388624},0.77971234582442328,4.6989280450367144]
[{"$f":"A10-(($A$5-BASIN_DESIGN!$C$27)/100)","v":2.1209999999999996},{"$f":"A11-BASIN_DESIGN!$C$27","v":2.0209999999999995},{"$f":"'STAGE-STORAGE'!$B$104+(2*A11*BASIN_DESIGN!$C$26)","v":231.14706289866376},{"$f":"'STAGE-STORAGE'!$C$104+(2*A11*BASIN_DESIGN!$C$26)","v":106.94050177105403},24718.982889288491,530.98940844989863,{"$f":"(1/6)*(A11)*(C11*D11+(C11+'STAGE-STORAGE'!$B$104)*(D11+'STAGE-STORAGE'!$C$104)+('STAGE-STORAGE'!$B$104*'STAGE-STORAGE'!$C$104))","v":47980.658378872846},{"$f":"BASIN_DESIGN!$H$21","v":682.20940345388624},0.77833786189637399,5.4772659069330887]
[{"$f":"A11-(($A$5-BASIN_DESIGN!$C$27)/100)","v":2.0994999999999995},{"$f":"A12-BASIN_DESIGN!$C$27","v":1.9994999999999994},{"$f":"'STAGE-STORAGE'!$B$104+(2*A12*BASIN_DESIGN!$C$26)","v":231.01806289866377},{"$f":"'STAGE-STORAGE'!$C$104+(2*A12*BASIN_DESIGN!$C$26)","v":106.81150177105403},24675.386234446094,530.0524381522871,{"$f":"(1/6)*(A12)*(C12*D12+(C12+'STAGE-STORAGE'!$B$104)*(D12+'STAGE-STORAGE'!$C$104)+('STAGE-STORAGE'!$B$104*'STAGE-STORAGE'!$C$104))","v":47449.668970422943},{"$f":"BASIN_DESIGN!$H$21","v":682.20940345388624},0.7769644268588799,6.2542303337919689]
[{"$f":"A12-(($A$5-BASIN_DESIGN!$C$27)/100)","v":2.0779999999999994},{"$f":"A13-BASIN_DESIGN!$C$27","v":1.9779999999999993},{"$f":"'STAGE-STORAGE'!$B$104+(2*A13*BASIN_DESIGN!$C$26)","v":230.88906289866375},{"$f":"'STAGE-STORAGE'!$C$104+(2*A13*BASIN_DESIGN!$C$26)","v":106.68250177105404},24631.822861603701,529.11618341767553,{"$f":"(1/6)*(A13)*(C13*D13+(C13+'STAGE-STORAGE'!$B$104)*(D13+'STAGE-STORAGE'!$C$104)+('STAGE-STORAGE'!$B$104*'STAGE-STORAGE'!$C$104))","v":46919.616532270651},{"$f":"BASIN_DESIGN!$H$21","v":682.20940345388624},0.77559204071194099,7.0298223745039099]
[{"$f":"A13-(($A$5-BASIN_DESIGN!$C$27)/100)","v":2.0564999999999993},{"$f":"A14-BASIN_DESIGN!$C$27","v":1.9564999999999992},{"$f":"'STAGE-STORAGE'!$B$104+(2*A14*BASIN_DESIGN!$C$26)","v":230.76006289866376},{"$f":"'STAGE-STORAGE'!$C$104+(2*A14*BASIN_DESIGN!$C$26)","v":106.55350177105403},24588.292770761309,528.18064424606416,{"$f":"(1/6)*(A14)*(C14*D14+(C14+'STAGE-STORAGE'!$B$104)*(D14+'STAGE-STORAGE'!$C$104)+('STAGE-STORAGE'!$B$104*'STAGE-STORAGE'!$C$104))","v":46390.500348852991},{"$f":"BASIN_DESIGN!$H$21","v":682.20940345388624},0.77422070345555771,7.8040430779594674]
[{"$f":"A14-(($A$5-BASIN_DESIGN!$C$27)/100)","v":2.0349999999999993},{"$f":"A15-BASIN_DESIGN!$C$27","v":1.9349999999999992},{"$f":"'STAGE-STORAGE'!$B$104+(2*A15*BASIN_DESIGN!$C$26)","v":230.63106289866377},{"$f":"'STAGE-STORAGE'!$C$104+(2*A15*BASIN_DESIGN!$C$26)","v":106.42450177105403},24544.795961918913,527.24582063745277,{"$f":"(1/6)*(A15)*(C15*D15+(C15+'STAGE-STORAGE'!$B$104)*(D15+'STAGE-STORAGE'!$C$104)+('STAGE-STORAGE'!$B$104*'STAGE-STORAGE'!$C$104))","v":45862.319704606911},{"$f":"BASIN_DESIGN!$H$21","v":682.20940345388624},0.77285041508972951,8.5768934930491962]
[{"$f":"A15-(($A$5-BASIN_DESIGN!$C$27)/100)","v":2.0134999999999992},{"$f":"A16-BASIN_DESIGN!$C$27","v":1.9134999999999991},{"$f":"'STAGE-STORAGE'!$B$104+(2*A16*BASIN_DESIGN!$C$26)","v":230.50206289866375},{"$f":"'STAGE-STORAGE'!$C$104+(2*A16*BASIN_DESIGN!$C$26)","v":106.29550177105403},24501.332435076522,526.31171259184123,{"$f":"(1/6)*(A16)*(C16*D16+(C16+'STAGE-STORAGE'!$B$104)*(D16+'STAGE-STORAGE'!$C$104)+('STAGE-STORAGE'!$B$104*'STAGE-STORAGE'!$C$104))","v":45335.07388396946},{"$f":"BASIN_DESIGN!$H$21","v":682.20940345388624},0.7714811756144565,9.3483746686636522]
[{"$f":"A16-(($A$5-BASIN_DESIGN!$C$27)/100)","v":1.9919999999999991},{"$f":"A17-BASIN_DESIGN!$C$27","v":1.891999999999999},{"$f":"'STAGE-STORAGE'!$B$104+(2*A17*BASIN_DESIGN!$C$26)","v":230.37306289866376},{"$f":"'STAGE-STORAGE'!$C$104+(2*A17*BASIN_DESIGN!$C$26)","v":106.16650177105403},24457.902190234126,525.37832010922978,{"$f":"(1/6)*(A17)*(C17*D17+(C17+'STAGE-STORAGE'!$B$104)*(D17+'STAGE-STORAGE'!$C$104)+('STAGE-STORAGE'!$B$104*'STAGE-STORAGE'!$C$104))","v":44808.762171377617},{"$f":"BASIN_DESIGN!$H$21","v":682.20940345388624},0.77011298502973891,10.118487653693391]
[{"$f":"A17-(($A$5-BASIN_DESIGN!$C$27)/100)","v":1.970499999999999},{"$f":"A18-BASIN_DESIGN!$C$27","v":1.8704999999999989},{"$f":"'STAGE-STORAGE'!$B$104+(2*A18*BASIN_DESIGN!$C$26)","v":230.24406289866374},{"$f":"'STAGE-STORAGE'!$C$104+(2*A18*BASIN_DESIGN!$C$26)","v":106.03750177105402},24414.505227391732,524.44564318961818,{"$f":"(1/6)*(A18)*(C18*D18+(C18+'STAGE-STORAGE'!$B$104)*(D18+'STAGE-STORAGE'!$C$104)+('STAGE-STORAGE'!$B$104*'STAGE-STORAGE'!$C$104))","v":44283.383851268387},{"$f":"BASIN_DESIGN!$H$21","v":682.20940345388624},0.76874584333557627,10.887233497028967]
[{"$f":"A18-(($A$5-BASIN_DESIGN!$C$27)/100)","v":1.948999999999999},{"$f":"A19-BASIN_DESIGN!$C$27","v":1.8489999999999989},{"$f":"'STAGE-STORAGE'!$B$104+(2*A19*BASIN_DESIGN!$C$26)","v":230.11506289866375},{"$f":"'STAGE-STORAGE'!$C$104+(2*A19*BASIN_DESIGN!$C$26)","v":105.90850177105402},24371.141546549337,523.5136818330069,{"$f":"(1/6)*(A19)*(C19*D19+(C19+'STAGE-STORAGE'!$B$104)*(D19+'STAGE-STORAGE'!$C$104)+('STAGE-STORAGE'!$B$104*'STAGE-STORAGE'!$C$104))","v":43758.938208078769},{"$f":"BASIN_DESIGN!$H$21","v":682.20940345388624},0.76737975053196938,11.654613247560937]
[{"$f":"A19-(($A$5-BASIN_DESIGN!$C$27)/100)","v":1.9274999999999989},{"$f":"A20-BASIN_DESIGN!$C$27","v":1.8274999999999988},{"$f":"'STAGE-STORAGE'!$B$104+(2*A20*BASIN_DESIGN!$C$26)","v":229.98606289866376},{"$f":"'STAGE-STORAGE'!$C$104+(2*A20*BASIN_DESIGN!$C$26)","v":105.77950177105403},24327.811147706947,522.58243603939536,{"$f":"(1/6)*(A20)*(C20*D20+(C20+'STAGE-STORAGE'!$B$104)*(D20+'STAGE-STORAGE'!$C$104)+('STAGE-STORAGE'!$B$104*'STAGE-STORAGE'!$C$104))","v":43235.42452624577},{"$f":"BASIN_DESIGN!$H$21","v":682.20940345388624},0.76601470661891746,12.420627954179855]
[{"$f":"A20-(($A$5-BASIN_DESIGN!$C$27)/100)","v":1.9059999999999988},{"$f":"A21-BASIN_DESIGN!$C$27","v":1.8059999999999987},{"$f":"'STAGE-STORAGE'!$B$104+(2*A21*BASIN_DESIGN!$C$26)","v":229.85706289866374},{"$f":"'STAGE-STORAGE'!$C$104+(2*A21*BASIN_DESIGN!$C$26)","v":105.65050177105402},24284.51403086455,521.65190580878379,{"$f":"(1/6)*(A21)*(C21*D21+(C21+'STAGE-STORAGE'!$B$104)*(D21+'STAGE-STORAGE'!$C$104)+('STAGE-STORAGE'!$B$104*'STAGE-STORAGE'!$C$104))","v":42712.842090206366},{"$f":"BASIN_DESIGN!$H$21","v":682.20940345388624},0.76465071159642073,13.185278665776275]
[{"$f":"A21-(($A$5-BASIN_DESIGN!$C$27)/100)","v":1.8844999999999987},{"$f":"A22-BASIN_DESIGN!$C$27","v":1.7844999999999986},{"$f":"'STAGE-STORAGE'!$B$104+(2*A22*BASIN_DESIGN!$C$26)","v":229.72806289866375},{"$f":"'STAGE-STORAGE'!$C$104+(2*A22*BASIN_DESIGN!$C$26)","v":105.52150177105402},24241.250196022156,520.72209114117243,{"$f":"(1/6)*(A22)*(C22*D22+(C22+'STAGE-STORAGE'!$B$104)*(D22+'STAGE-STORAGE'!$C$104)+('STAGE-STORAGE'!$B$104*'STAGE-STORAGE'!$C$104))","v":42191.190184397587},{"$f":"BASIN_DESIGN!$H$21","v":682.20940345388624},0.76328776546447952,13.948566431240755]
[{"$f":"A22-(($A$5-BASIN_DESIGN!$C$27)/100)","v":1.8629999999999987},{"$f":"A23-BASIN_DESIGN!$C$27","v":1.7629999999999986},{"$f":"'STAGE-STORAGE'!$B$104+(2*A23*BASIN_DESIGN!$C$26)","v":229.59906289866376},{"$f":"'STAGE-STORAGE'!$C$104+(2*A23*BASIN_DESIGN!$C$26)","v":105.39250177105403},24198.019643179767,519.79299203656103,{"$f":"(1/6)*(A23)*(C23*D23+(C23+'STAGE-STORAGE'!$B$104)*(D23+'STAGE-STORAGE'!$C$104)+('STAGE-STORAGE'!$B$104*'STAGE-STORAGE'!$C$104))","v":41670.468093256422},{"$f":"BASIN_DESIGN!$H$21","v":682.20940345388624},0.76192586822309361,14.710492299463848]
[{"$f":"A23-(($A$5-BASIN_DESIGN!$C$27)/100)","v":1.8414999999999986},{"$f":"A24-BASIN_DESIGN!$C$27","v":1.7414999999999985},{"$f":"'STAGE-STORAGE'!$B$104+(2*A24*BASIN_DESIGN!$C$26)","v":229.47006289866374},{"$f":"'STAGE-STORAGE'!$C$104+(2*A24*BASIN_DESIGN!$C$26)","v":105.26350177105402},24154.82237233737,518.86460849494938,{"$f":"(1/6)*(A24)*(C24*D24+(C24+'STAGE-STORAGE'!$B$104)*(D24+'STAGE-STORAGE'!$C$104)+('STAGE-STORAGE'!$B$104*'STAGE-STORAGE'!$C$104))","v":41150.675101219851},{"$f":"BASIN_DESIGN!$H$21","v":682.20940345388624},0.76056501987226255,15.47105731933611]
[{"$f":"A24-(($A$5-BASIN_DESIGN!$C$27)/100)","v":1.8199999999999985},{"$f":"A25-BASIN_DESIGN!$C$27","v":1.7199999999999984},{"$f":"'STAGE-STORAGE'!$B$104+(2*A25*BASIN_DESIGN!$C$26)","v":229.34106289866375},{"$f":"'STAGE-STORAGE'!$C$104+(2*A25*BASIN_DESIGN!$C$26)","v":105.13450177105402},24111.658383494974,517.93694051633804,{"$f":"(1/6)*(A25)*(C25*D25+(C25+'STAGE-STORAGE'!$B$104)*(D25+'STAGE-STORAGE'!$C$104)+('STAGE-STORAGE'!$B$104*'STAGE-STORAGE'!$C$104))","v":40631.810492724901},{"$f":"BASIN_DESIGN!$H$21","v":682.20940345388624},0.75920522041198724,16.230262539748097]
[{"$f":"A25-(($A$5-BASIN_DESIGN!$C$27)/100)","v":1.7984999999999984},{"$f":"A26-BASIN_DESIGN!$C$27","v":1.6984999999999983},{"$f":"'STAGE-STORAGE'!$B$104+(2*A26*BASIN_DESIGN!$C$26)","v":229.21206289866376},{"$f":"'STAGE-STORAGE'!$C$104+(2*A26*BASIN_DESIGN!$C$26)","v":105.00550177105401},24068.527676652582,517.00998810072656,{"$f":"(1/6)*(A26)*(C26*D26+(C26+'STAGE-STORAGE'!$B$104)*(D26+'STAGE-STORAGE'!$C$104)+('STAGE-STORAGE'!$B$104*'STAGE-STORAGE'!$C$104))","v":40113.87355220857},{"$f":"BASIN_DESIGN!$H$21","v":682.20940345388624},0.757846469842267,16.988109009590364]
[{"$f":"A26-(($A$5-BASIN_DESIGN!$C$27)/100)","v":1.7769999999999984},{"$f":"A27-BASIN_DESIGN!$C$27","v":1.6769999999999983},{"$f":"'STAGE-STORAGE'!$B$104+(2*A27*BASIN_DESIGN!$C$26)","v":229.08306289866374},{"$f":"'STAGE-STORAGE'!$C$104+(2*A27*BASIN_DESIGN!$C$26)","v":104.87650177105402},24025.430251810187,516.08375124811505,{"$f":"(1/6)*(A27)*(C27*D27+(C27+'STAGE-STORAGE'!$B$104)*(D27+'STAGE-STORAGE'!$C$104)+('STAGE-STORAGE'!$B$104*'STAGE-STORAGE'!$C$104))","v":39596.863564107844},{"$f":"BASIN_DESIGN!$H$21","v":682.20940345388624},0.75648876816310195,17.744597777753466]
[{"$f":"A27-(($A$5-BASIN_DESIGN!$C$27)/100)","v":1.7554999999999983},{"$f":"A28-BASIN_DESIGN!$C$27","v":1.6554999999999982},{"$f":"'STAGE-STORAGE'!$B$104+(2*A28*BASIN_DESIGN!$C$26)","v":228.95406289866375},{"$f":"'STAGE-STORAGE'!$C$104+(2*A28*BASIN_DESIGN!$C$26)","v":104.74750177105402},23982.366108967795,515.15822995850363,{"$f":"(1/6)*(A28)*(C28*D28+(C28+'STAGE-STORAGE'!$B$104)*(D28+'STAGE-STORAGE'!$C$104)+('STAGE-STORAGE'!$B$104*'STAGE-STORAGE'!$C$104))","v":39080.779812859721},{"$f":"BASIN_DESIGN!$H$21","v":682.20940345388624},0.75513211537449232,18.499729893127959]
[{"$f":"A28-(($A$5-BASIN_DESIGN!$C$27)/100)","v":1.7339999999999982},{"$f":"A29-BASIN_DESIGN!$C$27","v":1.6339999999999981},{"$f":"'STAGE-STORAGE'!$B$104+(2*A29*BASIN_DESIGN!$C$26)","v":228.82506289866376},{"$f":"'STAGE-STORAGE'!$C$104+(2*A29*BASIN_DESIGN!$C$26)","v":104.61850177105401},23939.335248125401,514.23342423189206,{"$f":"(1/6)*(A29)*(C29*D29+(C29+'STAGE-STORAGE'!$B$104)*(D29+'STAGE-STORAGE'!$C$104)+('STAGE-STORAGE'!$B$104*'STAGE-STORAGE'!$C$104))","v":38565.621582901222},{"$f":"BASIN_DESIGN!$H$21","v":682.20940345388624},0.75377651147643776,19.253506404604398]
[{"$f":"A29-(($A$5-BASIN_DESIGN!$C$27)/100)","v":1.7124999999999981},{"$f":"A30-BASIN_DESIGN!$C$27","v":1.612499999999998},{"$f":"'STAGE-STORAGE'!$B$104+(2*A30*BASIN_DESIGN!$C$26)","v":228.69606289866374},{"$f":"'STAGE-STORAGE'!$C$104+(2*A30*BASIN_DESIGN!$C$26)","v":104.48950177105402},23896.337669283006,513.30933406828058,{"$f":"(1/6)*(A30)*(C30*D30+(C30+'STAGE-STORAGE'!$B$104)*(D30+'STAGE-STORAGE'!$C$104)+('STAGE-STORAGE'!$B$104*'STAGE-STORAGE'!$C$104))","v":38051.388158669331},{"$f":"BASIN_DESIGN!$H$21","v":682.20940345388624},0.75242195646893861,20.005928361073337]
[{"$f":"A30-(($A$5-BASIN_DESIGN!$C$27)/100)","v":1.6909999999999981},{"$f":"A31-BASIN_DESIGN!$C$27","v":1.590999999999998},{"$f":"'STAGE-STORAGE'!$B$104+(2*A31*BASIN_DESIGN!$C$26)","v":228.56706289866375},{"$f":"'STAGE-STORAGE'!$C$104+(2*A31*BASIN_DESIGN!$C$26)","v":104.36050177105402},23853.373372440612,512.3859594676693,{"$f":"(1/6)*(A31)*(C31*D31+(C31+'STAGE-STORAGE'!$B$104)*(D31+'STAGE-STORAGE'!$C$104)+('STAGE-STORAGE'!$B$104*'STAGE-STORAGE'!$C$104))","v":37538.078824601042},{"$f":"BASIN_DESIGN!$H$21","v":682.20940345388624},0.75106845035199499,20.756996811425331]
[{"$f":"A31-(($A$5-BASIN_DESIGN!$C$27)/100)","v":1.669499999999998},{"$f":"A32-BASIN_DESIGN!$C$27","v":1.5694999999999979},{"$f":"'STAGE-STORAGE'!$B$104+(2*A32*BASIN_DESIGN!$C$26)","v":228.43806289866376},{"$f":"'STAGE-STORAGE'!$C$104+(2*A32*BASIN_DESIGN!$C$26)","v":104.23150177105401},23810.442357598218,511.4633004300577,{"$f":"(1/6)*(A32)*(C32*D32+(C32+'STAGE-STORAGE'!$B$104)*(D32+'STAGE-STORAGE'!$C$104)+('STAGE-STORAGE'!$B$104*'STAGE-STORAGE'!$C$104))","v":37025.69286513338},{"$f":"BASIN_DESIGN!$H$21","v":682.20940345388624},0.74971599312560622,21.506712804550936]
[{"$f":"A32-(($A$5-BASIN_DESIGN!$C$27)/100)","v":1.6479999999999979},{"$f":"A33-BASIN_DESIGN!$C$27","v":1.5479999999999978},{"$f":"'STAGE-STORAGE'!$B$104+(2*A33*BASIN_DESIGN!$C$26)","v":228.30906289866374},{"$f":"'STAGE-STORAGE'!$C$104+(2*A33*BASIN_DESIGN!$C$26)","v":104.10250177105402},23767.544624755825,510.54135695544619,{"$f":"(1/6)*(A33)*(C33*D33+(C33+'STAGE-STORAGE'!$B$104)*(D33+'STAGE-STORAGE'!$C$104)+('STAGE-STORAGE'!$B$104*'STAGE-STORAGE'!$C$104))","v":36514.229564703324},{"$f":"BASIN_DESIGN!$H$21","v":682.20940345388624},0.74836458478977286,22.255077389340709]
[{"$f":"A33-(($A$5-BASIN_DESIGN!$C$27)/100)","v":1.6264999999999978},{"$f":"A34-BASIN_DESIGN!$C$27","v":1.5264999999999977},{"$f":"'STAGE-STORAGE'!$B$104+(2*A34*BASIN_DESIGN!$C$26)","v":228.18006289866375},{"$f":"'STAGE-STORAGE'!$C$104+(2*A34*BASIN_DESIGN!$C$26)","v":103.97350177105402},23724.680173913432,509.62012904383482,{"$f":"(1/6)*(A34)*(C34*D34+(C34+'STAGE-STORAGE'!$B$104)*(D34+'STAGE-STORAGE'!$C$104)+('STAGE-STORAGE'!$B$104*'STAGE-STORAGE'!$C$104))","v":36003.688207747873},{"$f":"BASIN_DESIGN!$H$21","v":682.20940345388624},0.74701422534449491,23.002091614685202]
[{"$f":"A34-(($A$5-BASIN_DESIGN!$C$27)/100)","v":1.6049999999999978},{"$f":"A35-BASIN_DESIGN!$C$27","v":1.5049999999999977},{"$f":"'STAGE-STORAGE'!$B$104+(2*A35*BASIN_DESIGN!$C$26)","v":228.05106289866376},{"$f":"'STAGE-STORAGE'!$C$104+(2*A35*BASIN_DESIGN!$C$26)","v":103.84450177105401},23681.849005071039,508.69961669522331,{"$f":"(1/6)*(A35)*(C35*D35+(C35+'STAGE-STORAGE'!$B$104)*(D35+'STAGE-STORAGE'!$C$104)+('STAGE-STORAGE'!$B$104*'STAGE-STORAGE'!$C$104))","v":35494.06807870404},{"$f":"BASIN_DESIGN!$H$21","v":682.20940345388624},0.74566491478977204,23.747756529474973]
[{"$f":"A35-(($A$5-BASIN_DESIGN!$C$27)/100)","v":1.5834999999999977},{"$f":"A36-BASIN_DESIGN!$C$27","v":1.4834999999999976},{"$f":"'STAGE-STORAGE'!$B$104+(2*A36*BASIN_DESIGN!$C$26)","v":227.92206289866374},{"$f":"'STAGE-STORAGE'!$C$104+(2*A36*BASIN_DESIGN!$C$26)","v":103.71550177105402},23639.051118228646,507.77981990961177,{"$f":"(1/6)*(A36)*(C36*D36+(C36+'STAGE-STORAGE'!$B$104)*(D36+'STAGE-STORAGE'!$C$104)+('STAGE-STORAGE'!$B$104*'STAGE-STORAGE'!$C$104))","v":34985.368462008817},{"$f":"BASIN_DESIGN!$H$21","v":682.20940345388624},0.74431665312560447,24.492073182600578]
[{"$f":"A36-(($A$5-BASIN_DESIGN!$C$27)/100)","v":1.5619999999999976},{"$f":"A37-BASIN_DESIGN!$C$27","v":1.4619999999999975},{"$f":"'STAGE-STORAGE'!$B$104+(2*A37*BASIN_DESIGN!$C$26)","v":227.79306289866375},{"$f":"'STAGE-STORAGE'!$C$104+(2*A37*BASIN_DESIGN!$C$26)","v":103.58650177105402},23596.286513386251,506.86073868700043,{"$f":"(1/6)*(A37)*(C37*D37+(C37+'STAGE-STORAGE'!$B$104)*(D37+'STAGE-STORAGE'!$C$104)+('STAGE-STORAGE'!$B$104*'STAGE-STORAGE'!$C$104))","v":34477.58864209921},{"$f":"BASIN_DESIGN!$H$21","v":682.20940345388624},0.74296944035199242,25.23504262295257]
[{"$f":"A37-(($A$5-BASIN_DESIGN!$C$27)/100)","v":1.5404999999999975},{"$f":"A38-BASIN_DESIGN!$C$27","v":1.4404999999999974},{"$f":"'STAGE-STORAGE'!$B$104+(2*A38*BASIN_DESIGN!$C$26)","v":227.66406289866376},{"$f":"'STAGE-STORAGE'!$C$104+(2*A38*BASIN_DESIGN!$C$26)","v":103.45750177105401},23553.555190543859,505.94237302738901,{"$f":"(1/6)*(A38)*(C38*D38+(C38+'STAGE-STORAGE'!$B$104)*(D38+'STAGE-STORAGE'!$C$104)+('STAGE-STORAGE'!$B$104*'STAGE-STORAGE'!$C$104))","v":33970.727903412204},{"$f":"BASIN_DESIGN!$H$21","v":682.20940345388624},0.74162327646893544,{"$f":"F38/H38+J37","v":25.976665899421505}]
[{"$f":"A38-(($A$5-BASIN_DESIGN!$C$27)/100)","v":1.5189999999999975},{"$f":"A39-BASIN_DESIGN!$C$27","v":1.4189999999999974},{"$f":"'STAGE-STORAGE'!$B$104+(2*A39*BASIN_DESIGN!$C$26)","v":227.53506289866374},{"$f":"'STAGE-STORAGE'!$C$104+(2*A39*BASIN_DESIGN!$C$26)","v":103.32850177105402},23510.857149701464,505.02472293077739,{"$f":"(1/6)*(A39)*(C39*D39+(C39+'STAGE-STORAGE'!$B$104)*(D39+'STAGE-STORAGE'!$C$104)+('STAGE-STORAGE'!$B$104*'STAGE-STORAGE'!$C$104))","v":33464.785530384812},{"$f":"BASIN_DESIGN!$H$21","v":682.20940345388624},0.74027816147643355,26.716944060897937]
[{"$f":"A39-(($A$5-BASIN_DESIGN!$C$27)/100)","v":1.4974999999999974},{"$f":"A40-BASIN_DESIGN!$C$27","v":1.3974999999999973},{"$f":"'STAGE-STORAGE'!$B$104+(2*A40*BASIN_DESIGN!$C$26)","v":227.40606289866375},{"$f":"'STAGE-STORAGE'!$C$104+(2*A40*BASIN_DESIGN!$C$26)","v":103.19950177105402},23468.192390859069,504.10778839716602,{"$f":"(1/6)*(A40)*(C40*D40+(C40+'STAGE-STORAGE'!$B$104)*(D40+'STAGE-STORAGE'!$C$104)+('STAGE-STORAGE'!$B$104*'STAGE-STORAGE'!$C$104))","v":32959.76080745404},{"$f":"BASIN_DESIGN!$H$21","v":682.20940345388624},0.73893409537448729,27.455878156272423]
[{"$f":"A40-(($A$5-BASIN_DESIGN!$C$27)/100)","v":1.4759999999999973},{"$f":"A41-BASIN_DESIGN!$C$27","v":1.3759999999999972},{"$f":"'STAGE-STORAGE'!$B$104+(2*A41*BASIN_DESIGN!$C$26)","v":227.27706289866376},{"$f":"'STAGE-STORAGE'!$C$104+(2*A41*BASIN_DESIGN!$C$26)","v":103.07050177105401},23425.560914016678,503.19156942655451,{"$f":"(1/6)*(A41)*(C41*D41+(C41+'STAGE-STORAGE'!$B$104)*(D41+'STAGE-STORAGE'!$C$104)+('STAGE-STORAGE'!$B$104*'STAGE-STORAGE'!$C$104))","v":32455.65301905687},{"$f":"BASIN_DESIGN!$H$21","v":682.20940345388624},0.73759107816309599,28.193469234435518]
[{"$f":"A41-(($A$5-BASIN_DESIGN!$C$27)/100)","v":1.4544999999999972},{"$f":"A42-BASIN_DESIGN!$C$27","v":1.3544999999999972},{"$f":"'STAGE-STORAGE'!$B$104+(2*A42*BASIN_DESIGN!$C$26)","v":227.14806289866374},{"$f":"'STAGE-STORAGE'!$C$104+(2*A42*BASIN_DESIGN!$C$26)","v":102.94150177105402},23382.962719174284,502.27606601894303,{"$f":"(1/6)*(A42)*(C42*D42+(C42+'STAGE-STORAGE'!$B$104)*(D42+'STAGE-STORAGE'!$C$104)+('STAGE-STORAGE'!$B$104*'STAGE-STORAGE'!$C$104))","v":31952.461449630322},{"$f":"BASIN_DESIGN!$H$21","v":682.20940345388624},0.73624910984226011,28.929718344277777]
[{"$f":"A42-(($A$5-BASIN_DESIGN!$C$27)/100)","v":1.4329999999999972},{"$f":"A43-BASIN_DESIGN!$C$27","v":1.3329999999999971},{"$f":"'STAGE-STORAGE'!$B$104+(2*A43*BASIN_DESIGN!$C$26)","v":227.01906289866375},{"$f":"'STAGE-STORAGE'!$C$104+(2*A43*BASIN_DESIGN!$C$26)","v":102.81250177105402},23340.39780633189,501.36127817433157,{"$f":"(1/6)*(A43)*(C43*D43+(C43+'STAGE-STORAGE'!$B$104)*(D43+'STAGE-STORAGE'!$C$104)+('STAGE-STORAGE'!$B$104*'STAGE-STORAGE'!$C$104))","v":31450.185383611377},{"$f":"BASIN_DESIGN!$H$21","v":682.20940345388624},0.73490819041197952,29.664626534689756]
[{"$f":"A43-(($A$5-BASIN_DESIGN!$C$27)/100)","v":1.4114999999999971},{"$f":"A44-BASIN_DESIGN!$C$27","v":1.311499999999997},{"$f":"'STAGE-STORAGE'!$B$104+(2*A44*BASIN_DESIGN!$C$26)","v":226.89006289866376},{"$f":"'STAGE-STORAGE'!$C$104+(2*A44*BASIN_DESIGN!$C$26)","v":102.68350177105401},23297.866175489497,500.44720589272015,{"$f":"(1/6)*(A44)*(C44*D44+(C44+'STAGE-STORAGE'!$B$104)*(D44+'STAGE-STORAGE'!$C$104)+('STAGE-STORAGE'!$B$104*'STAGE-STORAGE'!$C$104))","v":30948.824105437041},{"$f":"BASIN_DESIGN!$H$21","v":682.20940345388624},0.73356831987225424,30.398194854562011]
[{"$f":"A44-(($A$5-BASIN_DESIGN!$C$27)/100)","v":1.389999999999997},{"$f":"A45-BASIN_DESIGN!$C$27","v":1.2899999999999969},{"$f":"'STAGE-STORAGE'!$B$104+(2*A45*BASIN_DESIGN!$C$26)","v":226.76106289866374},{"$f":"'STAGE-STORAGE'!$C$104+(2*A45*BASIN_DESIGN!$C$26)","v":102.55450177105402},23255.367826647103,499.53384917410864,{"$f":"(1/6)*(A45)*(C45*D45+(C45+'STAGE-STORAGE'!$B$104)*(D45+'STAGE-STORAGE'!$C$104)+('STAGE-STORAGE'!$B$104*'STAGE-STORAGE'!$C$104))","v":30448.376899544324},{"$f":"BASIN_DESIGN!$H$21","v":682.20940345388624},0.73222949822308403,31.130424352785095]
[{"$f":"A45-(($A$5-BASIN_DESIGN!$C$27)/100)","v":1.3684999999999969},{"$f":"A46-BASIN_DESIGN!$C$27","v":1.2684999999999969},{"$f":"'STAGE-STORAGE'!$B$104+(2*A46*BASIN_DESIGN!$C$26)","v":226.63206289866375},{"$f":"'STAGE-STORAGE'!$C$104+(2*A46*BASIN_DESIGN!$C$26)","v":102.42550177105402},23212.902759804711,498.62120801849721,{"$f":"(1/6)*(A46)*(C46*D46+(C46+'STAGE-STORAGE'!$B$104)*(D46+'STAGE-STORAGE'!$C$104)+('STAGE-STORAGE'!$B$104*'STAGE-STORAGE'!$C$104))","v":29948.843050370215},{"$f":"BASIN_DESIGN!$H$21","v":682.20940345388624},0.73089172546446934,31.861316078249565]
[{"$f":"A46-(($A$5-BASIN_DESIGN!$C$27)/100)","v":1.3469999999999969},{"$f":"A47-BASIN_DESIGN!$C$27","v":1.2469999999999968},{"$f":"'STAGE-STORAGE'!$B$104+(2*A47*BASIN_DESIGN!$C$26)","v":226.50306289866376},{"$f":"'STAGE-STORAGE'!$C$104+(2*A47*BASIN_DESIGN!$C$26)","v":102.29650177105401},23170.470974962314,497.7092824258857,{"$f":"(1/6)*(A47)*(C47*D47+(C47+'STAGE-STORAGE'!$B$104)*(D47+'STAGE-STORAGE'!$C$104)+('STAGE-STORAGE'!$B$104*'STAGE-STORAGE'!$C$104))","v":29450.221842351719},{"$f":"BASIN_DESIGN!$H$21","v":682.20940345388624},0.72955500159640974,32.590871079845975]
[{"$f":"A47-(($A$5-BASIN_DESIGN!$C$27)/100)","v":1.3254999999999968},{"$f":"A48-BASIN_DESIGN!$C$27","v":1.2254999999999967},{"$f":"'STAGE-STORAGE'!$B$104+(2*A48*BASIN_DESIGN!$C$26)","v":226.37406289866374},{"$f":"'STAGE-STORAGE'!$C$104+(2*A48*BASIN_DESIGN!$C$26)","v":102.16750177105401},23128.072472119919,496.79807239627428,{"$f":"(1/6)*(A48)*(C48*D48+(C48+'STAGE-STORAGE'!$B$104)*(D48+'STAGE-STORAGE'!$C$104)+('STAGE-STORAGE'!$B$104*'STAGE-STORAGE'!$C$104))","v":28952.512559925832},{"$f":"BASIN_DESIGN!$H$21","v":682.20940345388624},0.72821932661890554,33.319090406464881]
[{"$f":"A48-(($A$5-BASIN_DESIGN!$C$27)/100)","v":1.3039999999999967},{"$f":"A49-BASIN_DESIGN!$C$27","v":1.2039999999999966},{"$f":"'STAGE-STORAGE'!$B$104+(2*A49*BASIN_DESIGN!$C$26)","v":226.24506289866375},{"$f":"'STAGE-STORAGE'!$C$104+(2*A49*BASIN_DESIGN!$C$26)","v":102.03850177105402},23085.707251277527,495.88757792966288,{"$f":"(1/6)*(A49)*(C49*D49+(C49+'STAGE-STORAGE'!$B$104)*(D49+'STAGE-STORAGE'!$C$104)+('STAGE-STORAGE'!$B$104*'STAGE-STORAGE'!$C$104))","v":28455.714487529556},{"$f":"BASIN_DESIGN!$H$21","v":682.20940345388624},0.72688470053195664,34.045975106996835]
[{"$f":"A49-(($A$5-BASIN_DESIGN!$C$27)/100)","v":1.2824999999999966},{"$f":"A50-BASIN_DESIGN!$C$27","v":1.1824999999999966},{"$f":"'STAGE-STORAGE'!$B$104+(2*A50*BASIN_DESIGN!$C$26)","v":226.11606289866376},{"$f":"'STAGE-STORAGE'!$C$104+(2*A50*BASIN_DESIGN!$C$26)","v":101.90950177105401},23043.375312435135,494.97779902605129,{"$f":"(1/6)*(A50)*(C50*D50+(C50+'STAGE-STORAGE'!$B$104)*(D50+'STAGE-STORAGE'!$C$104)+('STAGE-STORAGE'!$B$104*'STAGE-STORAGE'!$C$104))","v":27959.826909599895},{"$f":"BASIN_DESIGN!$H$21","v":682.20940345388624},0.72555112333556271,34.771526230332398]
[{"$f":"A50-(($A$5-BASIN_DESIGN!$C$27)/100)","v":1.2609999999999966},{"$f":"A51-BASIN_DESIGN!$C$27","v":1.1609999999999965},{"$f":"'STAGE-STORAGE'!$B$104+(2*A51*BASIN_DESIGN!$C$26)","v":225.98706289866374},{"$f":"'STAGE-STORAGE'!$C$104+(2*A51*BASIN_DESIGN!$C$26)","v":101.78050177105401},23001.076655592737,494.06873568543978,{"$f":"(1/6)*(A51)*(C51*D51+(C51+'STAGE-STORAGE'!$B$104)*(D51+'STAGE-STORAGE'!$C$104)+('STAGE-STORAGE'!$B$104*'STAGE-STORAGE'!$C$104))","v":27464.849110573843},{"$f":"BASIN_DESIGN!$H$21","v":682.20940345388624},0.72421859502972419,35.495744825362124]
[{"$f":"A51-(($A$5-BASIN_DESIGN!$C$27)/100)","v":1.2394999999999965},{"$f":"A52-BASIN_DESIGN!$C$27","v":1.1394999999999964},{"$f":"'STAGE-STORAGE'!$B$104+(2*A52*BASIN_DESIGN!$C$26)","v":225.85806289866375},{"$f":"'STAGE-STORAGE'!$C$104+(2*A52*BASIN_DESIGN!$C$26)","v":101.65150177105401},22958.811280750346,493.16038790782846,{"$f":"(1/6)*(A52)*(C52*D52+(C52+'STAGE-STORAGE'!$B$104)*(D52+'STAGE-STORAGE'!$C$104)+('STAGE-STORAGE'!$B$104*'STAGE-STORAGE'!$C$104))","v":26970.780374888403},{"$f":"BASIN_DESIGN!$H$21","v":682.20940345388624},0.7228871156144413,36.218631940976564]
[{"$f":"A52-(($A$5-BASIN_DESIGN!$C$27)/100)","v":1.2179999999999964},{"$f":"A53-BASIN_DESIGN!$C$27","v":1.1179999999999963},{"$f":"'STAGE-STORAGE'!$B$104+(2*A53*BASIN_DESIGN!$C$26)","v":225.72906289866376},{"$f":"'STAGE-STORAGE'!$C$104+(2*A53*BASIN_DESIGN!$C$26)","v":101.52250177105401},22916.579187907952,492.25275569321684,{"$f":"(1/6)*(A53)*(C53*D53+(C53+'STAGE-STORAGE'!$B$104)*(D53+'STAGE-STORAGE'!$C$104)+('STAGE-STORAGE'!$B$104*'STAGE-STORAGE'!$C$104))","v":26477.619986980571},{"$f":"BASIN_DESIGN!$H$21","v":682.20940345388624},0.72155668508971316,36.940188626066281]
[{"$f":"A53-(($A$5-BASIN_DESIGN!$C$27)/100)","v":1.1964999999999963},{"$f":"A54-BASIN_DESIGN!$C$27","v":1.0964999999999963},{"$f":"'STAGE-STORAGE'!$B$104+(2*A54*BASIN_DESIGN!$C$26)","v":225.60006289866374},{"$f":"'STAGE-STORAGE'!$C$104+(2*A54*BASIN_DESIGN!$C$26)","v":101.39350177105401},22874.380377065558,491.34583904160542,{"$f":"(1/6)*(A54)*(C54*D54+(C54+'STAGE-STORAGE'!$B$104)*(D54+'STAGE-STORAGE'!$C$104)+('STAGE-STORAGE'!$B$104*'STAGE-STORAGE'!$C$104))","v":25985.367231287353},{"$f":"BASIN_DESIGN!$H$21","v":682.20940345388624},0.72022730345554054,37.660415929521818]
[{"$f":"A54-(($A$5-BASIN_DESIGN!$C$27)/100)","v":1.1749999999999963},{"$f":"A55-BASIN_DESIGN!$C$27","v":1.0749999999999962},{"$f":"'STAGE-STORAGE'!$B$104+(2*A55*BASIN_DESIGN!$C$26)","v":225.47106289866375},{"$f":"'STAGE-STORAGE'!$C$104+(2*A55*BASIN_DESIGN!$C$26)","v":101.26450177105401},22832.214848223168,490.43963795299402,{"$f":"(1/6)*(A55)*(C55*D55+(C55+'STAGE-STORAGE'!$B$104)*(D55+'STAGE-STORAGE'!$C$104)+('STAGE-STORAGE'!$B$104*'STAGE-STORAGE'!$C$104))","v":25494.021392245751},{"$f":"BASIN_DESIGN!$H$21","v":682.20940345388624},0.71889897071192332,38.379314900233744]
[{"$f":"A55-(($A$5-BASIN_DESIGN!$C$27)/100)","v":1.1534999999999962},{"$f":"A56-BASIN_DESIGN!$C$27","v":1.0534999999999961},{"$f":"'STAGE-STORAGE'!$B$104+(2*A56*BASIN_DESIGN!$C$26)","v":225.34206289866373},{"$f":"'STAGE-STORAGE'!$C$104+(2*A56*BASIN_DESIGN!$C$26)","v":101.13550177105401},22790.082601380771,489.53415242738242,{"$f":"(1/6)*(A56)*(C56*D56+(C56+'STAGE-STORAGE'!$B$104)*(D56+'STAGE-STORAGE'!$C$104)+('STAGE-STORAGE'!$B$104*'STAGE-STORAGE'!$C$104))","v":25003.581754292754},{"$f":"BASIN_DESIGN!$H$21","v":682.20940345388624},0.71757168685886097,39.096886587092605]
[{"$f":"A56-(($A$5-BASIN_DESIGN!$C$27)/100)","v":1.1319999999999961},{"$f":"A57-BASIN_DESIGN!$C$27","v":1.031999999999996},{"$f":"'STAGE-STORAGE'!$B$104+(2*A57*BASIN_DESIGN!$C$26)","v":225.21306289866374},{"$f":"'STAGE-STORAGE'!$C$104+(2*A57*BASIN_DESIGN!$C$26)","v":101.006501771054},22747.983636538374,488.62938246477103,{"$f":"(1/6)*(A57)*(C57*D57+(C57+'STAGE-STORAGE'!$B$104)*(D57+'STAGE-STORAGE'!$C$104)+('STAGE-STORAGE'!$B$104*'STAGE-STORAGE'!$C$104))","v":24514.047601865375},{"$f":"BASIN_DESIGN!$H$21","v":682.20940345388624},0.71624545189635425,39.813132038988961]
[{"$f":"A57-(($A$5-BASIN_DESIGN!$C$27)/100)","v":1.110499999999996},{"$f":"A58-BASIN_DESIGN!$C$27","v":1.010499999999996},{"$f":"'STAGE-STORAGE'!$B$104+(2*A58*BASIN_DESIGN!$C$26)","v":225.08406289866375},{"$f":"'STAGE-STORAGE'!$C$104+(2*A58*BASIN_DESIGN!$C$26)","v":100.87750177105401},22705.917953695985,487.7253280651596,{"$f":"(1/6)*(A58)*(C58*D58+(C58+'STAGE-STORAGE'!$B$104)*(D58+'STAGE-STORAGE'!$C$104)+('STAGE-STORAGE'!$B$104*'STAGE-STORAGE'!$C$104))","v":24025.418219400606},{"$f":"BASIN_DESIGN!$H$21","v":682.20940345388624},0.71492026582440282,40.528052304813365]
[{"$f":"A58-(($A$5-BASIN_DESIGN!$C$27)/100)","v":1.088999999999996},{"$f":"A59-BASIN_DESIGN!$C$27","v":0.98899999999999599},{"$f":"'STAGE-STORAGE'!$B$104+(2*A59*BASIN_DESIGN!$C$26)","v":224.95506289866373},{"$f":"'STAGE-STORAGE'!$C$104+(2*A59*BASIN_DESIGN!$C$26)","v":100.74850177105401},22663.88555285359,486.82198922854815,{"$f":"(1/6)*(A59)*(C59*D59+(C59+'STAGE-STORAGE'!$B$104)*(D59+'STAGE-STORAGE'!$C$104)+('STAGE-STORAGE'!$B$104*'STAGE-STORAGE'!$C$104))","v":23537.692891335446},{"$f":"BASIN_DESIGN!$H$21","v":682.20940345388624},0.71359612864300648,41.241648433456369]
[{"$f":"A59-(($A$5-BASIN_DESIGN!$C$27)/100)","v":1.0674999999999959},{"$f":"A60-BASIN_DESIGN!$C$27","v":0.96749999999999592},{"$f":"'STAGE-STORAGE'!$B$104+(2*A60*BASIN_DESIGN!$C$26)","v":224.82606289866374},{"$f":"'STAGE-STORAGE'!$C$104+(2*A60*BASIN_DESIGN!$C$26)","v":100.619501771054},22621.886434011194,485.91936595493655,{"$f":"(1/6)*(A60)*(C60*D60+(C60+'STAGE-STORAGE'!$B$104)*(D60+'STAGE-STORAGE'!$C$104)+('STAGE-STORAGE'!$B$104*'STAGE-STORAGE'!$C$104))","v":23050.870902106897},{"$f":"BASIN_DESIGN!$H$21","v":682.20940345388624},0.71227304035216532,41.953921473808535]
[{"$f":"A60-(($A$5-BASIN_DESIGN!$C$27)/100)","v":1.0459999999999958},{"$f":"A61-BASIN_DESIGN!$C$27","v":0.94599999999999584},{"$f":"'STAGE-STORAGE'!$B$104+(2*A61*BASIN_DESIGN!$C$26)","v":224.69706289866375},{"$f":"'STAGE-STORAGE'!$C$104+(2*A61*BASIN_DESIGN!$C$26)","v":100.490501771054},22579.920597168802,485.0174582443251,{"$f":"(1/6)*(A61)*(C61*D61+(C61+'STAGE-STORAGE'!$B$104)*(D61+'STAGE-STORAGE'!$C$104)+('STAGE-STORAGE'!$B$104*'STAGE-STORAGE'!$C$104))","v":22564.951536151959},{"$f":"BASIN_DESIGN!$H$21","v":682.20940345388624},0.71095100095187957,42.664872474760415]
[{"$f":"A61-(($A$5-BASIN_DESIGN!$C$27)/100)","v":1.0244999999999957},{"$f":"A62-BASIN_DESIGN!$C$27","v":0.92449999999999577},{"$f":"'STAGE-STORAGE'!$B$104+(2*A62*BASIN_DESIGN!$C$26)","v":224.56806289866373},{"$f":"'STAGE-STORAGE'!$C$104+(2*A62*BASIN_DESIGN!$C$26)","v":100.36150177105401},22537.988042326408,484.11626609671367,{"$f":"(1/6)*(A62)*(C62*D62+(C62+'STAGE-STORAGE'!$B$104)*(D62+'STAGE-STORAGE'!$C$104)+('STAGE-STORAGE'!$B$104*'STAGE-STORAGE'!$C$104))","v":22079.934077907634},{"$f":"BASIN_DESIGN!$H$21","v":682.20940345388624},0.70963001044214924,43.374502485202562]
[{"$f":"A62-(($A$5-BASIN_DESIGN!$C$27)/100)","v":1.0029999999999957},{"$f":"A63-BASIN_DESIGN!$C$27","v":0.90299999999999569},{"$f":"'STAGE-STORAGE'!$B$104+(2*A63*BASIN_DESIGN!$C$26)","v":224.43906289866374},{"$f":"'STAGE-STORAGE'!$C$104+(2*A63*BASIN_DESIGN!$C$26)","v":100.232501771054},22496.088769484013,483.21578951209972,{"$f":"(1/6)*(A63)*(C63*D63+(C63+'STAGE-STORAGE'!$B$104)*(D63+'STAGE-STORAGE'!$C$104)+('STAGE-STORAGE'!$B$104*'STAGE-STORAGE'!$C$104))","v":21595.817811810921},{"$f":"BASIN_DESIGN!$H$21","v":682.20940345388624},0.70831006882297032,44.08281255402553]
[{"$f":"A63-(($A$5-BASIN_DESIGN!$C$27)/100)","v":0.98149999999999571},{"$f":"A64-BASIN_DESIGN!$C$27","v":0.88149999999999573},{"$f":"'STAGE-STORAGE'!$B$104+(2*A64*BASIN_DESIGN!$C$26)","v":224.31006289866374},{"$f":"'STAGE-STORAGE'!$C$104+(2*A64*BASIN_DESIGN!$C$26)","v":100.103501771054},22454.222778641619,482.31602849048829,{"$f":"(1/6)*(A64)*(C64*D64+(C64+'STAGE-STORAGE'!$B$104)*(D64+'STAGE-STORAGE'!$C$104)+('STAGE-STORAGE'!$B$104*'STAGE-STORAGE'!$C$104))","v":21112.602022298823},{"$f":"BASIN_DESIGN!$H$21","v":682.20940345388624},0.70699117609435047,44.789803730119878]
[{"$f":"A64-(($A$5-BASIN_DESIGN!$C$27)/100)","v":0.95999999999999575},{"$f":"A65-BASIN_DESIGN!$C$27","v":0.85999999999999577},{"$f":"'STAGE-STORAGE'!$B$104+(2*A65*BASIN_DESIGN!$C$26)","v":224.18106289866373},{"$f":"'STAGE-STORAGE'!$C$104+(2*A65*BASIN_DESIGN!$C$26)","v":99.974501771054008},22412.390069799225,481.41698303187684,{"$f":"(1/6)*(A65)*(C65*D65+(C65+'STAGE-STORAGE'!$B$104)*(D65+'STAGE-STORAGE'!$C$104)+('STAGE-STORAGE'!$B$104*'STAGE-STORAGE'!$C$104))","v":20630.285993808331},{"$f":"BASIN_DESIGN!$H$21","v":682.20940345388624},0.70567333225628581,45.495477062376168]
[{"$f":"A65-(($A$5-BASIN_DESIGN!$C$27)/100)","v":0.93849999999999578},{"$f":"A66-BASIN_DESIGN!$C$27","v":0.8384999999999958},{"$f":"'STAGE-STORAGE'!$B$104+(2*A66*BASIN_DESIGN!$C$26)","v":224.05206289866373},{"$f":"'STAGE-STORAGE'!$C$104+(2*A66*BASIN_DESIGN!$C$26)","v":99.845501771054003},22370.590642956831,480.51865313626536,{"$f":"(1/6)*(A66)*(C66*D66+(C66+'STAGE-STORAGE'!$B$104)*(D66+'STAGE-STORAGE'!$C$104)+('STAGE-STORAGE'!$B$104*'STAGE-STORAGE'!$C$104))","v":20148.869010776456},{"$f":"BASIN_DESIGN!$H$21","v":682.20940345388624},0.70435653730877645,46.199833599684943]
[{"$f":"A66-(($A$5-BASIN_DESIGN!$C$27)/100)","v":0.91699999999999582},{"$f":"A67-BASIN_DESIGN!$C$27","v":0.81699999999999584},{"$f":"'STAGE-STORAGE'!$B$104+(2*A67*BASIN_DESIGN!$C$26)","v":223.92306289866374},{"$f":"'STAGE-STORAGE'!$C$104+(2*A67*BASIN_DESIGN!$C$26)","v":99.716501771054013},22328.824498114442,479.62103880365396,{"$f":"(1/6)*(A67)*(C67*D67+(C67+'STAGE-STORAGE'!$B$104)*(D67+'STAGE-STORAGE'!$C$104)+('STAGE-STORAGE'!$B$104*'STAGE-STORAGE'!$C$104))","v":19668.350357640189},{"$f":"BASIN_DESIGN!$H$21","v":682.20940345388624},0.70304079125182251,46.902874390936766]
[{"$f":"A67-(($A$5-BASIN_DESIGN!$C$27)/100)","v":0.89549999999999585},{"$f":"A68-BASIN_DESIGN!$C$27","v":0.79549999999999588},{"$f":"'STAGE-STORAGE'!$B$104+(2*A68*BASIN_DESIGN!$C$26)","v":223.79406289866373},{"$f":"'STAGE-STORAGE'!$C$104+(2*A68*BASIN_DESIGN!$C$26)","v":99.587501771054008},22287.091635272045,478.72414003404248,{"$f":"(1/6)*(A68)*(C68*D68+(C68+'STAGE-STORAGE'!$B$104)*(D68+'STAGE-STORAGE'!$C$104)+('STAGE-STORAGE'!$B$104*'STAGE-STORAGE'!$C$104))","v":19188.729318836533},{"$f":"BASIN_DESIGN!$H$21","v":682.20940345388624},0.70172609408542364,47.604600485022189]
[{"$f":"A68-(($A$5-BASIN_DESIGN!$C$27)/100)","v":0.87399999999999589},{"$f":"A69-BASIN_DESIGN!$C$27","v":0.77399999999999591},{"$f":"'STAGE-STORAGE'!$B$104+(2*A69*BASIN_DESIGN!$C$26)","v":223.66506289866373},{"$f":"'STAGE-STORAGE'!$C$104+(2*A69*BASIN_DESIGN!$C$26)","v":99.458501771054003},22245.392054429652,477.82795682743097,{"$f":"(1/6)*(A69)*(C69*D69+(C69+'STAGE-STORAGE'!$B$104)*(D69+'STAGE-STORAGE'!$C$104)+('STAGE-STORAGE'!$B$104*'STAGE-STORAGE'!$C$104))","v":18710.005178802494},{"$f":"BASIN_DESIGN!$H$21","v":682.20940345388624},0.70041244580957995,48.305012930831772]
[{"$f":"A69-(($A$5-BASIN_DESIGN!$C$27)/100)","v":0.85249999999999593},{"$f":"A70-BASIN_DESIGN!$C$27","v":0.75249999999999595},{"$f":"'STAGE-STORAGE'!$B$104+(2*A70*BASIN_DESIGN!$C$26)","v":223.53606289866374},{"$f":"'STAGE-STORAGE'!$C$104+(2*A70*BASIN_DESIGN!$C$26)","v":99.329501771054012},{"$f":"C70*D70","v":22203.72575558726},{"$f":"(1/6)*(A70-A71)*((D70*C70)+(D70+D71)*(C70+C71)+(C71*D71))","v":476.9324891838196},{"$f":"(1/6)*(A70)*(C70*D70+(C70+'STAGE-STORAGE'!$B$104)*(D70+'STAGE-STORAGE'!$C$104)+('STAGE-STORAGE'!$B$104*'STAGE-STORAGE'!$C$104))","v":18232.177221975067},{"$f":"BASIN_DESIGN!$H$21","v":682.20940345388624},{"$f":"F70/H70","v":0.69909984642429179},{"$f":"F70/H70+J69","v":49.004112777256061}]
[{"$f":"A70-(($A$5-BASIN_DESIGN!$C$27)/100)","v":0.83099999999999596},{"$f":"A71-BASIN_DESIGN!$C$27","v":0.73099999999999599},{"$f":"'STAGE-STORAGE'!$B$104+(2*A71*BASIN_DESIGN!$C$26)","v":223.40706289866375},{"$f":"'STAGE-STORAGE'!$C$104+(2*A71*BASIN_DESIGN!$C$26)","v":99.200501771054007},22162.092738744868,476.03773710320803,{"$f":"(1/6)*(A71)*(C71*D71+(C71+'STAGE-STORAGE'!$B$104)*(D71+'STAGE-STORAGE'!$C$104)+('STAGE-STORAGE'!$B$104*'STAGE-STORAGE'!$C$104))","v":17755.244732791245},{"$f":"BASIN_DESIGN!$H$21","v":682.20940345388624},0.6977882959295586,49.701901073185617]
[{"$f":"A71-(($A$5-BASIN_DESIGN!$C$27)/100)","v":0.809499999999996},{"$f":"A72-BASIN_DESIGN!$C$27","v":0.70949999999999602},{"$f":"'STAGE-STORAGE'!$B$104+(2*A72*BASIN_DESIGN!$C$26)","v":223.27806289866373},{"$f":"'STAGE-STORAGE'!$C$104+(2*A72*BASIN_DESIGN!$C$26)","v":99.071501771054002},22120.493003902469,475.14370058559655,{"$f":"(1/6)*(A72)*(C72*D72+(C72+'STAGE-STORAGE'!$B$104)*(D72+'STAGE-STORAGE'!$C$104)+('STAGE-STORAGE'!$B$104*'STAGE-STORAGE'!$C$104))","v":17279.206995688037},{"$f":"BASIN_DESIGN!$H$21","v":682.20940345388624},0.69647779432538082,50.398378867510999]
[{"$f":"A72-(($A$5-BASIN_DESIGN!$C$27)/100)","v":0.78799999999999604},{"$f":"A73-BASIN_DESIGN!$C$27","v":0.68799999999999606},{"$f":"'STAGE-STORAGE'!$B$104+(2*A73*BASIN_DESIGN!$C$26)","v":223.14906289866374},{"$f":"'STAGE-STORAGE'!$C$104+(2*A73*BASIN_DESIGN!$C$26)","v":98.942501771054012},22078.926551060082,474.25037963098526,{"$f":"(1/6)*(A73)*(C73*D73+(C73+'STAGE-STORAGE'!$B$104)*(D73+'STAGE-STORAGE'!$C$104)+('STAGE-STORAGE'!$B$104*'STAGE-STORAGE'!$C$104))","v":16804.063295102438},{"$f":"BASIN_DESIGN!$H$21","v":682.20940345388624},0.69516834161175867,51.093547209122761]
[{"$f":"A73-(($A$5-BASIN_DESIGN!$C$27)/100)","v":0.76649999999999607},{"$f":"A74-BASIN_DESIGN!$C$27","v":0.6664999999999961},{"$f":"'STAGE-STORAGE'!$B$104+(2*A74*BASIN_DESIGN!$C$26)","v":223.02006289866375},{"$f":"'STAGE-STORAGE'!$C$104+(2*A74*BASIN_DESIGN!$C$26)","v":98.813501771054007},22037.393380217687,473.35777423937373,{"$f":"(1/6)*(A74)*(C74*D74+(C74+'STAGE-STORAGE'!$B$104)*(D74+'STAGE-STORAGE'!$C$104)+('STAGE-STORAGE'!$B$104*'STAGE-STORAGE'!$C$104))","v":16329.812915471453},{"$f":"BASIN_DESIGN!$H$21","v":682.20940345388624},0.69385993778869137,51.787407146911455]
[{"$f":"A74-(($A$5-BASIN_DESIGN!$C$27)/100)","v":0.74499999999999611},{"$f":"A75-BASIN_DESIGN!$C$27","v":0.64499999999999613},{"$f":"'STAGE-STORAGE'!$B$104+(2*A75*BASIN_DESIGN!$C$26)","v":222.89106289866373},{"$f":"'STAGE-STORAGE'!$C$104+(2*A75*BASIN_DESIGN!$C$26)","v":98.684501771054002},21995.893491375289,472.46588441076221,{"$f":"(1/6)*(A75)*(C75*D75+(C75+'STAGE-STORAGE'!$B$104)*(D75+'STAGE-STORAGE'!$C$104)+('STAGE-STORAGE'!$B$104*'STAGE-STORAGE'!$C$104))","v":15856.45514123208},{"$f":"BASIN_DESIGN!$H$21","v":682.20940345388624},0.69255258285617927,52.479959729767636]
[{"$f":"A75-(($A$5-BASIN_DESIGN!$C$27)/100)","v":0.72349999999999615},{"$f":"A76-BASIN_DESIGN!$C$27","v":0.62349999999999617},{"$f":"'STAGE-STORAGE'!$B$104+(2*A76*BASIN_DESIGN!$C$26)","v":222.76206289866374},{"$f":"'STAGE-STORAGE'!$C$104+(2*A76*BASIN_DESIGN!$C$26)","v":98.555501771054011},21954.426884532899,471.57471014515085,{"$f":"(1/6)*(A76)*(C76*D76+(C76+'STAGE-STORAGE'!$B$104)*(D76+'STAGE-STORAGE'!$C$104)+('STAGE-STORAGE'!$B$104*'STAGE-STORAGE'!$C$104))","v":15383.98925682132},{"$f":"BASIN_DESIGN!$H$21","v":682.20940345388624},0.69124627681422279,53.171206006581862]
[{"$f":"A76-(($A$5-BASIN_DESIGN!$C$27)/100)","v":0.70199999999999618},{"$f":"A77-BASIN_DESIGN!$C$27","v":0.6019999999999962},{"$f":"'STAGE-STORAGE'!$B$104+(2*A77*BASIN_DESIGN!$C$26)","v":222.63306289866375},{"$f":"'STAGE-STORAGE'!$C$104+(2*A77*BASIN_DESIGN!$C$26)","v":98.426501771054006},21912.993559690505,470.68425144253928,{"$f":"(1/6)*(A77)*(C77*D77+(C77+'STAGE-STORAGE'!$B$104)*(D77+'STAGE-STORAGE'!$C$104)+('STAGE-STORAGE'!$B$104*'STAGE-STORAGE'!$C$104))","v":14912.414546676167},{"$f":"BASIN_DESIGN!$H$21","v":682.20940345388624},0.68994101966282129,53.86114702624468]
[{"$f":"A77-(($A$5-BASIN_DESIGN!$C$27)/100)","v":0.68049999999999622},{"$f":"A78-BASIN_DESIGN!$C$27","v":0.58049999999999624},{"$f":"'STAGE-STORAGE'!$B$104+(2*A78*BASIN_DESIGN!$C$26)","v":222.50406289866373},{"$f":"'STAGE-STORAGE'!$C$104+(2*A78*BASIN_DESIGN!$C$26)","v":98.297501771054016},21871.593516848112,469.7945083029278,{"$f":"(1/6)*(A78)*(C78*D78+(C78+'STAGE-STORAGE'!$B$104)*(D78+'STAGE-STORAGE'!$C$104)+('STAGE-STORAGE'!$B$104*'STAGE-STORAGE'!$C$104))","v":14441.730295233629},{"$f":"BASIN_DESIGN!$H$21","v":682.20940345388624},0.68863681140197508,54.549783837646658]
[{"$f":"A78-(($A$5-BASIN_DESIGN!$C$27)/100)","v":0.65899999999999626},{"$f":"A79-BASIN_DESIGN!$C$27","v":0.55899999999999628},{"$f":"'STAGE-STORAGE'!$B$104+(2*A79*BASIN_DESIGN!$C$26)","v":222.37506289866374},{"$f":"'STAGE-STORAGE'!$C$104+(2*A79*BASIN_DESIGN!$C$26)","v":98.168501771054011},21830.226756005719,468.90548072631651,{"$f":"(1/6)*(A79)*(C79*D79+(C79+'STAGE-STORAGE'!$B$104)*(D79+'STAGE-STORAGE'!$C$104)+('STAGE-STORAGE'!$B$104*'STAGE-STORAGE'!$C$104))","v":13971.9357869307},{"$f":"BASIN_DESIGN!$H$21","v":682.20940345388624},0.68733365203168451,55.23711748967834]
[{"$f":"A79-(($A$5-BASIN_DESIGN!$C$27)/100)","v":0.63749999999999629},{"$f":"A80-BASIN_DESIGN!$C$27","v":0.53749999999999631},{"$f":"'STAGE-STORAGE'!$B$104+(2*A80*BASIN_DESIGN!$C$26)","v":222.24606289866375},{"$f":"'STAGE-STORAGE'!$C$104+(2*A80*BASIN_DESIGN!$C$26)","v":98.039501771054006},21788.893277163326,468.01716871270497,{"$f":"(1/6)*(A80)*(C80*D80+(C80+'STAGE-STORAGE'!$B$104)*(D80+'STAGE-STORAGE'!$C$104)+('STAGE-STORAGE'!$B$104*'STAGE-STORAGE'!$C$104))","v":13503.030306204382},{"$f":"BASIN_DESIGN!$H$21","v":682.20940345388624},0.68603154155194879,55.923149031230288]
[{"$f":"A80-(($A$5-BASIN_DESIGN!$C$27)/100)","v":0.61599999999999633},{"$f":"A81-BASIN_DESIGN!$C$27","v":0.51599999999999635},{"$f":"'STAGE-STORAGE'!$B$104+(2*A81*BASIN_DESIGN!$C$26)","v":222.11706289866373},{"$f":"'STAGE-STORAGE'!$C$104+(2*A81*BASIN_DESIGN!$C$26)","v":97.910501771054015},21747.59308032093,467.1295722620934,{"$f":"(1/6)*(A81)*(C81*D81+(C81+'STAGE-STORAGE'!$B$104)*(D81+'STAGE-STORAGE'!$C$104)+('STAGE-STORAGE'!$B$104*'STAGE-STORAGE'!$C$104))","v":13035.01313749168},{"$f":"BASIN_DESIGN!$H$21","v":682.20940345388624},0.68473047996276837,56.607879511193055]
[{"$f":"A81-(($A$5-BASIN_DESIGN!$C$27)/100)","v":0.59449999999999636},{"$f":"A82-BASIN_DESIGN!$C$27","v":0.49449999999999639},{"$f":"'STAGE-STORAGE'!$B$104+(2*A82*BASIN_DESIGN!$C$26)","v":221.98806289866374},{"$f":"'STAGE-STORAGE'!$C$104+(2*A82*BASIN_DESIGN!$C$26)","v":97.78150177105401},21706.326165478538,466.24269137448209,{"$f":"(1/6)*(A82)*(C82*D82+(C82+'STAGE-STORAGE'!$B$104)*(D82+'STAGE-STORAGE'!$C$104)+('STAGE-STORAGE'!$B$104*'STAGE-STORAGE'!$C$104))","v":12567.883565229586},{"$f":"BASIN_DESIGN!$H$21","v":682.20940345388624},0.68343046726414358,57.2913099784572]
[{"$f":"A82-(($A$5-BASIN_DESIGN!$C$27)/100)","v":0.5729999999999964},{"$f":"A83-BASIN_DESIGN!$C$27","v":0.47299999999999642},{"$f":"'STAGE-STORAGE'!$B$104+(2*A83*BASIN_DESIGN!$C$26)","v":221.85906289866375},{"$f":"'STAGE-STORAGE'!$C$104+(2*A83*BASIN_DESIGN!$C$26)","v":97.652501771054006},21665.092532636143,465.35652604987058,{"$f":"(1/6)*(A83)*(C83*D83+(C83+'STAGE-STORAGE'!$B$104)*(D83+'STAGE-STORAGE'!$C$104)+('STAGE-STORAGE'!$B$104*'STAGE-STORAGE'!$C$104))","v":12101.640873855104},{"$f":"BASIN_DESIGN!$H$21","v":682.20940345388624},0.68213150345607365,57.973441481913277]
[{"$f":"A83-(($A$5-BASIN_DESIGN!$C$27)/100)","v":0.55149999999999644},{"$f":"A84-BASIN_DESIGN!$C$27","v":0.45149999999999646},{"$f":"'STAGE-STORAGE'!$B$104+(2*A84*BASIN_DESIGN!$C$26)","v":221.73006289866373},{"$f":"'STAGE-STORAGE'!$C$104+(2*A84*BASIN_DESIGN!$C$26)","v":97.523501771054015},21623.892181793752,464.4710762882591,{"$f":"(1/6)*(A84)*(C84*D84+(C84+'STAGE-STORAGE'!$B$104)*(D84+'STAGE-STORAGE'!$C$104)+('STAGE-STORAGE'!$B$104*'STAGE-STORAGE'!$C$104))","v":11636.284347805233},{"$f":"BASIN_DESIGN!$H$21","v":682.20940345388624},0.68083358853855913,58.654275070451838]
[{"$f":"A84-(($A$5-BASIN_DESIGN!$C$27)/100)","v":0.52999999999999647},{"$f":"A85-BASIN_DESIGN!$C$27","v":0.4299999999999965},{"$f":"'STAGE-STORAGE'!$B$104+(2*A85*BASIN_DESIGN!$C$26)","v":221.60106289866374},{"$f":"'STAGE-STORAGE'!$C$104+(2*A85*BASIN_DESIGN!$C$26)","v":97.39450177105401},21582.725112951357,463.58634208964764,{"$f":"(1/6)*(A85)*(C85*D85+(C85+'STAGE-STORAGE'!$B$104)*(D85+'STAGE-STORAGE'!$C$104)+('STAGE-STORAGE'!$B$104*'STAGE-STORAGE'!$C$104))","v":11171.813271516974},{"$f":"BASIN_DESIGN!$H$21","v":682.20940345388624},0.67953672251160002,59.333811792963438]
[{"$f":"A85-(($A$5-BASIN_DESIGN!$C$27)/100)","v":0.50849999999999651},{"$f":"A86-BASIN_DESIGN!$C$27","v":0.40849999999999653},{"$f":"'STAGE-STORAGE'!$B$104+(2*A86*BASIN_DESIGN!$C$26)","v":221.47206289866375},{"$f":"'STAGE-STORAGE'!$C$104+(2*A86*BASIN_DESIGN!$C$26)","v":97.265501771054005},21541.591326108963,462.7023234540373,{"$f":"(1/6)*(A86)*(C86*D86+(C86+'STAGE-STORAGE'!$B$104)*(D86+'STAGE-STORAGE'!$C$104)+('STAGE-STORAGE'!$B$104*'STAGE-STORAGE'!$C$104))","v":10708.226929427326},{"$f":"BASIN_DESIGN!$H$21","v":682.20940345388624},0.67824090537519766,60.012052698338636]
[{"$f":"A86-(($A$5-BASIN_DESIGN!$C$27)/100)","v":0.48699999999999649},{"$f":"A87-BASIN_DESIGN!$C$27","v":0.38699999999999646},{"$f":"'STAGE-STORAGE'!$B$104+(2*A87*BASIN_DESIGN!$C$26)","v":221.34306289866373},{"$f":"'STAGE-STORAGE'!$C$104+(2*A87*BASIN_DESIGN!$C$26)","v":97.136501771054014},21500.490821266569,461.81902038142584,{"$f":"(1/6)*(A87)*(C87*D87+(C87+'STAGE-STORAGE'!$B$104)*(D87+'STAGE-STORAGE'!$C$104)+('STAGE-STORAGE'!$B$104*'STAGE-STORAGE'!$C$104))","v":10245.524605973291},{"$f":"BASIN_DESIGN!$H$21","v":682.20940345388624},0.67694613712934903,60.688998835467984]
[{"$f":"A87-(($A$5-BASIN_DESIGN!$C$27)/100)","v":0.46549999999999647},{"$f":"A88-BASIN_DESIGN!$C$27","v":0.36549999999999649},{"$f":"'STAGE-STORAGE'!$B$104+(2*A88*BASIN_DESIGN!$C$26)","v":221.21406289866374},{"$f":"'STAGE-STORAGE'!$C$104+(2*A88*BASIN_DESIGN!$C$26)","v":97.00750177105401},21459.423598424175,460.93643287181447,{"$f":"(1/6)*(A88)*(C88*D88+(C88+'STAGE-STORAGE'!$B$104)*(D88+'STAGE-STORAGE'!$C$104)+('STAGE-STORAGE'!$B$104*'STAGE-STORAGE'!$C$104))","v":9783.7055855918643},{"$f":"BASIN_DESIGN!$H$21","v":682.20940345388624},0.67565241777405571,61.364651253242037]
[{"$f":"A88-(($A$5-BASIN_DESIGN!$C$27)/100)","v":0.44399999999999645},{"$f":"A89-BASIN_DESIGN!$C$27","v":0.34399999999999642},{"$f":"'STAGE-STORAGE'!$B$104+(2*A89*BASIN_DESIGN!$C$26)","v":221.08506289866375},{"$f":"'STAGE-STORAGE'!$C$104+(2*A89*BASIN_DESIGN!$C$26)","v":96.878501771054005},21418.389657581782,460.05456092520296,{"$f":"(1/6)*(A89)*(C89*D89+(C89+'STAGE-STORAGE'!$B$104)*(D89+'STAGE-STORAGE'!$C$104)+('STAGE-STORAGE'!$B$104*'STAGE-STORAGE'!$C$104))","v":9322.7691527200477},{"$f":"BASIN_DESIGN!$H$21","v":682.20940345388624},0.67435974730931747,62.039011000551355]
[{"$f":"A89-(($A$5-BASIN_DESIGN!$C$27)/100)","v":0.42249999999999643},{"$f":"A90-BASIN_DESIGN!$C$27","v":0.32249999999999646},{"$f":"'STAGE-STORAGE'!$B$104+(2*A90*BASIN_DESIGN!$C$26)","v":220.95606289866373},{"$f":"'STAGE-STORAGE'!$C$104+(2*A90*BASIN_DESIGN!$C$26)","v":96.749501771054014},21377.388998739389,459.17340454159148,{"$f":"(1/6)*(A90)*(C90*D90+(C90+'STAGE-STORAGE'!$B$104)*(D90+'STAGE-STORAGE'!$C$104)+('STAGE-STORAGE'!$B$104*'STAGE-STORAGE'!$C$104))","v":8862.7145917948474},{"$f":"BASIN_DESIGN!$H$21","v":682.20940345388624},0.67306812573513464,62.71207912628649]
[{"$f":"A90-(($A$5-BASIN_DESIGN!$C$27)/100)","v":0.40099999999999641},{"$f":"A91-BASIN_DESIGN!$C$27","v":0.30099999999999638},{"$f":"'STAGE-STORAGE'!$B$104+(2*A91*BASIN_DESIGN!$C$26)","v":220.82706289866374},{"$f":"'STAGE-STORAGE'!$C$104+(2*A91*BASIN_DESIGN!$C$26)","v":96.620501771054009},21336.421621896996,458.29296372098008,{"$f":"(1/6)*(A91)*(C91*D91+(C91+'STAGE-STORAGE'!$B$104)*(D91+'STAGE-STORAGE'!$C$104)+('STAGE-STORAGE'!$B$104*'STAGE-STORAGE'!$C$104))","v":8403.541187253255},{"$f":"BASIN_DESIGN!$H$21","v":682.20940345388624},0.6717775530515071,63.383856679337995]
[{"$f":"A91-(($A$5-BASIN_DESIGN!$C$27)/100)","v":0.3794999999999964},{"$f":"A92-BASIN_DESIGN!$C$27","v":0.27949999999999642},{"$f":"'STAGE-STORAGE'!$B$104+(2*A92*BASIN_DESIGN!$C$26)","v":220.69806289866375},{"$f":"'STAGE-STORAGE'!$C$104+(2*A92*BASIN_DESIGN!$C$26)","v":96.491501771054004},21295.4875270546,457.4132384633686,{"$f":"(1/6)*(A92)*(C92*D92+(C92+'STAGE-STORAGE'!$B$104)*(D92+'STAGE-STORAGE'!$C$104)+('STAGE-STORAGE'!$B$104*'STAGE-STORAGE'!$C$104))","v":7945.2482235322732},{"$f":"BASIN_DESIGN!$H$21","v":682.20940345388624},0.67048802925843476,64.054344708596432]
[{"$f":"A92-(($A$5-BASIN_DESIGN!$C$27)/100)","v":0.35799999999999638},{"$f":"A93-BASIN_DESIGN!$C$27","v":0.25799999999999634},{"$f":"'STAGE-STORAGE'!$B$104+(2*A93*BASIN_DESIGN!$C$26)","v":220.56906289866373},{"$f":"'STAGE-STORAGE'!$C$104+(2*A93*BASIN_DESIGN!$C$26)","v":96.362501771054013},21254.586714212208,456.53422876875709,{"$f":"(1/6)*(A93)*(C93*D93+(C93+'STAGE-STORAGE'!$B$104)*(D93+'STAGE-STORAGE'!$C$104)+('STAGE-STORAGE'!$B$104*'STAGE-STORAGE'!$C$104))","v":7487.8349850689065},{"$f":"BASIN_DESIGN!$H$21","v":682.20940345388624},0.6691995543559176,64.723544262952345]
[{"$f":"A93-(($A$5-BASIN_DESIGN!$C$27)/100)","v":0.33649999999999636},{"$f":"A94-BASIN_DESIGN!$C$27","v":0.23649999999999635},{"$f":"'STAGE-STORAGE'!$B$104+(2*A94*BASIN_DESIGN!$C$26)","v":220.44006289866374},{"$f":"'STAGE-STORAGE'!$C$104+(2*A94*BASIN_DESIGN!$C$26)","v":96.233501771054009},21213.719183369813,455.65593463714572,{"$f":"(1/6)*(A94)*(C94*D94+(C94+'STAGE-STORAGE'!$B$104)*(D94+'STAGE-STORAGE'!$C$104)+('STAGE-STORAGE'!$B$104*'STAGE-STORAGE'!$C$104))","v":7031.3007563001493},{"$f":"BASIN_DESIGN!$H$21","v":682.20940345388624},0.66791212834395597,65.391456391296302]
[{"$f":"A94-(($A$5-BASIN_DESIGN!$C$27)/100)","v":0.31499999999999634},{"$f":"A95-BASIN_DESIGN!$C$27","v":0.21499999999999633},{"$f":"'STAGE-STORAGE'!$B$104+(2*A95*BASIN_DESIGN!$C$26)","v":220.31106289866375},{"$f":"'STAGE-STORAGE'!$C$104+(2*A95*BASIN_DESIGN!$C$26)","v":96.104501771054004},21172.884934527421,454.77835606853421,{"$f":"(1/6)*(A95)*(C95*D95+(C95+'STAGE-STORAGE'!$B$104)*(D95+'STAGE-STORAGE'!$C$104)+('STAGE-STORAGE'!$B$104*'STAGE-STORAGE'!$C$104))","v":6575.6448216630033},{"$f":"BASIN_DESIGN!$H$21","v":682.20940345388624},0.66662575122254941,66.058082142518856]
[{"$f":"A95-(($A$5-BASIN_DESIGN!$C$27)/100)","v":0.29349999999999632},{"$f":"A96-BASIN_DESIGN!$C$27","v":0.19349999999999631},{"$f":"'STAGE-STORAGE'!$B$104+(2*A96*BASIN_DESIGN!$C$26)","v":220.18206289866373},{"$f":"'STAGE-STORAGE'!$C$104+(2*A96*BASIN_DESIGN!$C$26)","v":95.975501771054013},21132.083967685026,453.90149306292267,{"$f":"(1/6)*(A96)*(C96*D96+(C96+'STAGE-STORAGE'!$B$104)*(D96+'STAGE-STORAGE'!$C$104)+('STAGE-STORAGE'!$B$104*'STAGE-STORAGE'!$C$104))","v":6120.8664655944704},{"$f":"BASIN_DESIGN!$H$21","v":682.20940345388624},0.66534042299169804,66.72342256551056]
[{"$f":"A96-(($A$5-BASIN_DESIGN!$C$27)/100)","v":0.2719999999999963},{"$f":"A97-BASIN_DESIGN!$C$27","v":0.17199999999999629},{"$f":"'STAGE-STORAGE'!$B$104+(2*A97*BASIN_DESIGN!$C$26)","v":220.05306289866374},{"$f":"'STAGE-STORAGE'!$C$104+(2*A97*BASIN_DESIGN!$C$26)","v":95.846501771054008},21091.316282842632,453.02534562031127,{"$f":"(1/6)*(A97)*(C97*D97+(C97+'STAGE-STORAGE'!$B$104)*(D97+'STAGE-STORAGE'!$C$104)+('STAGE-STORAGE'!$B$104*'STAGE-STORAGE'!$C$104))","v":5666.9649725315458},{"$f":"BASIN_DESIGN!$H$21","v":682.20940345388624},0.6640561436514022,67.387478709161968]
[{"$f":"A97-(($A$5-BASIN_DESIGN!$C$27)/100)","v":0.25049999999999628},{"$f":"A98-BASIN_DESIGN!$C$27","v":0.15049999999999628},{"$f":"'STAGE-STORAGE'!$B$104+(2*A98*BASIN_DESIGN!$C$26)","v":219.92406289866375},{"$f":"'STAGE-STORAGE'!$C$104+(2*A98*BASIN_DESIGN!$C$26)","v":95.717501771054003},21050.581880000238,452.14991374069922,{"$f":"(1/6)*(A98)*(C98*D98+(C98+'STAGE-STORAGE'!$B$104)*(D98+'STAGE-STORAGE'!$C$104)+('STAGE-STORAGE'!$B$104*'STAGE-STORAGE'!$C$104))","v":5213.9396269112358},{"$f":"BASIN_DESIGN!$H$21","v":682.20940345388624},0.66277291320166065,68.050251622363632]
[{"$f":"A98-(($A$5-BASIN_DESIGN!$C$27)/100)","v":0.22899999999999629},{"$f":"A99-BASIN_DESIGN!$C$27","v":0.12899999999999628},{"$f":"'STAGE-STORAGE'!$B$104+(2*A99*BASIN_DESIGN!$C$26)","v":219.79506289866373},{"$f":"'STAGE-STORAGE'!$C$104+(2*A99*BASIN_DESIGN!$C$26)","v":95.588501771054013},21009.880759157844,451.27519742408765,{"$f":"(1/6)*(A99)*(C99*D99+(C99+'STAGE-STORAGE'!$B$104)*(D99+'STAGE-STORAGE'!$C$104)+('STAGE-STORAGE'!$B$104*'STAGE-STORAGE'!$C$104))","v":4761.7897131705358},{"$f":"BASIN_DESIGN!$H$21","v":682.20940345388624},0.66149073164247507,68.711742354006105]
[{"$f":"A99-(($A$5-BASIN_DESIGN!$C$27)/100)","v":0.2074999999999963},{"$f":"A100-BASIN_DESIGN!$C$27","v":0.10749999999999629},{"$f":"'STAGE-STORAGE'!$B$104+(2*A100*BASIN_DESIGN!$C$26)","v":219.66606289866374},{"$f":"'STAGE-STORAGE'!$C$104+(2*A100*BASIN_DESIGN!$C$26)","v":95.459501771054008},20969.212920315451,450.40119667047634,{"$f":"(1/6)*(A100)*(C100*D100+(C100+'STAGE-STORAGE'!$B$104)*(D100+'STAGE-STORAGE'!$C$104)+('STAGE-STORAGE'!$B$104*'STAGE-STORAGE'!$C$104))","v":4310.5145157464485},{"$f":"BASIN_DESIGN!$H$21","v":682.20940345388624},0.66020959897384512,69.371951952979956]
[{"$f":"A100-(($A$5-BASIN_DESIGN!$C$27)/100)","v":0.18599999999999631},{"$f":"A101-BASIN_DESIGN!$C$27","v":8.5999999999996302E-2},{"$f":"'STAGE-STORAGE'!$B$104+(2*A101*BASIN_DESIGN!$C$26)","v":219.53706289866375},{"$f":"'STAGE-STORAGE'!$C$104+(2*A101*BASIN_DESIGN!$C$26)","v":95.330501771054003},20928.578363473058,449.52791147986483,{"$f":"(1/6)*(A101)*(C101*D101+(C101+'STAGE-STORAGE'!$B$104)*(D101+'STAGE-STORAGE'!$C$104)+('STAGE-STORAGE'!$B$104*'STAGE-STORAGE'!$C$104))","v":3860.1133190759715},{"$f":"BASIN_DESIGN!$H$21","v":682.20940345388624},0.65892951519577014,70.030881468175721]
[{"$f":"A101-(($A$5-BASIN_DESIGN!$C$27)/100)","v":0.16449999999999632},{"$f":"A102-BASIN_DESIGN!$C$27","v":6.449999999999631E-2},{"$f":"'STAGE-STORAGE'!$B$104+(2*A102*BASIN_DESIGN!$C$26)","v":219.40806289866373},{"$f":"'STAGE-STORAGE'!$C$104+(2*A102*BASIN_DESIGN!$C$26)","v":95.201501771054012},20887.977088630665,448.65534185225334,{"$f":"(1/6)*(A102)*(C102*D102+(C102+'STAGE-STORAGE'!$B$104)*(D102+'STAGE-STORAGE'!$C$104)+('STAGE-STORAGE'!$B$104*'STAGE-STORAGE'!$C$104))","v":3410.5854075961074},{"$f":"BASIN_DESIGN!$H$21","v":682.20940345388624},0.65765048030825046,70.68853194848397]
[{"$f":"A102-(($A$5-BASIN_DESIGN!$C$27)/100)","v":0.14299999999999632},{"$f":"A103-BASIN_DESIGN!$C$27","v":4.2999999999996319E-2},{"$f":"'STAGE-STORAGE'!$B$104+(2*A103*BASIN_DESIGN!$C$26)","v":219.27906289866374},{"$f":"'STAGE-STORAGE'!$C$104+(2*A103*BASIN_DESIGN!$C$26)","v":95.072501771054007},20847.409095788273,447.78348778764195,{"$f":"(1/6)*(A103)*(C103*D103+(C103+'STAGE-STORAGE'!$B$104)*(D103+'STAGE-STORAGE'!$C$104)+('STAGE-STORAGE'!$B$104*'STAGE-STORAGE'!$C$104))","v":2961.9300657438539},{"$f":"BASIN_DESIGN!$H$21","v":682.20940345388624},0.6563724943112863,71.344904442795254]
[{"$f":"A103-(($A$5-BASIN_DESIGN!$C$27)/100)","v":0.12149999999999633},{"$f":"A104-BASIN_DESIGN!$C$27","v":2.1499999999996328E-2},{"$f":"'STAGE-STORAGE'!$B$104+(2*A104*BASIN_DESIGN!$C$26)","v":219.15006289866375},{"$f":"'STAGE-STORAGE'!$C$104+(2*A104*BASIN_DESIGN!$C$26)","v":94.943501771054017},20806.874384945881,446.91234928603046,{"$f":"(1/6)*(A104)*(C104*D104+(C104+'STAGE-STORAGE'!$B$104)*(D104+'STAGE-STORAGE'!$C$104)+('STAGE-STORAGE'!$B$104*'STAGE-STORAGE'!$C$104))","v":2514.1465779562118},{"$f":"BASIN_DESIGN!$H$21","v":682.20940345388624},0.65509555720487722,72.000000000000128]
[{"$f":"A104-(($A$5-BASIN_DESIGN!$C$27)/100)","v":9.9999999999996342E-2},{"$f":"A105-BASIN_DESIGN!$C$27","v":-3.6637359812630166E-15},{"$f":"'STAGE-STORAGE'!$B$104+(2*A105*BASIN_DESIGN!$C$26)","v":219.02106289866373},{"$f":"'STAGE-STORAGE'!$C$104+(2*A105*BASIN_DESIGN!$C$26)","v":94.814501771054012},20766.372956103485]
[null,null,null,null,null,null,null,null,{"$f":"SUM(I5:I104)","v":72.000000000000128}]

{"sheet":"REGULATORY","index":6,"n_rows":92,"n_cols":6,"rows_kept":92,"cut":false,"hidden":false,"merged":[[0,0,0,5],[31,2,32,2],[31,3,32,3],[31,4,32,4],[31,0,32,0]]}
["Regulatory Guidance"]
[null,null,"ALDOT","AL-SWCC","NCDOT","NONE"]
["Storage Sizing"]
["Volume Design Storm Event ",null,"2-yr, 24-hr","-","-","-"]
["Spillway Design Storm Event",null,"10-yr, 24-hr","10-yr, 24-hr","10-yr, 24-hr","-"]
["Min. Volume Requirement",{"$f":"IF(BASIN_DESIGN!$C$11=\"SI\", \"m³/ha\",\"ft³/ac\")","v":"ft³/ac"},{"$f":"IF(BASIN_DESIGN!$C$11=\"SI\",251.9,3600)","v":3600},{"$f":"IF(BASIN_DESIGN!$C$11=\"SI\",251.9,3600)","v":3600},{"$f":"IF(BASIN_DESIGN!$C$11=\"SI\",125.95,1800)","v":1800},"-"]
["Min. Surface Area Requirement",{"$f":"IF(BASIN_DESIGN!$C$11=\"SI\", \"m²/m³\",\"ft²/ft³\")","v":"ft²/ft³"},"-",435,325,"-"]
["Max. Contributing Drainage Area",{"$f":"IF(BASIN_DESIGN!$C$11=\"SI\",\"ha\",\"ac\")","v":"ac"},{"$f":"IF(BASIN_DESIGN!$C$11=\"SI\",4.05,10)","v":10},{"$f":"IF(BASIN_DESIGN!$C$11=\"SI\",40.5,100)","v":100},{"$f":"IF(BASIN_DESIGN!$C$11=\"SI\",4.05,10)","v":10},"-"]
["Recommended Drainage Area",{"$f":"IF(BASIN_DESIGN!$C$11=\"SI\",\"ha\",\"ac\")","v":"ac"},{"$f":"IF(BASIN_DESIGN!$C$11=\"SI\",0.81,2)","v":2},{"$f":"IF(BASIN_DESIGN!$C$11=\"SI\",4.05,10)","v":10},"-","-"]
["Geometry"]
["Recommended L:W Ratio",{"$f":"IF(BASIN_DESIGN!$C$11=\"SI\", \"m/m\",\"ft/ft\")","v":"ft/ft"},10,"-","-","-"]
["Max. L:W Ratio",{"$f":"IF(BASIN_DESIGN!$C$11=\"SI\", \"m/m\",\"ft/ft\")","v":"ft/ft"},"-","-",6,"-"]
["Min. L:W Ratio",{"$f":"IF(BASIN_DESIGN!$C$11=\"SI\", \"m/m\",\"ft/ft\")","v":"ft/ft"},2,2,2,"-"]
["Min. Side Slopes H:V",{"$f":"IF(BASIN_DESIGN!$C$11=\"SI\", \"m/m\",\"ft/ft\")","v":"ft/ft"},3,2,1.5,"-"]
["Min. Basin Width:Depth Ratio",{"$f":"IF(BASIN_DESIGN!$C$11=\"SI\", \"m/m\",\"ft/ft\")","v":"ft/ft"},"-","-",3,"-"]
["Recommended Live Storage Depth",{"$f":"IF(BASIN_DESIGN!$C$11=\"SI\", \"m/m\",\"ft/ft\")","v":"ft/ft"},4,"-","-","-"]
["Min. Dead Storage Depth",{"$f":"IF(BASIN_DESIGN!$C$11=\"SI\", \"m\",\"ft\")","v":"ft"},0,"-",{"$f":"IF(BASIN_DESIGN!$C$11=\"SI\",0.305,1)","v":1},"-"]
["Max. Dead Storage Depth",{"$f":"IF(BASIN_DESIGN!$C$11=\"SI\", \"m\",\"ft\")","v":"ft"},{"$f":"IF(BASIN_DESIGN!$C$11=\"SI\",0.305,1)","v":1},"-","-","-"]
["Min. Total Depth",{"$f":"IF(BASIN_DESIGN!$C$11=\"SI\", \"m\",\"ft\")","v":"ft"},{"$f":"IF(BASIN_DESIGN!$C$11=\"SI\",0.61,2)","v":2},{"$f":"IF(BASIN_DESIGN!$C$11=\"SI\",0.61,2)","v":2},{"$f":"IF(BASIN_DESIGN!$C$11=\"SI\",0.61,2)","v":2},"-"]
["Max. Total Depth",{"$f":"IF(BASIN_DESIGN!$C$11=\"SI\", \"m\",\"ft\")","v":"ft"},{"$f":"IF(BASIN_DESIGN!$C$11=\"SI\",1.52,5)","v":5},"-","-","-"]
["Spillway & Surface Skimmer"]
["Recommended Spillway Length/Flow Ratio",{"$f":"IF(BASIN_DESIGN!$C$11=\"SI\", \"m/m³/s\",\"ft/ft³/s\")","v":"ft/ft³/s"},"-","-",{"$f":"1/0.4","v":2.5},"-"]
["Min. Spillway Length",{"$f":"IF(BASIN_DESIGN!$C$11=\"SI\", \"m\",\"ft\")","v":"ft"},"-",{"$f":"IF(BASIN_DESIGN!$C$11=\"SI\",3.05,10)","v":10},{"$f":"IF(BASIN_DESIGN!$C$11=\"SI\",1.22,4)","v":4},"-"]
["Freeboard above spillway flow",{"$f":"IF(BASIN_DESIGN!$C$11=\"SI\", \"m\",\"ft\")","v":"ft"},{"$f":"IF(BASIN_DESIGN!$C$11=\"SI\",0.61,2)","v":2},{"$f":"IF(BASIN_DESIGN!$C$11=\"SI\",0.305,1)","v":1},{"$f":"IF(BASIN_DESIGN!$C$11=\"SI\",0.305,1)","v":1},"-"]
["Min. Detention Time","hrs","-",48,48,"-"]
["Max. Detention Time","hrs",72,120,72,"-"]
["Baffles"]
["No. of Bays",null,4,4,4,"-"]
["Baffle T-Post Spacing",{"$f":"IF(BASIN_DESIGN!$C$11=\"SI\", \"m\",\"ft\")","v":"ft"},{"$f":"IF(BASIN_DESIGN!$C$11=\"SI\",1.22,4)","v":4},{"$f":"IF(BASIN_DESIGN!$C$11=\"SI\",3.05,10)","v":10},{"$f":"IF(BASIN_DESIGN!$C$11=\"SI\",1.22,4)","v":4},"-"]
["T-Post Stake Depth",{"$f":"IF(BASIN_DESIGN!$C$11=\"SI\", \"m\",\"ft\")","v":"ft"},{"$f":"IF(BASIN_DESIGN!$C$11=\"SI\",0.61,2)","v":2},{"$f":"IF(BASIN_DESIGN!$C$11=\"SI\",0.61,2)","v":2},{"$f":"IF(BASIN_DESIGN!$C$11=\"SI\",0.61,2)","v":2},"-"]
["Maintenance Requirements"]
["Maintenance Required When:",null,"Sediment Reaches 1/3 Height of Bay 1 Baffle","Sediment Reaches 1/2 Volume of Basin","-","-"]
[null,null,null,null,null,"-"]
["Other Notes"]
[null,null,"-","-","-","-"]
[null,null,null,null,null,"-"]
["Reference",null,"Alabama Department of Transportation [ALDOT] (2014). \"Standard Best Management Practices\". Montgomery, AL.; ALDOT (2010). \"Sedimentation Basin Recommendations\". Montgomery, AL.","Alabama Soil and Water Conservation Committee (2014). \"Alabama Handbook for Erosion Control, Sediment Control and Stormwater Management on Construction Sites and Urban Areas.\"Montgomery, AL.","North Carolina Department of Transportation (2015). \"NCDOT Erosion & Sediment Control Manual\". Raleigh, NC."]
[]
[]
[]
[]
[]
[]
[]
[]
[]
[]
[]
[]
[]
["Manual"]
["Regulatory"]
["2-Yr, 24-Hr"]
[]
["U.S."]
["SI"]
[]
[{"$f":"\"Stage (\"&B20&\")\"","v":"Stage (ft)"}]
[{"$f":"\"Storage (\"&'STAGE-STORAGE'!G3&\")\"","v":"Storage (ft/ac)"}]
[]
[{"$f":"ROUND(BASIN_DESIGN!H38,1)","v":54.6}]
[]
[]
[{"$f":"BASIN_DESIGN!C36&\" \"&BASIN_DESIGN!D36","v":"2 ft"},"freeboard"]
[{"$f":"BASIN_DESIGN!H25&\" \"&BASIN_DESIGN!I25","v":"2.25 ft"},"storage depth"]
[{"$f":"ROUND(BASIN_DESIGN!C39,2)","v":0.75},"spillway height"]
[{"$f":"A66&\" \"&BASIN_DESIGN!D39","v":"0.75 ft"},"spillway height"]
[{"$f":"BASIN_DESIGN!C35&\" \"&BASIN_DESIGN!D35","v":"10 ft"},"spillway length"]
[{"$f":"ROUND(BASIN_DESIGN!C30,0)","v":124}]
[{"$f":"A69&\" \"&BASIN_DESIGN!D30","v":"124 ft"},"top width"]
[{"$f":"ROUND(BASIN_DESIGN!H30,0)","v":76613}]
[{"$f":"A71&\" \"&BASIN_DESIGN!I30","v":"76613 ft³"},"free vol"]
[{"$f":"ROUND(BASIN_DESIGN!H28,0)","v":49119}]
[{"$f":"A73&\" \"&BASIN_DESIGN!I28","v":"49119 ft³"},"live storage"]
[{"$f":"ROUND(BASIN_DESIGN!H27,0)","v":2067}]
[{"$f":"A75&\" \"&BASIN_DESIGN!I27","v":"2067 ft³"},"dead storage"]
[{"$f":"ROUND(BASIN_DESIGN!C32,0)","v":94}]
[{"$f":"A77&\" \"&BASIN_DESIGN!D32","v":"94 ft"},"bottom width"]
[{"$f":"BASIN_DESIGN!C36&\" \"&BASIN_DESIGN!D36","v":"2 ft"},"freeboard"]
[{"$f":"ROUND(BASIN_DESIGN!C39,2)","v":0.75}]
[{"$f":"A80&\" \"&BASIN_DESIGN!D39","v":"0.75 ft"},"spillway"]
[{"$f":"BASIN_DESIGN!C28&\" \"&BASIN_DESIGN!D28","v":"2.15 ft"},"live stage"]
[{"$f":"BASIN_DESIGN!C27&\" \"&BASIN_DESIGN!D27","v":"0.1 ft"},"dead stage"]
[{"$f":"BASIN_DESIGN!C26&\":1\"","v":"3:1"},"H:V"]
[{"$f":"ROUND(BASIN_DESIGN!C29,0)","v":248}]
[{"$f":"A85&\" \"&BASIN_DESIGN!D29","v":"248 ft"},"top length"]
[{"$f":"ROUND(BASIN_DESIGN!H38,0)","v":55}]
[{"$f":"A87&\" \"&BASIN_DESIGN!I38","v":"55 ft"},"bay length"]
[{"$f":"ROUND(BASIN_DESIGN!C31,0)","v":218}]
[{"$f":"A89&\" \"&BASIN_DESIGN!D31","v":"218 ft"},"bottom length"]
[{"$f":"ROUND(BASIN_DESIGN!H41,2)","v":3}]
[{"$f":"A91&\" \"&BASIN_DESIGN!I41","v":"3 ft"},"baffle height"]

{"sheet":"GIS_DATA","index":7,"n_rows":30524,"n_cols":6,"rows_kept":4500,"cut":true,"hidden":false,"merged":[[0,0,0,5]],"bounds":{"rows_first":2000,"rows_last":500,"rows_between":2000,"halvings":0}}
["2-Yr, 24-Hr Rainfall & Soil CN (GIS DATA)"]
["Zip Code","County","State","P (in.)","P (cm)","CN"]
["00001","N Dillingham Census Area","AK","N/A","N/A","N/A"]
["00002","Yukon Flats Nat Wildlife","AK","N/A","N/A","N/A"]
["00003","Alaska Peninsula NWR","AK","N/A","N/A","N/A"]
["00004","W Kenai Peninsula Boroug","AK","N/A","N/A","N/A"]
["00005","N Lake and Peninsula Bor","AK","N/A","N/A","N/A"]
["00006","Matanuska-Sustina Bor","AK","N/A","N/A","N/A"]
["00007","Southerly North Slope Bo","AK","N/A","N/A","N/A"]
["00009","Lake Clark National Pres","AK","N/A","N/A","N/A"]
["00010","Yukon Delta Wilderness","AK","N/A","N/A","N/A"]
["00011","Kenai Ntl Wildlife Ref","AK","N/A","N/A","N/A"]
["00198","E Mncplty of Anchorage","AK","N/A","N/A","N/A"]
["00601","Adjuntas","PR","N/A","N/A","N/A"]
["00602","Aguada","PR","N/A","N/A","N/A"]
["00603","Aguadilla","PR","N/A","N/A","N/A"]
["00606","Maricao","PR","N/A","N/A","N/A"]
["00610","Anasco","PR","N/A","N/A","N/A"]
["00612","Arecibo","PR","N/A","N/A","N/A"]
["00617","Barceloneta","PR","N/A","N/A","N/A"]
["00623","Cabo Rojo","PR","N/A","N/A","N/A"]
["00624","Penuelas","PR","N/A","N/A","N/A"]
["00627","Camuy","PR","N/A","N/A","N/A"]
["00631","Castaner","PR","N/A","N/A","N/A"]
["00637","Sabana Grande","PR","N/A","N/A","N/A"]
["00638","Ciales","PR","N/A","N/A","N/A"]
["00641","Utuado","PR","N/A","N/A","N/A"]
["00646","Dorado","PR","N/A","N/A","N/A"]
["00647","Ensenada","PR","N/A","N/A","N/A"]
["00650","Florida","PR","N/A","N/A","N/A"]
["00653","Guanica","PR","N/A","N/A","N/A"]
["00656","Guayanilla","PR","N/A","N/A","N/A"]
["00659","Hatillo","PR","N/A","N/A","N/A"]
["00660","Hormigueros","PR","N/A","N/A","N/A"]
["00662","Isabela","PR","N/A","N/A","N/A"]
["00664","Jayuya","PR","N/A","N/A","N/A"]
["00667","Lajas","PR","N/A","N/A","N/A"]
["00669","Lares","PR","N/A","N/A","N/A"]
["00670","Las Marias","PR","N/A","N/A","N/A"]
["00674","Manati","PR","N/A","N/A","N/A"]
["00676","Moca","PR","N/A","N/A","N/A"]
["00677","Rincon","PR","N/A","N/A","N/A"]
["00678","Quebradillas","PR","N/A","N/A","N/A"]
["00680","Mayaguez","PR","N/A","N/A","N/A"]
["00682","Mayaguez","PR","N/A","N/A","N/A"]
["00683","San German","PR","N/A","N/A","N/A"]
["00685","San Sebastian","PR","N/A","N/A","N/A"]
["00687","Morovis","PR","N/A","N/A","N/A"]
["00690","San Antonio","PR","N/A","N/A","N/A"]
["00692","Vega Alta","PR","N/A","N/A","N/A"]
["00693","Vega Baja","PR","N/A","N/A","N/A"]
["00698","Yauco","PR","N/A","N/A","N/A"]
["00703","Aguas Buenas","PR","N/A","N/A","N/A"]
["00704","Aguirre","PR","N/A","N/A","N/A"]
["00705","Aibonito","PR","N/A","N/A","N/A"]
["00707","Maunabo","PR","N/A","N/A","N/A"]
["00714","Arroyo","PR","N/A","N/A","N/A"]
["00715","Mercedita","PR","N/A","N/A","N/A"]
["00716","Ponce","PR","N/A","N/A","N/A"]
["00717","Ponce","PR","N/A","N/A","N/A"]
["00718","Naguabo","PR","N/A","N/A","N/A"]
["00719","Naranjito","PR","N/A","N/A","N/A"]
["00720","Orocovis","PR","N/A","N/A","N/A"]
["00723","Patillas","PR","N/A","N/A","N/A"]
["00725","Caguas","PR","N/A","N/A","N/A"]
["00727","Caguas","PR","N/A","N/A","N/A"]
["00728","Ponce","PR","N/A","N/A","N/A"]
["00729","Canovanas","PR","N/A","N/A","N/A"]
["00730","Ponce","PR","N/A","N/A","N/A"]
["00731","Ponce","PR","N/A","N/A","N/A"]
["00735","Ceiba","PR","N/A","N/A","N/A"]
["00736","Cayey","PR","N/A","N/A","N/A"]
["00738","Fajardo","PR","N/A","N/A","N/A"]
["00739","Cidra","PR","N/A","N/A","N/A"]
["00740","Puerto Real","PR","N/A","N/A","N/A"]
["00741","Punta Santiago","PR","N/A","N/A","N/A"]
["00745","Rio Grande","PR","N/A","N/A","N/A"]
["00751","Salinas","PR","N/A","N/A","N/A"]
["00754","San Lorenzo","PR","N/A","N/A","N/A"]
["00757","Santa Isabel","PR","N/A","N/A","N/A"]
["00765","Vieques","PR","N/A","N/A","N/A"]
["00766","Villalba","PR","N/A","N/A","N/A"]
["00767","Yabucoa","PR","N/A","N/A","N/A"]
["00769","Coamo","PR","N/A","N/A","N/A"]
["00771","Las Piedras","PR","N/A","N/A","N/A"]
["00772","Loiza","PR","N/A","N/A","N/A"]
["00773","Luquillo","PR","N/A","N/A","N/A"]
["00775","Culebra","PR","N/A","N/A","N/A"]
["00777","Juncos","PR","N/A","N/A","N/A"]
["00778","Gurabo","PR","N/A","N/A","N/A"]
["00780","Coto Laurel","PR","N/A","N/A","N/A"]
["00782","Comerio","PR","N/A","N/A","N/A"]
["00783","Corozal","PR","N/A","N/A","N/A"]
["00784","Guayama","PR","N/A","N/A","N/A"]
["00791","Humacao","PR","N/A","N/A","N/A"]
["00794","Barranquitas","PR","N/A","N/A","N/A"]
["00795","Juana Diaz","PR","N/A","N/A","N/A"]
["00802","St Thomas","VI","N/A","N/A","N/A"]
["00820","Christiansted","VI","N/A","N/A","N/A"]
["00830","St John","VI","N/A","N/A","N/A"]
["00840","Frederiksted","VI","N/A","N/A","N/A"]
["00850","Kingshill","VI","N/A","N/A","N/A"]
["00901","San Juan","PR","N/A","N/A","N/A"]
["00907","San Juan","PR","N/A","N/A","N/A"]
["00909","San Juan","PR","N/A","N/A","N/A"]
["00911","San Juan","PR","N/A","N/A","N/A"]
["00912","San Juan","PR","N/A","N/A","N/A"]
["00913","San Juan","PR","N/A","N/A","N/A"]
["00915","San Juan","PR","N/A","N/A","N/A"]
["00917","San Juan","PR","N/A","N/A","N/A"]
["00918","San Juan","PR","N/A","N/A","N/A"]
["00920","San Juan","PR","N/A","N/A","N/A"]
["00921","San Juan","PR","N/A","N/A","N/A"]
["00923","San Juan","PR","N/A","N/A","N/A"]
["00924","San Juan","PR","N/A","N/A","N/A"]
["00925","San Juan","PR","N/A","N/A","N/A"]
["00926","San Juan","PR","N/A","N/A","N/A"]
["00927","San Juan","PR","N/A","N/A","N/A"]
["00934","Fort Buchanan","PR","N/A","N/A","N/A"]
["00949","Toa Baja","PR","N/A","N/A","N/A"]
["00952","Sabana Seca","PR","N/A","N/A","N/A"]
["00953","Toa Alta","PR","N/A","N/A","N/A"]
["00956","Bayamon","PR","N/A","N/A","N/A"]
["00957","Bayamon","PR","N/A","N/A","N/A"]
["00959","Bayamon","PR","N/A","N/A","N/A"]
["00961","Bayamon","PR","N/A","N/A","N/A"]
["00962","Catano","PR","N/A","N/A","N/A"]
["00965","Guaynabo","PR","N/A","N/A","N/A"]
["00966","Guaynabo","PR","N/A","N/A","N/A"]
["00968","Guaynabo","PR","N/A","N/A","N/A"]
["00969","Guaynabo","PR","N/A","N/A","N/A"]
["00976","Trujillo Alto","PR","N/A","N/A","N/A"]
["00979","Carolina","PR","N/A","N/A","N/A"]
["00982","Carolina","PR","N/A","N/A","N/A"]
["00983","Carolina","PR","N/A","N/A","N/A"]
["00985","Carolina","PR","N/A","N/A","N/A"]
["00987","Carolina","PR","N/A","N/A","N/A"]
["03854","New Castle","NH","N/A","N/A","N/A"]
["04013","Bustins Island","ME","N/A","N/A","N/A"]
["04019","Cliff Island","ME","N/A","N/A","N/A"]
["04109","Portland","ME","N/A","N/A","N/A"]
["04549","Isle of Springs","ME","N/A","N/A","N/A"]
["04570","Squirrel Island","ME","N/A","N/A","N/A"]
["10044","New York","NY","N/A","N/A","N/A"]
["77550","Galveston","TX","N/A","N/A","N/A"]
["77551","Galveston","TX","N/A","N/A","N/A"]
["92662","Newport Beach","CA","N/A","N/A","N/A"]
["96701","Aiea","HI","N/A","N/A","N/A"]
["96703","Anahola","HI","N/A","N/A","N/A"]
["96704","Captain Cook","HI","N/A","N/A","N/A"]
["96705","Eleele","HI","N/A","N/A","N/A"]
["96706","Ewa Beach","HI","N/A","N/A","N/A"]
["96707","Kapolei","HI","N/A","N/A","N/A"]
["96708","Haiku","HI","N/A","N/A","N/A"]
["96710","Hakalau","HI","N/A","N/A","N/A"]
["96712","Haleiwa","HI","N/A","N/A","N/A"]
["96713","Hana","HI","N/A","N/A","N/A"]
["96716","Hanapepe","HI","N/A","N/A","N/A"]
["96717","Hauula","HI","N/A","N/A","N/A"]
["96718","Hawaii National Park","HI","N/A","N/A","N/A"]
["96719","Hawi","HI","N/A","N/A","N/A"]
["96720","Hilo","HI","N/A","N/A","N/A"]
["96722","Princeville","HI","N/A","N/A","N/A"]
["96725","Holualoa","HI","N/A","N/A","N/A"]
["96726","Honaunau","HI","N/A","N/A","N/A"]
["96727","Honokaa","HI","N/A","N/A","N/A"]
["96728","Honomu","HI","N/A","N/A","N/A"]
["96729","Hoolehua","HI","N/A","N/A","N/A"]
["96730","Kaaawa","HI","N/A","N/A","N/A"]
["96731","Kahuku","HI","N/A","N/A","N/A"]
["96732","Kahului","HI","N/A","N/A","N/A"]
["96734","Kailua","HI","N/A","N/A","N/A"]
["96738","Waikoloa","HI","N/A","N/A","N/A"]
["96740","Kailua Kona","HI","N/A","N/A","N/A"]
["96741","Kalaheo","HI","N/A","N/A","N/A"]
["96742","Kalaupapa","HI","N/A","N/A","N/A"]
["96743","Kamuela","HI","N/A","N/A","N/A"]
["96744","Kaneohe","HI","N/A","N/A","N/A"]
["96746","Kapaa","HI","N/A","N/A","N/A"]
["96747","Kaumakani","HI","N/A","N/A","N/A"]
["96748","Kaunakakai","HI","N/A","N/A","N/A"]
["96749","Keaau","HI","N/A","N/A","N/A"]
["96750","Kealakekua","HI","N/A","N/A","N/A"]
["96752","Kekaha","HI","N/A","N/A","N/A"]
["96753","Kihei","HI","N/A","N/A","N/A"]
["96754","Kilauea","HI","N/A","N/A","N/A"]
["96755","Kapaau","HI","N/A","N/A","N/A"]
["96756","Koloa","HI","N/A","N/A","N/A"]
["96757","Kualapuu","HI","N/A","N/A","N/A"]
["96760","Kurtistown","HI","N/A","N/A","N/A"]
["96761","Lahaina","HI","N/A","N/A","N/A"]
["96762","Laie","HI","N/A","N/A","N/A"]
["96763","Lanai City","HI","N/A","N/A","N/A"]
["96764","Laupahoehoe","HI","N/A","N/A","N/A"]
["96766","Lihue","HI","N/A","N/A","N/A"]
["96768","Makawao","HI","N/A","N/A","N/A"]
["96769","Makaweli","HI","N/A","N/A","N/A"]
["96770","Maunaloa","HI","N/A","N/A","N/A"]
["96771","Mountain View","HI","N/A","N/A","N/A"]
["96772","Naalehu","HI","N/A","N/A","N/A"]
["96773","Ninole","HI","N/A","N/A","N/A"]
["96774","Ookala","HI","N/A","N/A","N/A"]
["96776","Paauilo","HI","N/A","N/A","N/A"]
["96777","Pahala","HI","N/A","N/A","N/A"]
["96778","Pahoa","HI","N/A","N/A","N/A"]
["96779","Paia","HI","N/A","N/A","N/A"]
["96780","Papaaloa","HI","N/A","N/A","N/A"]
["96781","Papaikou","HI","N/A","N/A","N/A"]
["96782","Pearl City","HI","N/A","N/A","N/A"]
["96783","Pepeekeo","HI","N/A","N/A","N/A"]
["96785","Volcano","HI","N/A","N/A","N/A"]
["96786","Wahiawa","HI","N/A","N/A","N/A"]
["96789","Mililani","HI","N/A","N/A","N/A"]
["96790","Kula","HI","N/A","N/A","N/A"]
["96791","Waialua","HI","N/A","N/A","N/A"]
["96792","Waianae","HI","N/A","N/A","N/A"]
["96793","Wailuku","HI","N/A","N/A","N/A"]
["96795","Waimanalo","HI","N/A","N/A","N/A"]
["96796","Waimea","HI","N/A","N/A","N/A"]
["96797","Waipahu","HI","N/A","N/A","N/A"]
["96813","Honolulu","HI","N/A","N/A","N/A"]
["96814","Honolulu","HI","N/A","N/A","N/A"]
["96815","Honolulu","HI","N/A","N/A","N/A"]
["96816","Honolulu","HI","N/A","N/A","N/A"]
["96817","Honolulu","HI","N/A","N/A","N/A"]
["96818","Honolulu","HI","N/A","N/A","N/A"]
["96819","Honolulu","HI","N/A","N/A","N/A"]
["96820","Honolulu","HI","N/A","N/A","N/A"]
["96821","Honolulu","HI","N/A","N/A","N/A"]
["96822","Honolulu","HI","N/A","N/A","N/A"]
["96825","Honolulu","HI","N/A","N/A","N/A"]
["96826","Honolulu","HI","N/A","N/A","N/A"]
["96844","Honolulu","HI","N/A","N/A","N/A"]
["96853","JBPHH","HI","N/A","N/A","N/A"]
["96857","Schofield Barracks","HI","N/A","N/A","N/A"]
["96858","Fort Shafter","HI","N/A","N/A","N/A"]
["96860","JBPHH","HI","N/A","N/A","N/A"]
["96861","Camp H M Smith","HI","N/A","N/A","N/A"]
["96863","MCBH Kaneohe Bay","HI","N/A","N/A","N/A"]
["96910","Hagatna","GU","N/A","N/A","N/A"]
["96913","Barrigada","GU","N/A","N/A","N/A"]
["96915","Santa Rita","GU","N/A","N/A","N/A"]
["96929","Yigo","GU","N/A","N/A","N/A"]
["99501","Anchorage","AK","N/A","N/A","N/A"]
["99502","Anchorage","AK","N/A","N/A","N/A"]
["99503","Anchorage","AK","N/A","N/A","N/A"]
["99504","Anchorage","AK","N/A","N/A","N/A"]
["99505","Jber","AK","N/A","N/A","N/A"]
["99506","Jber","AK","N/A","N/A","N/A"]
["99507","Anchorage","AK","N/A","N/A","N/A"]
["99508","Anchorage","AK","N/A","N/A","N/A"]
["99515","Anchorage","AK","N/A","N/A","N/A"]
["99516","Anchorage","AK","N/A","N/A","N/A"]
["99517","Anchorage","AK","N/A","N/A","N/A"]
["99518","Anchorage","AK","N/A","N/A","N/A"]
["99540","Indian","AK","N/A","N/A","N/A"]
["99546","Adak","AK","N/A","N/A","N/A"]
["99547","Atka","AK","N/A","N/A","N/A"]
["99549","Port Heiden","AK","N/A","N/A","N/A"]
["99551","Akiachak","AK","N/A","N/A","N/A"]
["99552","Akiak","AK","N/A","N/A","N/A"]
["99553","Akutan","AK","N/A","N/A","N/A"]
["99554","Alakanuk","AK","N/A","N/A","N/A"]
["99555","Aleknagik","AK","N/A","N/A","N/A"]
["99556","Anchor Point","AK","N/A","N/A","N/A"]
["99557","Aniak","AK","N/A","N/A","N/A"]
["99558","Anvik","AK","N/A","N/A","N/A"]
["99559","Bethel","AK","N/A","N/A","N/A"]
["99561","Chefornak","AK","N/A","N/A","N/A"]
["99563","Chevak","AK","N/A","N/A","N/A"]
["99564","Chignik","AK","N/A","N/A","N/A"]
["99565","Chignik Lagoon","AK","N/A","N/A","N/A"]
["99567","Chugiak","AK","N/A","N/A","N/A"]
["99568","Clam Gulch","AK","N/A","N/A","N/A"]
["99569","Clarks Point","AK","N/A","N/A","N/A"]
["99571","Cold Bay","AK","N/A","N/A","N/A"]
["99572","Cooper Landing","AK","N/A","N/A","N/A"]
["99573","Copper Center","AK","N/A","N/A","N/A"]
["99574","Cordova","AK","N/A","N/A","N/A"]
["99575","Crooked Creek","AK","N/A","N/A","N/A"]
["99576","Dillingham","AK","N/A","N/A","N/A"]
["99577","Eagle River","AK","N/A","N/A","N/A"]
["99578","Eek","AK","N/A","N/A","N/A"]
["99579","Egegik","AK","N/A","N/A","N/A"]
["99580","Ekwok","AK","N/A","N/A","N/A"]
["99581","Emmonak","AK","N/A","N/A","N/A"]
["99583","False Pass","AK","N/A","N/A","N/A"]
["99585","Marshall","AK","N/A","N/A","N/A"]
["99586","Gakona","AK","N/A","N/A","N/A"]
["99587","Girdwood","AK","N/A","N/A","N/A"]
["99588","Glennallen","AK","N/A","N/A","N/A"]
["99589","Goodnews Bay","AK","N/A","N/A","N/A"]
["99590","Grayling","AK","N/A","N/A","N/A"]
["99591","Saint George Island","AK","N/A","N/A","N/A"]
["99602","Holy Cross","AK","N/A","N/A","N/A"]
["99603","Homer","AK","N/A","N/A","N/A"]
["99604","Hooper Bay","AK","N/A","N/A","N/A"]
["99606","Iliamna","AK","N/A","N/A","N/A"]
["99607","Kalskag","AK","N/A","N/A","N/A"]
["99610","Kasilof","AK","N/A","N/A","N/A"]
["99611","Kenai","AK","N/A","N/A","N/A"]
["99612","King Cove","AK","N/A","N/A","N/A"]
["99613","King Salmon","AK","N/A","N/A","N/A"]
["99614","Kipnuk","AK","N/A","N/A","N/A"]
["99615","Kodiak","AK","N/A","N/A","N/A"]
["99620","Kotlik","AK","N/A","N/A","N/A"]
["99621","Kwethluk","AK","N/A","N/A","N/A"]
["99622","Kwigillingok","AK","N/A","N/A","N/A"]
["99623","Wasilla","AK","N/A","N/A","N/A"]
["99625","Levelock","AK","N/A","N/A","N/A"]
["99626","Lower Kalskag","AK","N/A","N/A","N/A"]
["99627","Mc Grath","AK","N/A","N/A","N/A"]
["99628","Manokotak","AK","N/A","N/A","N/A"]
["99630","Mekoryuk","AK","N/A","N/A","N/A"]
["99631","Moose Pass","AK","N/A","N/A","N/A"]
["99632","Mountain Village","AK","N/A","N/A","N/A"]
["99633","Naknek","AK","N/A","N/A","N/A"]
["99634","Napakiak","AK","N/A","N/A","N/A"]
["99636","New Stuyahok","AK","N/A","N/A","N/A"]
["99638","Nikolski","AK","N/A","N/A","N/A"]
["99639","Ninilchik","AK","N/A","N/A","N/A"]
["99640","Nondalton","AK","N/A","N/A","N/A"]
["99645","Palmer","AK","N/A","N/A","N/A"]
["99647","Pedro Bay","AK","N/A","N/A","N/A"]
["99648","Perryville","AK","N/A","N/A","N/A"]
["99649","Pilot Point","AK","N/A","N/A","N/A"]
["99650","Pilot Station","AK","N/A","N/A","N/A"]
["99651","Platinum","AK","N/A","N/A","N/A"]
["99653","Port Alsworth","AK","N/A","N/A","N/A"]
["99654","Wasilla","AK","N/A","N/A","N/A"]
["99655","Quinhagak","AK","N/A","N/A","N/A"]
["99656","Red Devil","AK","N/A","N/A","N/A"]
["99657","Russian Mission","AK","N/A","N/A","N/A"]
["99658","Saint Marys","AK","N/A","N/A","N/A"]
["99659","Saint Michael","AK","N/A","N/A","N/A"]
["99660","Saint Paul Island","AK","N/A","N/A","N/A"]
["99661","Sand Point","AK","N/A","N/A","N/A"]
["99662","Scammon Bay","AK","N/A","N/A","N/A"]
["99664","Seward","AK","N/A","N/A","N/A"]
["99665","Shageluk","AK","N/A","N/A","N/A"]
["99667","Skwentna","AK","N/A","N/A","N/A"]
["99668","Sleetmute","AK","N/A","N/A","N/A"]
["99669","Soldotna","AK","N/A","N/A","N/A"]
["99670","South Naknek","AK","N/A","N/A","N/A"]
["99671","Stebbins","AK","N/A","N/A","N/A"]
["99672","Sterling","AK","N/A","N/A","N/A"]
["99674","Sutton","AK","N/A","N/A","N/A"]
["99676","Talkeetna","AK","N/A","N/A","N/A"]
["99679","Tuluksak","AK","N/A","N/A","N/A"]
["99681","Tununak","AK","N/A","N/A","N/A"]
["99682","Tyonek","AK","N/A","N/A","N/A"]
["99683","Trapper Creek","AK","N/A","N/A","N/A"]
["99684","Unalakleet","AK","N/A","N/A","N/A"]
["99685","Unalaska","AK","N/A","N/A","N/A"]
["99686","Valdez","AK","N/A","N/A","N/A"]
["99688","Willow","AK","N/A","N/A","N/A"]
["99689","Yakutat","AK","N/A","N/A","N/A"]
["99691","Nikolai","AK","N/A","N/A","N/A"]
["99692","Dutch Harbor","AK","N/A","N/A","N/A"]
["99701","Fairbanks","AK","N/A","N/A","N/A"]
["99702","Eielson AFB","AK","N/A","N/A","N/A"]
["99703","Fort Wainwright","AK","N/A","N/A","N/A"]
["99704","Clear","AK","N/A","N/A","N/A"]
["99705","North Pole","AK","N/A","N/A","N/A"]
["99709","Fairbanks","AK","N/A","N/A","N/A"]
["99712","Fairbanks","AK","N/A","N/A","N/A"]
["99714","Salcha","AK","N/A","N/A","N/A"]
["99720","Allakaket","AK","N/A","N/A","N/A"]
["99721","Anaktuvuk Pass","AK","N/A","N/A","N/A"]
["99722","Arctic Village","AK","N/A","N/A","N/A"]
["99723","Barrow","AK","N/A","N/A","N/A"]
["99724","Beaver","AK","N/A","N/A","N/A"]
["99726","Bettles Field","AK","N/A","N/A","N/A"]
["99727","Buckland","AK","N/A","N/A","N/A"]
["99729","Cantwell","AK","N/A","N/A","N/A"]
["99730","Central","AK","N/A","N/A","N/A"]
["99733","Circle","AK","N/A","N/A","N/A"]
["99734","Prudhoe Bay","AK","N/A","N/A","N/A"]
["99736","Deering","AK","N/A","N/A","N/A"]
["99737","Delta Junction","AK","N/A","N/A","N/A"]
["99739","Elim","AK","N/A","N/A","N/A"]
["99740","Fort Yukon","AK","N/A","N/A","N/A"]
["99741","Galena","AK","N/A","N/A","N/A"]
["99742","Gambell","AK","N/A","N/A","N/A"]
["99743","Healy","AK","N/A","N/A","N/A"]
["99744","Anderson","AK","N/A","N/A","N/A"]
["99745","Hughes","AK","N/A","N/A","N/A"]
["99746","Huslia","AK","N/A","N/A","N/A"]
["99747","Kaktovik","AK","N/A","N/A","N/A"]
["99748","Kaltag","AK","N/A","N/A","N/A"]
["99749","Kiana","AK","N/A","N/A","N/A"]
["99750","Kivalina","AK","N/A","N/A","N/A"]
["99751","Kobuk","AK","N/A","N/A","N/A"]
["99752","Kotzebue","AK","N/A","N/A","N/A"]
["99753","Koyuk","AK","N/A","N/A","N/A"]
["99755","Denali National Park","AK","N/A","N/A","N/A"]
["99756","Manley Hot Springs","AK","N/A","N/A","N/A"]
["99757","Lake Minchumina","AK","N/A","N/A","N/A"]
["99758","Minto","AK","N/A","N/A","N/A"]
["99759","Point Lay","AK","N/A","N/A","N/A"]
["99760","Nenana","AK","N/A","N/A","N/A"]
["99761","Noatak","AK","N/A","N/A","N/A"]
["99762","Nome","AK","N/A","N/A","N/A"]
["99763","Noorvik","AK","N/A","N/A","N/A"]
["99765","Nulato","AK","N/A","N/A","N/A"]
["99766","Point Hope","AK","N/A","N/A","N/A"]
["99767","Rampart","AK","N/A","N/A","N/A"]
["99768","Ruby","AK","N/A","N/A","N/A"]
["99769","Savoonga","AK","N/A","N/A","N/A"]
["99770","Selawik","AK","N/A","N/A","N/A"]
["99771","Shaktoolik","AK","N/A","N/A","N/A"]
["99772","Shishmaref","AK","N/A","N/A","N/A"]
["99773","Shungnak","AK","N/A","N/A","N/A"]
["99774","Stevens Village","AK","N/A","N/A","N/A"]
["99777","Tanana","AK","N/A","N/A","N/A"]
["99778","Teller","AK","N/A","N/A","N/A"]
["99780","Tok","AK","N/A","N/A","N/A"]
["99781","Venetie","AK","N/A","N/A","N/A"]
["99782","Wainwright","AK","N/A","N/A","N/A"]
["99783","Wales","AK","N/A","N/A","N/A"]
["99784","White Mountain","AK","N/A","N/A","N/A"]
["99785","Brevig Mission","AK","N/A","N/A","N/A"]
["99786","Ambler","AK","N/A","N/A","N/A"]
["99788","Chalkyitsik","AK","N/A","N/A","N/A"]
["99789","Nuiqsut","AK","N/A","N/A","N/A"]
["99801","Juneau","AK","N/A","N/A","N/A"]
["99824","Douglas","AK","N/A","N/A","N/A"]
["99825","Elfin Cove","AK","N/A","N/A","N/A"]
["99826","Gustavus","AK","N/A","N/A","N/A"]
["99827","Haines","AK","N/A","N/A","N/A"]
["99829","Hoonah","AK","N/A","N/A","N/A"]
["99833","Petersburg","AK","N/A","N/A","N/A"]
["99835","Sitka","AK","N/A","N/A","N/A"]
["99840","Skagway","AK","N/A","N/A","N/A"]
["99903","Meyers Chuck","AK","N/A","N/A","N/A"]
["99919","Thorne Bay","AK","N/A","N/A","N/A"]
["99921","Craig","AK","N/A","N/A","N/A"]
["99922","Hydaburg","AK","N/A","N/A","N/A"]
["99923","Hyder","AK","N/A","N/A","N/A"]
["99925","Klawock","AK","N/A","N/A","N/A"]
["99926","Metlakatla","AK","N/A","N/A","N/A"]
["99927","Point Baker","AK","N/A","N/A","N/A"]
["99950","Ketchikan","AK","N/A","N/A","N/A"]
["33109","Miami Beach","FL",5.1520000000000001,{"$f":"D444*2.54","v":13.086080000000001},"N/A"]
["92211","Palm Desert","CA",1.228,{"$f":"D445*2.54","v":3.1191200000000001},77.260002099999994]
["69146","Lemoyne","NE",2.1909999999999998,{"$f":"D446*2.54","v":5.5651399999999995},77.269996599999999]
["49618","Boon","MI",2.3889999,{"$f":"D447*2.54","v":6.0680597460000003},77.860000600000006]
["02543","Woods Hole","MA","N/A","N/A",77.900001500000002]
["02713","Cuttyhunk","MA","N/A","N/A",77.900001500000002]
["49894","Wells","MI",2.2550001000000002,{"$f":"D450*2.54","v":5.7277002540000002},78.019996599999999]
["13301","Alder Creek","NY","N/A","N/A",78.040000899999995]
["49650","Lake Ann","MI",2.323,{"$f":"D452*2.54","v":5.9004199999999996},78.339996299999996]
["02538","East Wareham","MA","N/A","N/A",78.370002700000001]
["02556","North Falmouth","MA","N/A","N/A",78.370002700000001]
["02557","Oak Bluffs","MA","N/A","N/A",78.370002700000001]
["02559","Pocasset","MA","N/A","N/A",78.370002700000001]
["02562","Sagamore Beach","MA","N/A","N/A",78.370002700000001]
["02601","Hyannis","MA","N/A","N/A",78.370002700000001]
["02639","Dennis Port","MA","N/A","N/A",78.370002700000001]
["02650","North Chatham","MA","N/A","N/A",78.370002700000001]
["02659","South Chatham","MA","N/A","N/A",78.370002700000001]
["02670","West Dennis","MA","N/A","N/A",78.370002700000001]
["48738","Greenbush","MI",2.1830001000000001,{"$f":"D463*2.54","v":5.5448202540000002},78.620002700000001]
["49675","Onekama","MI",2.3879999999999999,{"$f":"D464*2.54","v":6.0655200000000002},78.870002700000001]
["11942","East Quogue","NY","N/A","N/A",79.120002700000001]
["11946","Hampton Bays","NY","N/A","N/A",79.120002700000001]
["46556","Notre Dame","IN",2.8090000000000002,{"$f":"D467*2.54","v":7.1348600000000006},79.120002700000001]
["46615","South Bend","IN",2.8090000000000002,7.1348600000000006,79.120002700000001]
["46617","South Bend","IN",2.8130000000000002,7.1450200000000006,79.120002700000001]
["46616","South Bend","IN",2.8159999999999998,7.1526399999999999,79.120002700000001]
["46601","South Bend","IN",2.819,7.1602600000000001,79.120002700000001]
["46394","Whiting","IN",2.835,7.2008999999999999,79.120002700000001]
["46402","Gary","IN",2.8659998999999998,7.279639746,79.120002700000001]
["46312","East Chicago","IN",2.8679999999999999,7.2847200000000001,79.120002700000001]
["46327","Hammond","IN",2.8809999999999998,7.3177399999999997,79.120002700000001]
["46320","Hammond","IN",2.9000001000000002,7.3660002540000002,79.120002700000001]
["56425","Baxter","MN",2.6489999000000002,6.7284597460000004,79.389999399999994]
["99160","Orient","WA","N/A","N/A",79.75]
["06390","Fishers Island","NY","N/A","N/A",79.910003700000004]
["68725","Chambers","NE",2.6309999999999998,{"$f":"D480*2.54","v":6.6827399999999999},80.169998199999995]
["68622","Bartlett","NE",2.6869999999999998,6.82498,80.169998199999995]
["34797","Yalaha","FL",4.1830001000000001,10.624820254000001,80.449996900000002]
["32798","Zellwood","FL",4.2110000000000003,10.69594,80.449996900000002]
["32818","Orlando","FL",4.2560000000000002,10.81024,80.449996900000002]
["32701","Altamonte Springs","FL",4.2820001000000003,10.876280254000001,80.449996900000002]
["32730","Casselberry","FL",4.2870001999999996,10.888980508,80.449996900000002]
["32801","Orlando","FL",4.29,10.896599999999999,80.449996900000002]
["32707","Casselberry","FL",4.3010001000000004,10.924540254000002,80.449996900000002]
["33620","Univ Of So Florida","FL",4.5110001999999998,11.457940508,80.449996900000002]
["34608","Spring Hill","FL",4.6580000000000004,11.831320000000002,80.449996900000002]
["32511","Ntt Corry Field","FL","N/A","N/A",80.480003400000001]
["32504","Pensacola","FL",5.9009999999999998,{"$f":"D492*2.54","v":14.98854},80.480003400000001]
["32503","Pensacola","FL",5.9359998999999997,{"$f":"D493*2.54","v":15.077439746},80.480003400000001]
["32501","Pensacola","FL",5.9460001,{"$f":"D494*2.54","v":15.102840254},80.480003400000001]
["32502","Pensacola","FL",5.9489998999999996,{"$f":"D495*2.54","v":15.110459745999998},80.480003400000001]
["32579","Shalimar","FL",5.9660000999999996,{"$f":"D496*2.54","v":15.153640253999999},80.480003400000001]
["12130","Niverville","NY","N/A","N/A",80.639999399999994]
["12911","Keeseville","NY","N/A","N/A",80.639999399999994]
["13638","Felts Mills","NY","N/A","N/A",80.639999399999994]
["08406","Ventnor City","NJ",3.3299998999999998,{"$f":"D500*2.54","v":8.458199746},80.860000600000006]
["08402","Margate City","NJ",3.339,8.4810599999999994,80.860000600000006]
["08008","Beach Haven","NJ",3.4969999999999999,8.8823799999999995,80.860000600000006]
["08006","Barnegat Light","NJ",3.5079999000000002,8.9103197460000008,80.860000600000006]
["08738","Mantoloking","NJ",3.5090001000000002,8.9128602539999999,80.860000600000006]
["08735","Lavallette","NJ",3.5280000999999999,8.961120253999999,80.860000600000006]
["08751","Seaside Heights","NJ",3.5350001,8.9789002540000009,80.860000600000006]
["08752","Seaside Park","NJ",3.5350001,8.9789002540000009,80.860000600000006]
["55402","Minneapolis","MN","N/A","N/A",80.900001500000002]
["55455","Minneapolis","MN",2.8429999000000001,{"$f":"D509*2.54","v":7.2212197460000001},80.900001500000002]
["55454","Minneapolis","MN",2.8450000000000002,7.2263000000000002,80.900001500000002]
["55415","Minneapolis","MN",2.8479999999999999,7.2339199999999995,80.900001500000002]
["55407","Minneapolis","MN",2.8499998999999998,7.2389997459999993,80.900001500000002]
["55430","Minneapolis","MN",2.8620000000000001,7.2694800000000006,80.900001500000002]
["55444","Minneapolis","MN",2.8629999000000002,7.2720197460000007,80.900001500000002]
["55429","Minneapolis","MN",2.8679999999999999,7.2847200000000001,80.900001500000002]
["55443","Minneapolis","MN",2.8699998999999998,7.2897997459999999,80.900001500000002]
["17407","York","PA",3.0050001000000002,7.6327002540000004,81]
["17313","Dallastown","PA",3.0469998999999999,7.739379746,81]
["20838","Barnesville","MD",3.0580001000000001,7.7673202540000004,81]
["21774","New Market","MD",3.0669998999999999,7.7901797459999997,81]
["21754","Ijamsville","MD",3.0769999000000001,7.815579746,81]
["21770","Monrovia","MD",3.0829998999999999,7.8308197459999995,81]
["20872","Damascus","MD",3.125,7.9375,81]
["49441","Muskegon","MI",2.5760000000000001,6.5430400000000004,81.059997600000003]
["49440","Muskegon","MI",2.5780001000000001,6.5481202540000005,81.059997600000003]
["49444","Muskegon","MI",2.589,6.57606,81.059997600000003]
["69335","Bingham","NE",2.1059999,5.3492397460000003,81.080001800000005]
["69333","Ashby","NE",2.1719998999999999,5.5168797459999999,81.080001800000005]
["69350","Hyannis","NE",2.2090000999999999,5.6108602539999994,81.080001800000005]
["69121","Arthur","NE",2.2279998999999999,5.659119746,81.080001800000005]
["69366","Whitman","NE",2.3119999999999998,5.8724799999999995,81.080001800000005]
["69152","Mullen","NE",2.359,5.99186,81.080001800000005]
["69167","Tryon","NE",2.3729998999999999,6.0274197459999996,81.080001800000005]
["68711","Amelia","NE",2.5599999000000002,6.5023997460000009,81.080001800000005]
["97844","Irrigon","OR","N/A","N/A",81.25]
["32580","Valparaiso","FL",5.9729999999999999,{"$f":"D536*2.54","v":15.171419999999999},81.300003099999998]
["98430","Camp Murray","WA","N/A","N/A",81.339996299999996]
["98438","McChord AFB","WA","N/A","N/A",81.339996299999996]
["98439","Lakewood","WA","N/A","N/A",81.339996299999996]
["98447","Tacoma","WA","N/A","N/A",81.339996299999996]
["98499","Lakewood","WA","N/A","N/A",81.339996299999996]
["69221","Wood Lake","NE",2.427,{"$f":"D542*2.54","v":6.1645799999999999},81.389999399999994]
["01063","Northampton","MA","N/A","N/A",81.470001199999999]
["01754","Maynard","MA","N/A","N/A",81.470001199999999]
["02325","Bridgewater","MA","N/A","N/A",81.470001199999999]
["02364","Kingston","MA","N/A","N/A",81.470001199999999]
["21861","Sharptown","MD",3.4020000000000001,{"$f":"D547*2.54","v":8.6410800000000005},81.489997900000006]
["20612","Benedict","MD",3.4380000000000002,8.7325200000000009,81.489997900000006]
["52749","Fruitland","IA",3.073,7.8054199999999998,81.629997299999999]
["34479","Ocala","FL",4.3239998999999996,10.982959745999999,81.760002099999994]
["34474","Ocala","FL",4.3990001999999997,11.173460508,81.760002099999994]
["34609","Spring Hill","FL",4.6440001000000004,11.795760254000001,81.760002099999994]
["34461","Lecanto","FL",4.7449998999999998,12.052299745999999,81.760002099999994]
["34465","Beverly Hills","FL",4.8439999,12.303759746000001,81.760002099999994]
["02532","Buzzards Bay","MA","N/A","N/A",81.769996599999999]
["02536","East Falmouth","MA","N/A","N/A",81.769996599999999]
["02540","Falmouth","MA","N/A","N/A",81.769996599999999]
["02542","Buzzards Bay","MA","N/A","N/A",81.769996599999999]
["02575","West Tisbury","MA","N/A","N/A",81.769996599999999]
["02632","Centerville","MA","N/A","N/A",81.769996599999999]
["02635","Cotuit","MA","N/A","N/A",81.769996599999999]
["02644","Forestdale","MA","N/A","N/A",81.769996599999999]
["02648","Marstons Mills","MA","N/A","N/A",81.769996599999999]
["02649","Mashpee","MA","N/A","N/A",81.769996599999999]
["49648","Kewadin","MI",2.2309999,{"$f":"D565*2.54","v":5.6667397460000002},81.769996599999999]
["49629","Elk Rapids","MI",2.2469999999999999,5.7073799999999997,81.769996599999999]
["49612","Alden","MI",2.2590001000000002,5.7378602540000001,81.769996599999999]
["49620","Buckley","MI",2.3610001,5.9969402540000001,81.769996599999999]
["49670","Northport","MI",2.2629999999999999,5.7480199999999995,81.870002700000001]
["49654","Leland","MI",2.27,5.7658000000000005,81.870002700000001]
["49653","Lake Leelanau","MI",2.2789999999999999,5.7886600000000001,81.870002700000001]
["49682","Suttons Bay","MI",2.2799999999999998,5.7911999999999999,81.870002700000001]
["49636","Glen Arbor","MI",2.2920001000000001,5.8216802540000003,81.870002700000001]
["49621","Cedar","MI",2.2980000999999999,5.8369202539999998,81.870002700000001]
["49664","Maple City","MI",2.2989999999999999,5.8394599999999999,81.870002700000001]
["49630","Empire","MI",2.3069999000000001,5.8597797460000001,81.870002700000001]
["49684","Traverse City","MI",2.3099999000000002,5.8673997460000002,81.870002700000001]
["83666","Placerville","ID","N/A","N/A",81.900001500000002]
["55071","Saint Paul Park","MN",2.7890000000000001,{"$f":"D579*2.54","v":7.0840600000000009},81.970001199999999]
["75799","Tyler","TX","N/A","N/A",82.010002099999994]
["04017","Chebeague Island","ME","N/A","N/A",82.150001500000002]
["21056","Gibson Island","MD",3.2360001,{"$f":"D582*2.54","v":8.2194402540000002},82.559997600000003]
["82223","Lingle","WY","N/A","N/A",82.580001800000005]
["83602","Banks","ID","N/A","N/A",82.580001800000005]
["06262","Quinebaug","CT","N/A","N/A",82.589996299999996]
["69351","Lakeside","NE",2,{"$f":"D586*2.54","v":5.08},82.610000600000006]
["01434","Devens","MA","N/A","N/A",82.730003400000001]
["08742","Point Pleasant Beach","NJ",3.5009999000000001,{"$f":"D588*2.54","v":8.8925397460000006},82.75]
["68742","Inman","NE",2.5869998999999999,{"$f":"D589*2.54","v":6.5709797459999999},82.760002099999994]
["78419","Corpus Christi","TX","N/A","N/A",82.779998800000001]
["55406","Minneapolis","MN",2.8410001,{"$f":"D591*2.54","v":7.2161402539999999},82.809997600000003]
["55414","Minneapolis","MN",2.8450000000000002,7.2263000000000002,82.809997600000003]
["55417","Minneapolis","MN",2.8469999000000001,7.2313797460000009,82.809997600000003]
["55404","Minneapolis","MN",2.8540000999999999,7.2491602539999995,82.809997600000003]
["55423","Minneapolis","MN",2.855,7.2517000000000005,82.809997600000003]
["55419","Minneapolis","MN",2.8570001,7.2567802540000006,82.809997600000003]
["55409","Minneapolis","MN",2.8580000000000001,7.2593200000000007,82.809997600000003]
["55408","Minneapolis","MN",2.8610001,7.2669402540000005,82.809997600000003]
["05052","North Hartland","VT","N/A","N/A",82.839996299999996]
["19931","Bethel","DE",3.4049999999999998,{"$f":"D600*2.54","v":8.6486999999999998},82.879997299999999]
["56303","Saint Cloud","MN",2.6719998999999999,6.7868797459999994,83.059997600000003]
["32193","Welaka","FL",4.3810000000000002,11.127740000000001,83.080001800000005]
["93534","Lancaster","CA",1.534,3.89636,83.260002099999994]
["39534","Biloxi","MS",5.8410000999999996,14.836140254,83.269996599999999]
["39531","Biloxi","MS",5.8490000000000002,14.85646,83.269996599999999]
["91761","Ontario","CA",2.7550001000000002,6.9977002540000006,83.279998800000001]
["91762","Ontario","CA",2.9879999000000002,7.5895197460000006,83.279998800000001]
["92335","Fontana","CA",3.0599999000000002,7.7723997460000005,83.279998800000001]
["91763","Montclair","CA",3.0650000999999998,7.7851002539999996,83.279998800000001]
["91739","Rancho Cucamonga","CA",4.2729998,10.853419492,83.279998800000001]
["49326","Gowen","MI",2.4649999,6.2610997460000002,83.370002700000001]
["93943","Monterey","CA",1.8169999999999999,4.6151799999999996,83.379997299999999]
["93933","Marina","CA",1.8180000000000001,4.6177200000000003,83.379997299999999]
["93955","Seaside","CA",2.0869998999999999,5.3009797459999994,83.379997299999999]
["93625","Fowler","CA",1.5470001,3.9293802540000002,83.389999399999994]
["93616","Del Rey","CA",1.5509999999999999,3.93954,83.389999399999994]
["29170","West Columbia","SC",3.6300001000000002,9.2202002539999999,83.410003700000004]
["67021","Byers","KS",2.9159999000000001,7.4066397460000006,83.419998199999995]
["73718","Ames","OK",3.3280001000000001,8.4531202539999999,83.510002099999994]
["02535","Chilmark","MA","N/A","N/A",83.519996599999999]
["02568","Vineyard Haven","MA","N/A","N/A",83.519996599999999]
["78632","Harwood","TX","N/A","N/A",83.919998199999995]
["29152","Shaw AFB","SC",3.5799998999999998,{"$f":"D623*2.54","v":9.0931997459999998},83.919998199999995]
["68734","Emmet","NE",2.5739999,6.5379597460000003,84.019996599999999]
["68766","Page","NE",2.6129999000000002,6.6370197460000009,84.019996599999999]
["56465","Merrifield","MN",2.6370000999999998,6.697980254,84.029998800000001]
["55005","Bethel","MN",2.8420000000000001,7.21868,84.029998800000001]
["55309","Big Lake","MN",2.8450000000000002,7.2263000000000002,84.029998800000001]
["55011","Cedar","MN",2.8490000000000002,7.236460000000001,84.029998800000001]
["55448","Minneapolis","MN",2.8650000000000002,7.2771000000000008,84.029998800000001]
["55433","Minneapolis","MN",2.8670000999999998,7.282180254,84.029998800000001]
["25025","Blount","WV",2.569,6.5252600000000003,84.050003099999998]
["25107","Hernshaw","WV",2.5899999,6.5785997460000001,84.050003099999998]
["25024","Bloomingrose","WV",2.5960000000000001,6.5938400000000001,84.050003099999998]
["25165","Racine","WV",2.5960000000000001,6.5938400000000001,84.050003099999998]
["25009","Ashford","WV",2.5990000000000002,6.6014600000000003,84.050003099999998]
["25142","Nellis","WV",2.6029998999999999,6.6116197459999997,84.050003099999998]
["25060","Dorothy","WV",2.6070001,6.6217802539999999,84.050003099999998]
["25051","Costa","WV",2.609,6.6268599999999998,84.050003099999998]
["25154","Peytona","WV",2.6120000000000001,6.6344799999999999,84.050003099999998]
["25193","Sylvester","WV",2.6190000000000002,6.652260000000001,84.050003099999998]
["25093","Gordon","WV",2.6199998999999998,6.6547997459999992,84.050003099999998]
["25081","Foster","WV",2.6219999999999999,6.6598800000000002,84.050003099999998]
["25028","Bob White","WV",2.625,6.6675000000000004,84.050003099999998]
["25047","Clothier","WV",2.6259999000000001,6.6700397460000005,84.050003099999998]
["25114","Jeffrey","WV",2.6289999000000002,6.6776597460000007,84.050003099999998]
["25632","Lyburn","WV",2.6300001000000002,6.6802002540000007,84.050003099999998]
["25654","Yolyn","WV",2.6389999,6.7030597460000001,84.050003099999998]
["25204","Twilight","WV",2.641,6.7081400000000002,84.050003099999998]
["13441","Rome","NY","N/A","N/A",84.199996900000002]
["14504","Manchester","NY","N/A","N/A",84.199996900000002]
["48743","Long Lake","MI",2.165,{"$f":"D652*2.54","v":5.4991000000000003},84.379997299999999]
["85349","San Luis","AZ",1.101,{"$f":"D653*2.54","v":2.7965399999999998},84.449996900000002]
["85364","Yuma","AZ",1.127,{"$f":"D654*2.54","v":2.8625799999999999},84.449996900000002]
["85350","Somerton","AZ",1.149,{"$f":"D655*2.54","v":2.9184600000000001},84.449996900000002]
["00158","Monomoy Island","MA","N/A","N/A",84.510002099999994]
["02655","Osterville","MA","N/A","N/A",84.510002099999994]
["02657","Provincetown","MA","N/A","N/A",84.510002099999994]
["99201","Spokane","WA","N/A","N/A",84.550003099999998]
["99251","Spokane","WA","N/A","N/A",84.550003099999998]
["84322","Logan","UT",1.5009999999999999,{"$f":"D661*2.54","v":3.8125399999999998},84.550003099999998]
["98595","Westport","WA","N/A","N/A",84.569999699999997]
["98640","Ocean Park","WA","N/A","N/A",84.569999699999997]
["29053","Gaston","SC",3.6470001000000001,{"$f":"D664*2.54","v":9.2633802540000012},84.599998499999998]
["29123","Pelion","SC",3.6619999000000001,{"$f":"D665*2.54","v":9.301479746},84.599998499999998]
["79220","Afton","TX","N/A","N/A",84.650001500000002]
["89154","Las Vegas","NV",0.995,{"$f":"D667*2.54","v":2.5272999999999999},84.650001500000002]
["95564","Samoa","CA",2.9860001,{"$f":"D668*2.54","v":7.5844402540000004},84.75]
["55090","Willernie","MN",2.7909999000000001,{"$f":"D669*2.54","v":7.0891397460000007},84.830001800000005]
["55043","Lakeland","MN",2.8150000999999998,{"$f":"D670*2.54","v":7.1501002539999998},84.830001800000005]
["02539","Edgartown","MA","N/A","N/A",84.910003700000004]
["02554","Nantucket","MA","N/A","N/A",84.910003700000004]
["55076","Inver Grove Heights","MN",2.7939999000000002,{"$f":"D673*2.54","v":7.0967597460000009},84.980003400000001]
["55077","Inver Grove Heights","MN",2.7969998999999999,7.1043797460000002,84.980003400000001]
["55123","Saint Paul","MN",2.8039999,7.1221597460000003,84.980003400000001]
["56387","Waite Park","MN",2.6680000000000001,6.7767200000000001,85.029998800000001]
["49805","Allouez","MI",2.1459999000000001,5.4508397460000007,85.089996299999996]
["49963","South Range","MI",2.2229999999999999,5.64642,85.089996299999996]
["73729","Cleo Springs","OK",3.3029999999999999,8.3896200000000007,85.099998499999998]
["32071","O Brien","FL",4.6659999000000001,11.851639746,85.110000600000006]
["98003","Federal Way","WA","N/A","N/A",85.139999399999994]
["98004","Bellevue","WA","N/A","N/A",85.139999399999994]
["98005","Bellevue","WA","N/A","N/A",85.139999399999994]
["98007","Bellevue","WA","N/A","N/A",85.139999399999994]
["98012","Bothell","WA","N/A","N/A",85.139999399999994]
["98020","Edmonds","WA","N/A","N/A",85.139999399999994]
["98023","Federal Way","WA","N/A","N/A",85.139999399999994]
["98026","Edmonds","WA","N/A","N/A",85.139999399999994]
["98028","Kenmore","WA","N/A","N/A",85.139999399999994]
["98036","Lynnwood","WA","N/A","N/A",85.139999399999994]
["98037","Lynnwood","WA","N/A","N/A",85.139999399999994]
["98039","Medina","WA","N/A","N/A",85.139999399999994]
["98040","Mercer Island","WA","N/A","N/A",85.139999399999994]
["98042","Kent","WA","N/A","N/A",85.139999399999994]
["98043","Mountlake Terrace","WA","N/A","N/A",85.139999399999994]
["98058","Renton","WA","N/A","N/A",85.139999399999994]
["98070","Vashon","WA","N/A","N/A",85.139999399999994]
["98074","Sammamish","WA","N/A","N/A",85.139999399999994]
["98087","Lynnwood","WA","N/A","N/A",85.139999399999994]
["98105","Seattle","WA","N/A","N/A",85.139999399999994]
["98112","Seattle","WA","N/A","N/A",85.139999399999994]
["98115","Seattle","WA","N/A","N/A",85.139999399999994]
["98116","Seattle","WA","N/A","N/A",85.139999399999994]
["98117","Seattle","WA","N/A","N/A",85.139999399999994]
["98125","Seattle","WA","N/A","N/A",85.139999399999994]
["98126","Seattle","WA","N/A","N/A",85.139999399999994]
["98133","Seattle","WA","N/A","N/A",85.139999399999994]
["98136","Seattle","WA","N/A","N/A",85.139999399999994]
["98146","Seattle","WA","N/A","N/A",85.139999399999994]
["98148","Seattle","WA","N/A","N/A",85.139999399999994]
["98155","Seattle","WA","N/A","N/A",85.139999399999994]
["98158","Seattle","WA","N/A","N/A",85.139999399999994]
["98166","Seattle","WA","N/A","N/A",85.139999399999994]
["98177","Seattle","WA","N/A","N/A",85.139999399999994]
["98195","Univ Of Washington","WA","N/A","N/A",85.139999399999994]
["98198","Seattle","WA","N/A","N/A",85.139999399999994]
["98204","Everett","WA","N/A","N/A",85.139999399999994]
["98275","Mukilteo","WA","N/A","N/A",85.139999399999994]
["98388","Steilacoom","WA","N/A","N/A",85.139999399999994]
["98402","Tacoma","WA","N/A","N/A",85.139999399999994]
["98403","Tacoma","WA","N/A","N/A",85.139999399999994]
["98405","Tacoma","WA","N/A","N/A",85.139999399999994]
["98406","Tacoma","WA","N/A","N/A",85.139999399999994]
["98407","Tacoma","WA","N/A","N/A",85.139999399999994]
["98409","Tacoma","WA","N/A","N/A",85.139999399999994]
["98416","University Of Puget Sound","WA","N/A","N/A",85.139999399999994]
["98418","Tacoma","WA","N/A","N/A",85.139999399999994]
["98465","Tacoma","WA","N/A","N/A",85.139999399999994]
["98466","Tacoma","WA","N/A","N/A",85.139999399999994]
["98467","University Place","WA","N/A","N/A",85.139999399999994]
["98498","Lakewood","WA","N/A","N/A",85.139999399999994]
["98503","Lacey","WA","N/A","N/A",85.139999399999994]
["98505","Olympia","WA","N/A","N/A",85.139999399999994]
["98506","Olympia","WA","N/A","N/A",85.139999399999994]
["36360","Ozark","AL",4.7550001000000002,{"$f":"D735*2.54","v":12.077700254},85.160003700000004]
["36362","Fort Rucker","AL",4.7600002000000003,12.090400508000002,85.160003700000004]
["00119","Timbalier Islands","LA",5.5929998999999997,14.206219745999999,85.169998199999995]
["20676","Port Republic","MD",3.4530001000000001,8.7706202540000007,85.199996900000002]
["33767","Clearwater Beach","FL",4.6880002000000003,11.907520508000001,85.239997900000006]
["33786","Belleair Beach","FL",4.6909999999999998,11.915139999999999,85.239997900000006]
["33785","Indian Rocks Beach","FL",4.7090000999999999,11.960860254,85.239997900000006]
["33706","Saint Petersburg","FL",4.8879999999999999,12.415520000000001,85.239997900000006]
["92350","Loma Linda","CA",2.0129999999999999,5.1130199999999997,85.269996599999999]
["92318","Bryn Mawr","CA",2.0299999999999998,5.1561999999999992,85.269996599999999]
["92408","San Bernardino","CA",2.1970000000000001,5.5803799999999999,85.269996599999999]
["92401","San Bernardino","CA",2.2890000000000001,5.8140600000000004,85.269996599999999]
["92410","San Bernardino","CA",2.7320001,6.9392802539999998,85.269996599999999]
["92411","San Bernardino","CA",2.8640001000000002,7.2745602540000007,85.269996599999999]
["92405","San Bernardino","CA",2.96,7.5183999999999997,85.269996599999999]
["91764","Ontario","CA",2.9949998999999998,7.6072997459999998,85.269996599999999]
["91730","Rancho Cucamonga","CA",3.2709999000000001,8.3083397459999997,85.269996599999999]
["91786","Upland","CA",3.3540000999999999,8.5191602539999991,85.269996599999999]
["92376","Rialto","CA",3.6779999999999999,9.3421199999999995,85.269996599999999]
["92377","Rialto","CA",4.4770002,11.371580508000001,85.269996599999999]
["80909","Colorado Springs","CO",1.9239999999999999,4.8869600000000002,85.279998800000001]
["80917","Colorado Springs","CO",1.9330000000000001,4.9098199999999999,85.279998800000001]
["80922","Colorado Springs","CO",1.9359999999999999,4.91744,85.279998800000001]
["80939","Colorado Springs","CO",1.9359999999999999,4.91744,85.279998800000001]
["80918","Colorado Springs","CO",1.9379999999999999,4.9225199999999996,85.279998800000001]
["80927","Colorado Springs","CO",1.95,4.9530000000000003,85.279998800000001]
["80907","Colorado Springs","CO",1.9529999,4.9606197459999999,85.279998800000001]
["80915","Colorado Springs","CO",1.9529999,4.9606197459999999,85.279998800000001]
["80914","Colorado Springs","CO",1.9590000000000001,4.9758599999999999,85.279998800000001]
["80923","Colorado Springs","CO",1.9610000000000001,4.9809400000000004,85.279998800000001]
["28314","Fayetteville","NC",3.7040000000000002,9.4081600000000005,85.279998800000001]
["28307","Fort Bragg","NC",3.7060000999999998,9.4132402539999998,85.279998800000001]
["28308","Pope Army Airfield","NC",3.7060000999999998,9.4132402539999998,85.279998800000001]
["28310","Fort Bragg Military","NC",3.7240000000000002,9.4589600000000011,85.279998800000001]
["28394","Vass","NC",3.7370000000000001,9.4919799999999999,85.279998800000001]
["28387","Southern Pines","NC",3.7420000999999998,9.5046802540000002,85.279998800000001]
["28374","Pinehurst","NC",3.7449998999999998,9.5122997460000001,85.279998800000001]
["28345","Hamlet","NC",3.7460000999999998,9.5148402539999992,85.279998800000001]
["49921","Dodgeville","MI",2.1989999,5.5854597459999997,85.389999399999994]
["29207","Columbia","SC",3.5929999000000001,9.1262197460000003,85.389999399999994]
["49230","Brooklyn","MI",2.4679999000000001,6.2687197460000004,85.440002399999997]
["80864","Yoder","CO",1.798,4.5669200000000005,85.459999100000005]
["69214","Johnstown","NE",2.4860001,6.314440254,85.480003400000001]
["69210","Ainsworth","NE",2.4890001000000002,6.3220602540000002,85.480003400000001]
["68735","Ewing","NE",2.698,6.8529200000000001,85.480003400000001]
["68773","Royal","NE",2.7049998999999998,6.8706997459999997,85.480003400000001]
["05850","Lyndon Center","VT","N/A","N/A",85.529998800000001]
["55155","Saint Paul","MN","N/A","N/A",85.550003099999998]
["84056","Hill AFB","UT",1.8220000000000001,{"$f":"D783*2.54","v":4.6278800000000002},85.550003099999998]
["84408","Ogden","UT",1.8340000000000001,4.6583600000000001,85.550003099999998]
["55103","Saint Paul","MN",2.8139999000000002,7.1475597460000007,85.550003099999998]
["55105","Saint Paul","MN",2.8260000000000001,7.1780400000000002,85.550003099999998]
["55104","Saint Paul","MN",2.8290000000000002,7.1856600000000004,85.550003099999998]
["55114","Saint Paul","MN",2.8290000000000002,7.1856600000000004,85.550003099999998]
["99323","Burbank","WA","N/A","N/A",85.580001800000005]
["36555","Magnolia Springs","AL",5.9330001000000001,{"$f":"D790*2.54","v":15.069820254},85.629997299999999]
["83277","Springfield","ID","N/A","N/A",85.639999399999994]
["67202","Wichita","KS",3.4249999999999998,{"$f":"D792*2.54","v":8.6995000000000005},85.639999399999994]
["69218","Merriman","NE",2.21,{"$f":"D793*2.54","v":5.6134000000000004},85.660003700000004]
["15960","Twin Rocks","PA","N/A","N/A",85.669998199999995]
["23459","Virginia Beach","VA",3.6270001000000001,{"$f":"D795*2.54","v":9.2125802540000006},85.699996900000002]
["28594","Emerald Isle","NC",4.4740000000000002,11.363960000000001,85.699996900000002]
["28512","Atlantic Beach","NC",4.4770002,11.371580508000001,85.699996900000002]
["27943","Hatteras","NC",4.6710000000000003,11.86434,85.699996900000002]
["27972","Salvo","NC",4.6779999999999999,11.88212,85.699996900000002]
["27915","Avon","NC",4.8200002,12.242800508,85.699996900000002]
["31028","Centerville","GA",3.7909999000000001,9.6291397459999999,85.739997900000006]
["31081","Rupert","GA",3.964,10.06856,85.739997900000006]
["89169","Las Vegas","NV",0.999,2.5374599999999998,85.760002099999994]
["87131","Albuquerque","NM",1.228,3.1191200000000001,85.819999699999997]
["87106","Albuquerque","NM",1.244,3.1597599999999999,85.819999699999997]
["97707","Bend","OR","N/A","N/A",85.900001500000002]
["99354","Richland","WA","N/A","N/A",85.900001500000002]
["29160","Swansea","SC",3.6600001,{"$f":"D808*2.54","v":9.2964002539999999},85.940002399999997]
["11727","Coram","NY","N/A","N/A",85.949996900000002]
["11786","Shoreham","NY","N/A","N/A",85.949996900000002]
["11934","Center Moriches","NY","N/A","N/A",85.949996900000002]
["11940","East Moriches","NY","N/A","N/A",85.949996900000002]
["11941","Eastport","NY","N/A","N/A",85.949996900000002]
["11949","Manorville","NY","N/A","N/A",85.949996900000002]
["11950","Mastic","NY","N/A","N/A",85.949996900000002]
["11953","Middle Island","NY","N/A","N/A",85.949996900000002]
["11955","Moriches","NY","N/A","N/A",85.949996900000002]
["11961","Ridge","NY","N/A","N/A",85.949996900000002]
["11977","Westhampton","NY","N/A","N/A",85.949996900000002]
["47809","Terre Haute","IN","N/A","N/A",85.949996900000002]
["93309","Bakersfield","CA",0.98199999999999998,{"$f":"D821*2.54","v":2.4942799999999998},85.970001199999999]
["93304","Bakersfield","CA",0.98399999999999999,2.4993599999999998,85.970001199999999]
["93301","Bakersfield","CA",1.0069999999999999,2.5577799999999997,85.970001199999999]
["93241","Lamont","CA",1.0429999999999999,2.6492199999999997,85.970001199999999]
["53058","Nashotah","WI",2.7149999,6.896099746,85.970001199999999]
["53069","Okauchee","WI",2.7179999000000001,6.9037197460000002,85.970001199999999]
["60537","Millington","IL",2.9349999000000002,7.4548997460000006,85.970001199999999]
["93202","Armona","CA",1.1990000000000001,3.0454600000000003,85.980003400000001]
["95315","Delhi","CA",1.452,3.6880799999999998,85.980003400000001]
["95334","Livingston","CA",1.4590000000000001,3.7058600000000004,85.980003400000001]
["93648","Parlier","CA",1.55,3.9370000000000003,85.980003400000001]
["90254","Hermosa Beach","CA",2.2679999,5.7607197460000004,85.980003400000001]
["90293","Playa del Rey","CA",2.4940000000000002,6.3347600000000011,85.980003400000001]
["90094","Playa Vista","CA",2.5580001000000001,6.4973202540000008,85.980003400000001]
["08732","Island Heights","NJ",3.5270000000000001,8.9585800000000013,85.980003400000001]
["34681","Crystal Beach","FL",4.7629999999999999,12.09802,85.980003400000001]
["33701","Saint Petersburg","FL",4.9450002,12.560300507999999,85.980003400000001]
["32307","Tallahassee","FL","N/A","N/A",85.989997900000006]
["32399","Tallahassee","FL","N/A","N/A",85.989997900000006]
["32308","Tallahassee","FL",4.8499999000000003,{"$f":"D840*2.54","v":12.318999746000001},85.989997900000006]
["32306","Florida State University","FL",4.8680000000000003,{"$f":"D841*2.54","v":12.36472},85.989997900000006]
["32301","Tallahassee","FL",4.9070001000000003,{"$f":"D842*2.54","v":12.463780254000001},85.989997900000006]
["68198","Omaha","NE","N/A","N/A",86]
["79376","Tokio","TX","N/A","N/A",86]
["97044","Odell","OR","N/A","N/A",86]
["98664","Vancouver","WA","N/A","N/A",86]
["99336","Kennewick","WA","N/A","N/A",86]
["99352","Richland","WA","N/A","N/A",86]
["99353","West Richland","WA","N/A","N/A",86]
["87108","Albuquerque","NM",1.2929999999999999,{"$f":"D850*2.54","v":3.2842199999999999},86]
["87110","Albuquerque","NM",1.298,3.2969200000000001,86]
["87109","Albuquerque","NM",1.3140000000000001,3.3375600000000003,86]
["87124","Rio Rancho","NM",1.391,3.5331399999999999,86]
["85031","Phoenix","AZ",1.4299999000000001,3.6321997460000004,86]
["85035","Phoenix","AZ",1.4349999,3.6448997460000001,86]
["85033","Phoenix","AZ",1.4359999999999999,3.64744,86]
["85034","Phoenix","AZ",1.4379999999999999,3.65252,86]
["85019","Phoenix","AZ",1.4419999999999999,3.6626799999999999,86]
["85006","Phoenix","AZ",1.4430000000000001,3.6652200000000001,86]
["85004","Phoenix","AZ",1.4450000999999999,3.6703002539999998,86]
["85353","Tolleson","AZ",1.4450000999999999,3.6703002539999998,86]
["85287","Tempe","AZ",1.448,3.6779199999999999,86]
["85003","Phoenix","AZ",1.45,3.6829999999999998,86]
["85201","Mesa","AZ",1.45,3.6829999999999998,86]
["85017","Phoenix","AZ",1.454,3.6931599999999998,86]
["85203","Mesa","AZ",1.4550000000000001,3.6957000000000004,86]
["85007","Phoenix","AZ",1.46,3.7084000000000001,86]
["85009","Phoenix","AZ",1.4610000000000001,3.7109400000000003,86]
["85303","Glendale","AZ",1.4610000000000001,3.7109400000000003,86]
["85008","Phoenix","AZ",1.466,3.7236400000000001,86]
["85015","Phoenix","AZ",1.466,3.7236400000000001,86]
["85037","Phoenix","AZ",1.466,3.7236400000000001,86]
["85301","Glendale","AZ",1.4680001,3.7287202540000002,86]
["85374","Surprise","AZ",1.47,3.7338,86]
["85302","Glendale","AZ",1.4730000000000001,3.7414200000000002,86]
["85305","Glendale","AZ",1.4730000000000001,3.7414200000000002,86]
["85343","Palo Verde","AZ",1.474,3.74396,86]
["85379","Surprise","AZ",1.478,3.7541199999999999,86]
["85013","Phoenix","AZ",1.4790000000000001,3.7566600000000001,86]
["85392","Avondale","AZ",1.48,3.7591999999999999,86]
["85051","Phoenix","AZ",1.4830000000000001,3.7668200000000005,86]
["85378","Surprise","AZ",1.4830000000000001,{"$f":"D882*2.54","v":3.7668200000000005},86]
["87115","Albuquerque","NM",1.4830000000000001,3.7668200000000005,86]
["85363","Youngtown","AZ",1.484,3.7693599999999998,86]
["85012","Phoenix","AZ",1.4850000000000001,3.7719000000000005,86]
["85307","Glendale","AZ",1.4850000000000001,3.7719000000000005,86]
["85335","El Mirage","AZ",1.4850000000000001,3.7719000000000005,86]
["85345","Peoria","AZ",1.4859998999999999,3.7744397459999997,86]
["85309","Luke Air Force Base","AZ",1.488,3.7795200000000002,86]
["85375","Sun City West","AZ",1.4950000000000001,3.7973000000000003,86]
["85014","Phoenix","AZ",1.5009999999999999,3.8125399999999998,86]
["85351","Sun City","AZ",1.5009999999999999,3.8125399999999998,86]
["85304","Glendale","AZ",1.5069999999999999,3.8277799999999997,86]
["85297","Gilbert","AZ",1.5129999999999999,3.8430199999999997,86]
["85381","Peoria","AZ",1.5129999999999999,3.8430199999999997,86]
["85355","Waddell","AZ",1.5249999999999999,3.8734999999999999,86]
["85395","Goodyear","AZ",1.526,3.8760400000000002,86]
["85258","Scottsdale","AZ",1.53,3.8862000000000001,86]
["85306","Glendale","AZ",1.5470001,3.9293802540000002,86]
["85382","Peoria","AZ",1.5470001,3.9293802540000002,86]
["85254","Scottsdale","AZ",1.5650001,3.975100254,86]
["85123","Arizona City","AZ",1.5680000000000001,3.98272,86]
["85053","Phoenix","AZ",1.5779999,4.0081197460000002,86]
["85027","Phoenix","AZ",1.63,4.1402000000000001,86]
["69026","Danbury","NE",2.6270001000000001,6.6725802540000005,86]
["69036","Lebanon","NE",2.6549999999999998,6.7436999999999996,86]
["68764","Orchard","NE",2.6570000999999999,6.7487802539999997,86]
["68817","Ashton","NE",2.665,6.7690999999999999,86]
["68814","Ansley","NE",2.6749999999999998,6.7944999999999993,86]
["68749","Magnet","NE",2.677,6.7995800000000006,86]
["69046","Wilsonville","NE",2.6800001,6.8072002540000005,86]
["68834","Eddyville","NE",2.681,6.8097400000000006,86]
["68946","Hendley","NE",2.6849999000000002,6.8198997460000008,86]
["68838","Farwell","NE",2.6880000000000002,{"$f":"D914*2.54","v":6.8275200000000007},86]
["68926","Beaver City","NE",2.6889999000000002,6.8300597460000008,86]
["68852","Litchfield","NE",2.7010000000000001,6.8605400000000003,86]
["68831","Dannebrog","NE",2.7559999999999998,7.0002399999999998,86]
["68785","Waterbury","NE",2.8090000000000002,7.1348600000000006,86]
["51550","Magnolia","IA",2.8849999999999998,7.3278999999999996,86]
["68122","Omaha","NE",2.9530001000000001,7.5006202540000002,86]
["68134","Omaha","NE",2.9619998999999999,7.5234797459999996,86]
["68142","Omaha","NE",2.964,7.5285599999999997,86]
["68104","Omaha","NE",2.9660001,7.5336402539999998,86]
["68114","Omaha","NE",2.9690001000000001,7.5412602540000009,86]
["68182","Univ Of Ne Omaha","NE",2.9690001000000001,7.5412602540000009,86]
["68164","Omaha","NE",2.97,7.5438000000000009,86]
["68132","Omaha","NE",2.9710000000000001,7.5463400000000007,86]
["68010","Boys Town","NE",2.9749998999999998,7.5564997459999992,86]
["68034","Kennard","NE",2.9760000999999998,7.5590402539999992,86]
["68116","Omaha","NE",2.9779998999999999,7.5641197460000003,86]
["68154","Omaha","NE",2.9779998999999999,7.5641197460000003,86]
["68131","Omaha","NE",2.9790000999999999,7.5666602540000003,86]
["68118","Omaha","NE",2.9809999,7.5717397460000004,86]
["68124","Omaha","NE",2.9820001,7.5742802540000005,86]
["68144","Omaha","NE",2.9830000000000001,7.5768200000000006,86]
["68130","Omaha","NE",2.9860001,7.5844402540000004,86]
["68007","Bennington","NE",2.9870000000000001,7.5869800000000005,86]
["68106","Omaha","NE",2.9890001000000002,7.5920602540000006,86]
["68135","Omaha","NE",2.99,7.5946000000000007,86]
["68137","Omaha","NE",2.9909998999999998,7.5971397459999999,86]
["68105","Omaha","NE",2.9940000000000002,7.6047600000000006,86]
["73642","Durham","OK",2.9940000000000002,7.6047600000000006,86]
["68127","Omaha","NE",2.9949998999999998,7.6072997459999998,86]
["68117","Omaha","NE",3.0020001000000001,7.6250802540000002,86]
["68136","Omaha","NE",3.0050001000000002,7.6327002540000004,86]
["68128","La Vista","NE",3.0059999999999998,{"$f":"D946*2.54","v":7.6352399999999996},86]
["68157","Omaha","NE",3.0150001,7.6581002539999998,86]
["68138","Omaha","NE",3.016,7.6606399999999999,86]
["68147","Bellevue","NE",3.0309998999999999,7.6987397459999993,86]
["68058","South Bend","NE",3.04,7.7216000000000005,86]
["68046","Papillion","NE",3.0769999000000001,7.815579746,86]
["68133","Papillion","NE",3.0840000999999999,7.8333602539999996,86]
["31045","Jewell","GA",3.625,9.2074999999999996,86]
["30259","Moreland","GA",3.8729998999999999,9.8374197460000001,86]
["96148","Tahoe Vista","CA",3.1659999000000001,8.0416397459999995,86.010002099999994]
["93004","Ventura","CA",3.4590000999999999,8.7858602539999993,86.010002099999994]
["96140","Carnelian Bay","CA",4.3299998999999998,10.998199745999999,86.010002099999994]
["17850","Montandon","PA",2.7829999999999999,7.0688199999999997,86.019996599999999]
["17029","Granville","PA",2.8469999000000001,7.2313797460000009,86.019996599999999]
["18336","Matamoras","PA",3.0480000999999999,7.7419202540000001,86.019996599999999]
["18340","Millrift","PA",3.0599999000000002,7.7723997460000005,86.019996599999999]
["29117","Orangeburg","SC","N/A","N/A",86.029998800000001]
["59748","Ramsay","MT","N/A","N/A",86.050003099999998]
["37996","Knoxville","TN",3.0610000999999998,{"$f":"D964*2.54","v":7.7749402539999997},86.050003099999998]
["08341","Minotola","NJ",3.2759999999999998,{"$f":"D965*2.54","v":8.32104},86.069999699999997]
["08326","Landisville","NJ",3.2789999999999999,{"$f":"D966*2.54","v":8.3286599999999993},86.069999699999997]
["28608","Boone","NC","N/A","N/A",86.080001800000005]
["49322","Coral","MI",2.4230000999999999,{"$f":"D968*2.54","v":6.1544202539999997},86.080001800000005]
["48885","Sidney","MI",2.4279999999999999,6.1671199999999997,86.080001800000005]
["49347","Trufant","MI",2.4409999999999998,6.2001399999999993,86.080001800000005]
["68874","Sargent","NE",2.585,6.5659000000000001,86.080001800000005]
["67736","Gove","KS",2.5969999000000001,6.5963797460000002,86.080001800000005]
["69020","Bartley","NE",2.6229998999999999,6.6624197460000003,86.080001800000005]
["68936","Edison","NE",2.6840000000000002,6.8173600000000008,86.080001800000005]
["68855","Mason City","NE",2.7049998999999998,6.8706997459999997,86.080001800000005]
["68781","Tilden","NE",2.7669999999999999,7.0281799999999999,86.080001800000005]
["53803","Benton","WI",3.0630000000000002,7.7800200000000004,86.080001800000005]
["28707","Balsam","NC",4.3289999999999997,10.995659999999999,86.080001800000005]
["28646","Linville","NC",4.3800001000000002,11.125200254000001,86.080001800000005]
["69132","Dickens","NE",2.3879999999999999,6.0655200000000002,86.099998499999998]
["67743","Levant","KS",2.4200001000000002,6.1468002540000004,86.099998499999998]
["67734","Gem","KS",2.484,6.3093599999999999,86.099998499999998]
["67753","Rexford","KS",2.5030000000000001,6.3576200000000007,86.099998499999998]
["68835","Elba","NE",2.677,6.7995800000000006,86.099998499999998]
["68820","Boelus","NE",2.7309999,6.9367397459999998,86.099998499999998]
["67744","Ludell","KS",2.4830000000000001,6.3068200000000001,86.120002700000001]
["67738","Grinnell","KS",2.5619999999999998,6.5074799999999993,86.120002700000001]
["67737","Grainfield","KS",2.5990000000000002,6.6014600000000003,86.120002700000001]
["83815","Coeur D Alene","ID","N/A","N/A",86.129997299999999]
["36867","Phenix City","AL",4.0139999,{"$f":"D990*2.54","v":10.195559746000001},86.129997299999999]
["36877","Smiths Station","AL",4.0349997999999996,10.248899492,86.129997299999999]
["36874","Salem","AL",4.1030002000000003,10.421620508,86.129997299999999]
["36849","Auburn University","AL",4.1630000999999996,10.574020253999999,86.129997299999999]
["68718","Bloomfield","NE",2.6830001000000001,6.8148202540000007,86.139999399999994]
["68786","Wausa","NE",2.6830001000000001,6.8148202540000007,86.139999399999994]
["68747","McLean","NE",2.6860000999999998,6.8224402539999991,86.139999399999994]
["92392","Victorville","CA",1.9630000999999999,4.9860202539999996,86.150001500000002]
["67653","Norcatur","KS",2.6619999000000001,6.761479746,86.150001500000002]
["66932","Athol","KS",2.714,6.8935599999999999,86.150001500000002]
["67520","Bison","KS",2.7390001000000002,6.9570602540000008,86.150001500000002]
["55952","Lewiston","MN",2.9769999999999999,7.5615800000000002,86.150001500000002]
["55931","Eitzen","MN",3.0289999999999999,7.6936599999999995,86.150001500000002]
["31058","Mauk","GA",3.9849999,10.121899746,86.150001500000002]
["97050","Rufus","OR","N/A","N/A",86.160003700000004]
["67879","Tribune","KS",2.3090000000000002,{"$f":"D1005*2.54","v":5.8648600000000002},86.160003700000004]
["67855","Johnson","KS",2.3359999999999999,5.93344,86.160003700000004]
["67862","Manter","KS",2.3540000999999999,5.979160254,86.160003700000004]
["67953","Richfield","KS",2.3859998999999998,6.0604397459999992,86.160003700000004]
["67880","Ulysses","KS",2.4039999999999999,6.10616,86.160003700000004]
["68726","Clearwater","NE",2.6889999000000002,6.8300597460000008,86.160003700000004]
["68761","Oakdale","NE",2.7249998999999998,6.9214997459999994,86.160003700000004]
["68636","Elgin","NE",2.74,6.9596000000000009,86.160003700000004]
["96087","Shasta","CA",5.7220000999999998,14.533880254,86.160003700000004]
["80920","Colorado Springs","CO",1.976,5.0190400000000004,86.209999100000005]
["80924","Colorado Springs","CO",1.9859998999999999,5.0444397460000001,86.209999100000005]
["80908","Colorado Springs","CO",1.9870000000000001,5.0469800000000005,86.209999100000005]
["22213","Arlington","VA",3.1869999999999998,8.0949799999999996,86.209999100000005]
["22046","Falls Church","VA",3.194,8.1127599999999997,86.209999100000005]
["68853","Loup City","NE",2.6730000999999999,6.7894202539999995,86.220001199999999]
["68844","Hazard","NE",2.7210000000000001,6.91134,86.220001199999999]
["68871","Rockville","NE",2.7240000000000002,6.9189600000000002,86.220001199999999]
["68752","Meadow Grove","NE",2.79,7.0865999999999998,86.220001199999999]
["68715","Battle Creek","NE",2.8010001,7.1145402540000005,86.220001199999999]
["93312","Bakersfield","CA",0.99199999999999999,2.5196800000000001,86.239997900000006]
["69170","Wellfleet","NE",2.4360000999999998,6.1874402539999993,86.239997900000006]
["69025","Curtis","NE",2.516,6.3906400000000003,86.239997900000006]
["69042","Stockville","NE",2.536,6.4414400000000001,86.239997900000006]
["67515","Arnold","KS",2.5439999000000002,6.4617597460000002,86.239997900000006]
["69029","Farnam","NE",2.5639999000000002,6.5125597460000009,86.239997900000006]
["69039","Moorefield","NE",2.5650000999999998,6.5151002539999991,86.239997900000006]
["68837","Elyria","NE",2.5929999000000001,6.5862197460000003,86.239997900000006]
["67740","Hoxie","KS",2.605,6.6166999999999998,86.239997900000006]
["67751","Park","KS",2.605,6.6166999999999998,86.239997900000006]
["67659","Penokee","KS",2.6070001,6.6217802539999999,86.239997900000006]
["67650","Morland","KS",2.6080000000000001,6.62432,86.239997900000006]
["67752","Quinter","KS",2.6080000000000001,6.62432,86.239997900000006]
["68815","Arcadia","NE",2.6329999000000002,{"$f":"D1037*2.54","v":6.6878197460000006},86.239997900000006]
["68862","Ord","NE",2.6340001000000002,6.6903602540000007,86.239997900000006]
["69028","Eustis","NE",2.6359998999999998,6.6954397459999999,86.239997900000006]
["68859","North Loup","NE",2.6440001,6.7157602540000001,86.239997900000006]
["69022","Cambridge","NE",2.6539999999999999,6.7411599999999998,86.239997900000006]
["68948","Holbrook","NE",2.665,6.7690999999999999,86.239997900000006]
["67642","Hill City","KS",2.6680000000000001,6.7767200000000001,86.239997900000006]
["67625","Bogue","KS",2.6739999999999999,6.7919599999999996,86.239997900000006]
["68922","Arapahoe","NE",2.6800001,6.8072002540000005,86.239997900000006]
["68875","Scotia","NE",2.6830001000000001,6.8148202540000007,86.239997900000006]
["67657","Palco","KS",2.6889999000000002,6.8300597460000008,86.239997900000006]
["67632","Damar","KS",2.694,6.8427600000000002,86.239997900000006]
["68878","Sumner","NE",2.6960001,6.8478402540000003,86.239997900000006]
["68858","Miller","NE",2.7069999999999999,6.8757799999999998,86.239997900000006]
["67639","Glade","KS",2.7269999999999999,6.9265799999999995,86.239997900000006]
["68882","Wolbach","NE",2.7269999999999999,6.9265799999999995,86.239997900000006]
["67644","Kirwin","KS",2.7279998999999999,6.9291197459999996,86.239997900000006]
["68812","Amherst","NE",2.734,6.9443599999999996,86.239997900000006]
["68866","Pleasanton","NE",2.7650001,7.023100254,86.239997900000006]
["68869","Ravenna","NE",2.7850001,7.0739002539999998,86.239997900000006]
["55971","Rushford","MN",3.0070000000000001,7.6377800000000002,86.239997900000006]
["55962","Peterson","MN",3.0139999,7.6555597459999998,86.239997900000006]
["73760","Meno","OK",3.3599999,8.5343997460000001,86.239997900000006]
["79016","Canyon","TX","N/A","N/A",86.25]
["79366","Ransom Canyon","TX","N/A","N/A",86.25]
["79379","Whiteface","TX","N/A","N/A",86.25]
["81043","Hartman","CO",2.2440000000000002,{"$f":"D1063*2.54","v":5.6997600000000004},86.25]
["88125","Milnesand","NM",2.4969999999999999,{"$f":"D1064*2.54","v":6.3423799999999995},86.25]
["54750","Maiden Rock","WI",2.9159999000000001,{"$f":"D1065*2.54","v":7.4066397460000006},86.25]
["54769","Stockholm","WI",2.9349999000000002,{"$f":"D1066*2.54","v":7.4548997460000006},86.25]
["67070","Kiowa","KS",3.2909999000000001,{"$f":"D1067*2.54","v":8.3591397460000003},86.25]
["98569","Ocean Shores","WA","N/A","N/A",86.260002099999994]
["87104","Albuquerque","NM",1.1900001,{"$f":"D1069*2.54","v":3.0226002539999999},86.260002099999994]
["87102","Albuquerque","NM",1.2230000000000001,3.1064200000000004,86.260002099999994]
["87107","Albuquerque","NM",1.2370000000000001,3.1419800000000002,86.260002099999994]
["87048","Corrales","NM",1.256,3.1902400000000002,86.260002099999994]
["87113","Albuquerque","NM",1.2709999999999999,3.2283399999999998,86.260002099999994]
["87105","Albuquerque","NM",1.2809999999999999,3.2537399999999996,86.260002099999994]
["87121","Albuquerque","NM",1.2949999999999999,3.2892999999999999,86.260002099999994]
["87060","Tome","NM",1.3029999999999999,3.3096199999999998,86.260002099999994]
["44095","Eastlake","OH",2.3650000000000002,6.0071000000000003,86.260002099999994]
["67109","Mullinville","KS",2.8650000000000002,7.2771000000000008,86.279998800000001]
["69161","Seneca","NE",2.3770001000000001,6.0375802539999999,86.290000899999995]
["69166","Thedford","NE",2.4000001000000002,6.0960002540000007,86.290000899999995]
["69142","Halsey","NE",2.4360000999999998,6.1874402539999993,86.290000899999995]
["69157","Purdum","NE",2.5059999999999998,6.3652399999999991,86.290000899999995]
["68833","Dunning","NE",2.5499999999999998,6.4769999999999994,86.290000899999995]
["68821","Brewster","NE",2.556,6.4922399999999998,86.290000899999995]
["68879","Taylor","NE",2.5699999,6.5277997460000003,86.290000899999995]
["68823","Burwell","NE",2.6019999999999999,6.6090799999999996,86.290000899999995]
["68637","Ericson","NE",2.6700001000000002,6.7818002540000002,86.290000899999995]
["68842","Greeley","NE",2.7069999999999999,6.8757799999999998,86.290000899999995]
["68665","Spalding","NE",2.7269999999999999,6.9265799999999995,86.290000899999995]
["68751","Maskell","NE",2.7809998999999999,7.0637397459999995,86.290000899999995]
["53505","Avalon","WI",2.8599999,7.2643997460000005,86.290000899999995]
["82005","Fe Warren AFB","WY","N/A","N/A",86.300003099999998]
["66608","Topeka","KS",3.4769999999999999,{"$f":"D1093*2.54","v":8.8315800000000007},86.300003099999998]
["66616","Topeka","KS",3.4830000000000001,{"$f":"D1094*2.54","v":8.846820000000001},86.300003099999998]
["37028","Bumpus Mills","TN",3.6659999000000001,{"$f":"D1095*2.54","v":9.3116397460000009},86.300003099999998]
["57197","Sioux Falls","SD","N/A","N/A",86.309997600000003]
["59625","Helena","MT","N/A","N/A",86.309997600000003]
["16411","East Springfield","PA",2.4690001000000001,{"$f":"D1098*2.54","v":6.2712602540000004},86.309997600000003]
["16430","North Springfield","PA",2.484,6.3093599999999999,86.309997600000003]
["16511","Erie","PA",2.5329999999999999,6.4338199999999999,86.309997600000003]
["16503","Erie","PA",2.5459999999999998,6.4668399999999995,86.309997600000003]
["16507","Erie","PA",2.5469998999999999,6.4693797459999995,86.309997600000003]
["16423","Lake City","PA",2.5480000999999999,6.4719202539999996,86.309997600000003]
["16501","Erie","PA",2.5539999,6.4871597459999997,86.309997600000003]
["16502","Erie","PA",2.5580001000000001,6.4973202540000008,86.309997600000003]
["16505","Erie","PA",2.5599999000000002,6.5023997460000009,86.309997600000003]
["82212","Fort Laramie","WY","N/A","N/A",86.319999699999997]
["87567","Santa Cruz","NM",1.3580000000000001,{"$f":"D1108*2.54","v":3.4493200000000002},86.319999699999997]
["67741","Kanorado","KS",2.2469999999999999,5.7073799999999997,86.319999699999997]
["67735","Goodland","KS",2.3250000000000002,5.9055000000000009,86.319999699999997]
["69150","Madrid","NE",2.359,5.99186,86.319999699999997]
["69169","Wallace","NE",2.3620000000000001,5.9994800000000001,86.319999699999997]
["69134","Elsie","NE",2.375,6.0324999999999998,86.319999699999997]
["67733","Edson","KS",2.3989999000000002,6.0934597460000006,86.319999699999997]
["67732","Brewster","KS",2.4100001,6.1214002540000001,86.319999699999997]
["69043","Stratton","NE",2.46,6.2484000000000002,86.319999699999997]
["69040","Palisade","NE",2.4609999999999999,6.2509399999999999,86.319999699999997]
["69044","Trenton","NE",2.4619998999999999,6.253479746,86.319999699999997]
["69032","Hayes Center","NE",2.4660001,6.2636402540000002,86.319999699999997]
["69038","Maywood","NE",2.4969999999999999,6.3423799999999995,86.319999699999997]
["69024","Culbertson","NE",2.5129999999999999,6.3830200000000001,86.319999699999997]
["67701","Colby","KS",2.5150001,6.3881002540000003,86.319999699999997]
["67739","Herndon","KS",2.5209999000000001,6.4033397460000003,86.319999699999997]
["69001","Mc Cook","NE",2.5720000000000001,6.5328800000000005,86.319999699999997]
["69034","Indianola","NE",2.6150000000000002,6.642100000000001,86.319999699999997]
["53808","Dickeyville","WI",3.0420001000000001,7.7266802540000006,86.319999699999997]
["67863","Marienthal","KS",2.4870000000000001,6.31698,86.339996299999996]
["68955","Juniata","NE",2.8650000000000002,7.2771000000000008,86.339996299999996]
["68973","Roseland","NE",2.8940001,7.3507602539999999,86.339996299999996]
["51444","Halbur","IA",3.0209999000000001,7.6733397459999999,86.339996299999996]
["02877","Slocum","RI","N/A","N/A",86.349998499999998]
["20057","Washington","DC","N/A","N/A",86.349998499999998]
["20812","Glen Echo","MD","N/A","N/A",86.349998499999998]
["20896","Garrett Park","MD","N/A","N/A",86.349998499999998]
["84150","Salt Lake City","UT","N/A","N/A",86.349998499999998]
["84094","Sandy","UT",1.393,{"$f":"D1136*2.54","v":3.5382199999999999},86.349998499999998]
["20871","Clarksburg","MD",3.0910001,7.8511402540000006,86.349998499999998]
["20876","Germantown","MD",3.105,7.8867000000000003,86.349998499999998]
["22039","Fairfax Station","VA",3.1280000000000001,7.9451200000000002,86.349998499999998]
["22067","Greenway","VA",3.1309999999999998,7.9527399999999995,86.349998499999998]
["20886","Montgomery Village","MD",3.1389999,7.9730597459999997,86.349998499999998]
["20851","Rockville","MD",3.1530000999999999,8.0086202540000002,86.349998499999998]
["22015","Burke","VA",3.161,8.0289400000000004,86.349998499999998]
["20818","Cabin John","MD",3.1619999000000001,8.0314797460000005,86.349998499999998]
["20852","Rockville","MD",3.1659999000000001,8.0416397459999995,86.349998499999998]
["22152","Springfield","VA",3.1659999000000001,8.0416397459999995,86.349998499999998]
["20853","Rockville","MD",3.1709999999999998,8.0543399999999998,86.349998499999998]
["22032","Fairfax","VA",3.1730000999999999,8.0594202539999991,86.349998499999998]
["20817","Bethesda","MD",3.1749999999999998,8.0644999999999989,86.349998499999998]
["20882","Gaithersburg","MD",3.1749999999999998,8.0644999999999989,86.349998499999998]
["20814","Bethesda","MD",3.1779999999999999,8.07212,86.349998499999998]
["20816","Bethesda","MD",3.1779999999999999,8.07212,86.349998499999998]
["20895","Kensington","MD",3.181,8.079740000000001,86.349998499999998]
["22205","Arlington","VA",3.1860000999999998,8.0924402539999996,86.349998499999998]
["22101","Mc Lean","VA",3.1869999999999998,8.0949799999999996,86.349998499999998]
["20832","Olney","MD",3.1900000999999998,8.1026002540000004,86.349998499999998]
["22180","Vienna","VA",3.1909999999999998,8.1051400000000005,86.349998499999998]
["20906","Silver Spring","MD",3.1919998999999999,8.1076797460000005,86.349998499999998]
["22027","Dunn Loring","VA",3.1919998999999999,8.1076797460000005,86.349998499999998]
["22031","Fairfax","VA",3.194,8.1127599999999997,86.349998499999998]
["22042","Falls Church","VA",3.1960001,8.1178402540000008,86.349998499999998]
["22043","Falls Church","VA",3.1960001,8.1178402540000008,86.349998499999998]
["20860","Sandy Spring","MD",3.1970000000000001,8.1203800000000008,86.349998499999998]
["20902","Silver Spring","MD",3.1970000000000001,8.1203800000000008,86.349998499999998]
["20862","Brinklow","MD",3.198,8.1229200000000006,86.349998499999998]
["20861","Ashton","MD",3.2109999999999999,8.1559399999999993,86.349998499999998]
["20868","Spencerville","MD",3.2160001,8.1686402539999996,86.349998499999998]
["21251","Baltimore","MD",3.3290000000000002,{"$f":"D1168*2.54","v":8.45566},86.349998499999998]
["24566","Keeling","VA",3.3460000000000001,8.4988399999999995,86.349998499999998]
["24570","Lowry","VA",3.3490000000000002,8.5064600000000006,86.349998499999998]
["21252","Towson","MD",3.3629999000000002,8.5420197460000011,86.349998499999998]
["24530","Callands","VA",3.4909998999999998,8.8671397459999994,86.349998499999998]
["24165","Spencer","VA",3.7249998999999998,9.4614997459999994,86.349998499999998]
["24082","Critz","VA",3.7869999000000001,9.6189797460000008,86.349998499999998]
["55026","Frontenac","MN",2.9219998999999999,7.4218797460000001,86.360000600000006]
["55066","Red Wing","MN",2.9219998999999999,7.4218797460000001,86.360000600000006]
["55027","Goodhue","MN",2.9430000999999999,7.4752202539999999,86.360000600000006]
["55041","Lake City","MN",2.9670000000000001,7.5361799999999999,86.360000600000006]
["50467","Rock Falls","IA",3.0790000000000002,7.8206600000000002,86.360000600000006]
["36370","Pansey","AL",4.5060000000000002,11.44524,86.379997299999999]
["36376","Webb","AL",4.5089997999999998,11.452859492,86.379997299999999]
["36321","Cowarts","AL",4.5100002000000003,11.455400508,86.379997299999999]
["36312","Ashford","AL",4.5209998999999996,11.483339745999999,86.379997299999999]
["36319","Columbia","AL",4.5289998000000002,11.503659492000001,86.379997299999999]
["36343","Gordon","AL",4.5389999999999997,11.529059999999999,86.379997299999999]
["36345","Headland","AL",4.5599999000000002,11.582399746,86.379997299999999]
["36320","Cottonwood","AL",4.5749997999999996,11.620499491999999,86.379997299999999]
["36303","Dothan","AL",4.6430001000000001,11.793220254,86.379997299999999]
["36350","Midland City","AL",4.6789999,11.884659746000001,86.379997299999999]
["21540","Luke","MD",2.4159999000000001,6.1366397460000002,86.389999399999994]
["21523","Bloomington","MD",2.4940000000000002,6.3347600000000011,86.389999399999994]
["26292","Thomas","WV",2.6070001,6.6217802539999999,86.389999399999994]
["26717","Elk Garden","WV",2.609,6.6268599999999998,86.389999399999994]
["26720","Gormania","WV",2.6880000000000002,6.8275200000000007,86.389999399999994]
["68849","Univ Of Ne Kearney","NE","N/A","N/A",86.400001500000002]
["79057","McLean","TX","N/A","N/A",86.400001500000002]
["82430","Kirby","WY","N/A","N/A",86.400001500000002]
["93305","Bakersfield","CA",1.095,{"$f":"D1198*2.54","v":2.7812999999999999},86.400001500000002]
["67730","Atwood","KS",2.5190001,6.3982602540000002,86.400001500000002]
["67839","Dighton","KS",2.5430000000000001,6.4592200000000002,86.400001500000002]
["67584","Utica","KS",2.5499999999999998,6.4769999999999994,86.400001500000002]
["67757","Selden","KS",2.5840000999999999,6.563360254,86.400001500000002]
["67635","Dresden","KS",2.5950000000000002,6.5913000000000004,86.400001500000002]
["67643","Jennings","KS",2.6240000999999999,6.6649602540000004,86.400001500000002]
["67629","Clayton","KS",2.6329999000000002,6.6878197460000006,86.400001500000002]
["67749","Oberlin","KS",2.6340001000000002,6.6903602540000007,86.400001500000002]
["67645","Lenora","KS",2.6549999999999998,6.7436999999999996,86.400001500000002]
["67664","Prairie View","KS",2.6830001000000001,6.8148202540000007,86.400001500000002]
["67622","Almena","KS",2.6840000000000002,6.8173600000000008,86.400001500000002]
["67654","Norton","KS",2.6860000999999998,6.8224402539999991,86.400001500000002]
["67646","Logan","KS",2.6989999,6.8554597460000002,86.400001500000002]
["67647","Long Island","KS",2.6989999,6.8554597460000002,86.400001500000002]
["68977","Stamford","NE",2.7160001,6.898640254,86.400001500000002]
["67661","Phillipsburg","KS",2.7309999,6.9367397459999998,86.400001500000002]
["67621","Agra","KS",2.7390001000000002,6.9570602540000008,86.400001500000002]
["68652","Petersburg","NE",2.7449998999999998,6.972299746,86.400001500000002]
["68655","Primrose","NE",2.7460000999999998,6.9748402540000001,86.400001500000002]
["66951","Kensington","KS",2.7469999999999999,6.9773800000000001,86.400001500000002]
["68870","Riverdale","NE",2.7570000000000001,7.0027800000000004,86.400001500000002]
["68627","Cedar Rapids","NE",2.7909999000000001,7.0891397460000007,86.400001500000002]
["68620","Albion","NE",2.8029999999999999,7.1196200000000003,86.400001500000002]
["68623","Belgrade","NE",2.8069999000000001,7.1297797460000005,86.400001500000002]
["68758","Newman Grove","NE",2.8119999999999998,7.1424799999999999,86.400001500000002]
["68660","Saint Edward","NE",2.8220000000000001,7.1678800000000003,86.400001500000002]
["68644","Lindsay","NE",2.8290000000000002,7.1856600000000004,86.400001500000002]
["68642","Humphrey","NE",2.8429999000000001,7.2212197460000001,86.400001500000002]
["68638","Fullerton","NE",2.8640001000000002,7.2745602540000007,86.400001500000002]
["68631","Creston","NE",2.8699998999999998,7.2897997459999999,86.400001500000002]
["61635","East Peoria","IL",2.9920000999999998,7.5996802539999999,86.400001500000002]
["28682","Terrell","NC",3.4279999999999999,{"$f":"D1230*2.54","v":8.7071199999999997},86.400001500000002]
["24536","Coleman Falls","VA",3.4679999000000001,8.8087197460000013,86.400001500000002]
["24079","Copper Hill","VA",3.4879999000000002,8.8595197460000001,86.400001500000002]
["24556","Goode","VA",3.5120000999999998,8.9204802539999992,86.400001500000002]
["30821","Norwood","GA",3.6259999000000001,9.2100397459999996,86.400001500000002]
["27046","Sandy Ridge","NC",3.6280000000000001,9.2151200000000006,86.400001500000002]
["30807","Camak","GA",3.6300001000000002,9.2202002539999999,86.400001500000002]
["30817","Lincolnton","GA",3.6470001000000001,9.2633802540000012,86.400001500000002]
["28638","Hudson","NC",3.6489999000000002,9.2684597460000013,86.400001500000002]
["28637","Hildebran","NC",3.6579999999999999,9.2913200000000007,86.400001500000002]
["28630","Granite Falls","NC",3.661,9.29894,86.400001500000002]
["30824","Thomson","GA",3.6680000000000001,9.3167200000000001,86.400001500000002]
["30813","Grovetown","GA",3.6689999000000002,9.3192597460000002,86.400001500000002]
["30814","Harlem","GA",3.6730000999999999,9.3294202540000004,86.400001500000002]
["30056","Newborn","GA",3.677,9.3395799999999998,86.400001500000002]
["22904","Charlottesville","VA",3.6840000000000002,9.3573599999999999,86.400001500000002]
["30663","Rutledge","GA",3.6949999,9.3852997459999994,86.400001500000002]
["30055","Mansfield","GA",3.6970000000000001,9.3903800000000004,86.400001500000002]
["22903","Charlottesville","VA",3.698,9.3929200000000002,86.400001500000002]
["30634","Dewy Rose","GA",3.7049998999999998,9.4106997459999988,86.400001500000002]
["22901","Charlottesville","VA",3.7060000999999998,9.4132402539999998,86.400001500000002]
["30630","Crawford","GA",3.7060000999999998,9.4132402539999998,86.400001500000002]
["30619","Arnoldsville","GA",3.7090000999999999,9.420860253999999,86.400001500000002]
["27022","Lawsonville","NC",3.7160001,9.438640254000001,86.400001500000002]
["30641","Good Hope","GA",3.7160001,9.438640254000001,86.400001500000002]
["30624","Bowman","GA",3.7190001000000001,9.4462602540000002,86.400001500000002]
["30609","Athens","GA",3.7229999999999999,9.4564199999999996,86.400001500000002]
["30621","Bishop","GA",3.7229999999999999,9.4564199999999996,86.400001500000002]
["30629","Comer","GA",3.7260000999999998,9.4640402540000004,86.400001500000002]
["30602","University Of Georgia","GA",3.7279998999999999,9.4691197460000005,86.400001500000002]
["30683","Winterville","GA",3.7290000999999999,9.4716602539999997,86.400001500000002]
["30096","Duluth","GA",3.7320001,9.4792802540000007,86.400001500000002]
["30605","Athens","GA",3.7320001,{"$f":"D1262*2.54","v":9.4792802540000007},86.400001500000002]
["30677","Watkinsville","GA",3.7360001,9.4894402539999998,86.400001500000002]
["30046","Lawrenceville","GA",3.74,9.4996000000000009,86.400001500000002]
["22959","North Garden","VA",3.7460000999999998,9.5148402539999992,86.400001500000002]
["30016","Covington","GA",3.7490000999999999,9.5224602540000003,86.400001500000002]
["30601","Athens","GA",3.75,9.5250000000000004,86.400001500000002]
["30606","Athens","GA",3.75,9.5250000000000004,86.400001500000002]
["30620","Bethlehem","GA",3.75,9.5250000000000004,86.400001500000002]
["30628","Colbert","GA",3.75,9.5250000000000004,86.400001500000002]
["30622","Bogart","GA",3.7530000000000001,9.5326199999999996,86.400001500000002]
["30043","Lawrenceville","GA",3.7559999999999998,9.5402399999999989,86.400001500000002]
["29681","Simpsonville","SC",3.7570000000000001,9.5427800000000005,86.400001500000002]
["30097","Duluth","GA",3.7590001000000002,9.5478602539999997,86.400001500000002]
["30666","Statham","GA",3.76,9.5503999999999998,86.400001500000002]
["30643","Hartwell","GA",3.7629999999999999,9.5580199999999991,86.400001500000002]
["30646","Hull","GA",3.7639999,9.5605597459999991,86.400001500000002]
["30019","Dacula","GA",3.7669999999999999,9.5681799999999999,86.400001500000002]
["30607","Athens","GA",3.77,9.575800000000001,86.400001500000002]
["22931","Covesville","VA",3.7730000000000001,9.5834200000000003,86.400001500000002]
["30011","Auburn","GA",3.7730000000000001,9.5834200000000003,86.400001500000002]
["30680","Winder","GA",3.7750001000000002,9.5885002540000013,86.400001500000002]
["30024","Suwanee","GA",3.78,9.6012000000000004,86.400001500000002]
["30633","Danielsville","GA",3.78,9.6012000000000004,86.400001500000002]
["30565","Nicholson","GA",3.786,9.6164400000000008,86.400001500000002]
["30516","Bowersville","GA",3.7880001000000001,9.621520254,86.400001500000002]
["30519","Buford","GA",3.7880001000000001,9.621520254,86.400001500000002]
["30662","Royston","GA",3.7880001000000001,9.621520254,86.400001500000002]
["30548","Hoschton","GA",3.7930000000000001,9.6342200000000009,86.400001500000002]
["30517","Braselton","GA",3.7980000999999999,9.6469202539999994,86.400001500000002]
["30234","Jenkinsburg","GA",3.8,9.6519999999999992,86.400001500000002]
["30549","Jefferson","GA",3.8110000999999998,9.6799402539999999,86.400001500000002]
["30252","McDonough","GA",3.8119999999999998,9.68248,86.400001500000002]
["30520","Canon","GA",3.8119999999999998,{"$f":"D1294*2.54","v":9.68248},86.400001500000002]
["30518","Buford","GA",3.8199999,9.7027997460000002,86.400001500000002]
["30575","Talmo","GA",3.8280001000000001,9.7231202540000012,86.400001500000002]
["30188","Woodstock","GA",3.8319999999999999,9.7332800000000006,86.400001500000002]
["30253","McDonough","GA",3.8329998999999999,9.7358197460000007,86.400001500000002]
["30567","Pendergrass","GA",3.8329998999999999,9.7358197460000007,86.400001500000002]
["30530","Commerce","GA",3.839,9.7510600000000007,86.400001500000002]
["30233","Jackson","GA",3.8440001000000001,9.763760254000001,86.400001500000002]
["30248","Locust Grove","GA",3.8440001000000001,9.763760254000001,86.400001500000002]
["30542","Flowery Branch","GA",3.8440001000000001,9.763760254000001,86.400001500000002]
["30529","Commerce","GA",3.8529998999999999,9.7866197459999995,86.400001500000002]
["30189","Woodstock","GA",3.8540000999999999,9.7891602540000004,86.400001500000002]
["30102","Acworth","GA",3.8580000000000001,9.7993199999999998,86.400001500000002]
["30566","Oakwood","GA",3.8610001,9.8069402540000006,86.400001500000002]
["30265","Newnan","GA",3.8650000000000002,9.8170999999999999,86.400001500000002]
["30553","Lavonia","GA",3.8699998999999998,9.8297997459999991,86.400001500000002]
["30224","Griffin","GA",3.875,9.8424999999999994,86.400001500000002]
["30292","Williamson","GA",3.875,9.8424999999999994,86.400001500000002]
["30101","Acworth","GA",3.8840001000000002,9.8653602540000005,86.400001500000002]
["30220","Grantville","GA",3.9020000000000001,9.9110800000000001,86.400001500000002]
["30504","Gainesville","GA",3.9070000999999999,9.9237802540000004,86.400001500000002]
["31097","Yatesville","GA",3.9180000000000001,9.9517199999999999,86.400001500000002]
["30521","Carnesville","GA",3.9340000000000002,9.9923599999999997,86.400001500000002]
["30543","Gillsville","GA",3.9349999000000002,9.9948997460000015,86.400001500000002]
["30040","Cumming","GA",3.9380000000000002,10.002520000000001,86.400001500000002]
["30132","Dallas","GA",3.9430000999999999,10.015220253999999,86.400001500000002]
["31812","Junction City","GA",3.9449999,10.020299746000001,86.400001500000002]
["30118","Carrollton","GA",3.9460001,10.022840254,86.400001500000002]
["30117","Carrollton","GA",3.9489999,10.030459746,86.400001500000002]
["30557","Martin","GA",3.9549998999999998,10.045699746,86.400001500000002]
["30507","Gainesville","GA",3.9579998999999999,10.053319746,86.400001500000002]
["30041","Cumming","GA",3.9609999999999999,10.06094,86.400001500000002]
["30230","Hogansville","GA",3.9719999000000001,{"$f":"D1326*2.54","v":10.088879746},86.400001500000002]
["30187","Winston","GA",3.9740000000000002,10.093960000000001,86.400001500000002]
["30501","Gainesville","GA",3.9779998999999999,10.104119746,86.400001500000002]
["30141","Hiram","GA",3.9809999,10.111739746,86.400001500000002]
["30157","Dallas","GA",3.984,10.11936,86.400001500000002]
["30180","Villa Rica","GA",3.984,10.11936,86.400001500000002]
["35824","Huntsville","AL",3.9909998999999998,10.137139745999999,86.400001500000002]
["30241","LaGrange","GA",4.0389999999999997,10.25906,86.400001500000002]
["30538","Eastanollee","GA",4.0599999000000002,10.312399746000001,86.400001500000002]
["30506","Gainesville","GA",4.0809999000000001,10.365739746000001,86.400001500000002]
["30511","Baldwin","GA",4.1570001000000003,10.558780254,86.400001500000002]
["30510","Alto","GA",4.1810001999999997,10.619740508,86.400001500000002]
["30554","Lula","GA",4.2160000999999996,10.708640253999999,86.400001500000002]
["24363","Mouth of Wilson","VA",4.2210001999999998,10.721340507999999,86.400001500000002]
["30531","Cornelia","GA",4.2820001000000003,10.876280254000001,86.400001500000002]
["30535","Demorest","GA",4.3270001000000002,10.990580254000001,86.400001500000002]
["29696","West Union","SC",4.3540001000000004,11.059160254000002,86.400001500000002]
["30563","Mount Airy","GA",4.3940001000000004,11.160760254000001,86.400001500000002]
["24185","Woolwine","VA",4.5219997999999997,11.485879491999999,86.400001500000002]
["95354","Modesto","CA",1.5309999999999999,3.8887399999999999,86.410003700000004]
["37614","Johnson City","TN",2.7260000999999998,6.9240402539999995,86.410003700000004]
["51562","Panama","IA",3.0039999000000002,7.6301597460000004,86.410003700000004]
["51461","Schleswig","IA",3.0280000999999999,7.6911202539999994,86.410003700000004]
["51653","Tabor","IA",3.2939999000000002,8.3667597460000014,86.410003700000004]
["69211","Cody","NE",2.2590001000000002,5.7378602540000001,86.430000300000003]
["69216","Kilgore","NE",2.3010001,5.844540254,86.430000300000003]
["69212","Crookston","NE",2.3110000999999998,5.8699402539999994,86.430000300000003]
["69201","Valentine","NE",2.411,6.1239400000000002,86.430000300000003]
["32561","Gulf Breeze","FL",5.9489998999999996,15.110459745999998,86.440002399999997]
["32548","Fort Walton Beach","FL",6.0159998000000003,15.280639492000001,86.440002399999997]
["28631","Grassy Creek","NC",3.4969999999999999,8.8823799999999995,86.449996900000002]
["28663","Piney Creek","NC",3.5350001,8.9789002540000009,86.449996900000002]
["28672","Scottville","NC",3.8029999999999999,{"$f":"D1358*2.54","v":9.6596200000000003},86.449996900000002]
["99164","Washington State University","WA","N/A","N/A",86.459999100000005]
["19944","Fenwick Island","DE",3.359,{"$f":"D1360*2.54","v":8.53186},86.459999100000005]
["93458","Santa Maria","CA",2.1830001000000001,5.5448202540000002,86.470001199999999]
["56301","Saint Cloud","MN",2.7240000000000002,6.9189600000000002,86.470001199999999]
["84106","Salt Lake City","UT",1.478,3.7541199999999999,86.5]
["84111","Salt Lake City","UT",1.5089999000000001,3.832859746,86.5]
["84105","Salt Lake City","UT",1.5329999999999999,3.8938199999999998,86.5]
["84102","Salt Lake City","UT",1.599,4.0614600000000003,86.5]
["84112","Salt Lake City","UT",1.6670001000000001,4.234180254,86.5]
["49037","Battle Creek","MI",2.552,6.4820799999999998,86.5]
["54765","Sand Creek","WI",2.8319999999999999,7.1932799999999997,86.5]
["28693","Warrensville","NC",3.9079999999999999,9.9263200000000005,86.5]
["28615","Creston","NC",4.4060001,11.191240254,86.5]
["28684","Todd","NC",4.5630002000000003,11.590020508,86.5]
["22309","Alexandria","VA",3.1489999000000002,7.9984597460000009,86.519996599999999]
["22203","Arlington","VA",3.1579999999999999,8.0213199999999993,86.519996599999999]
["22041","Falls Church","VA",3.1760001,8.0670402540000001,86.519996599999999]
["22044","Falls Church","VA",3.1789999,8.074659746,86.519996599999999]
["22003","Annandale","VA",3.1930000999999999,8.1102202539999997,86.519996599999999]
["22476","Hustle","VA",3.23,8.2042000000000002,86.519996599999999]
["23126","Newtown","VA",3.2309999,8.2067397460000002,86.519996599999999]
["22538","Rappahannock Academy","VA",3.2429999999999999,8.2372200000000007,86.519996599999999]
["22427","Bowling Green","VA",3.2530000000000001,8.2626200000000001,86.519996599999999]
["23023","Bruington","VA",3.2829999999999999,8.3388200000000001,86.519996599999999]
["23222","Richmond","VA",3.3359999999999999,8.4734400000000001,86.519996599999999]
["23176","Wake","VA",3.4070000999999999,8.6537802539999991,86.519996599999999]
["23062","Gloucester Point","VA",3.5510001,9.0195402540000007,86.519996599999999]
["49060","Hickory Corners","MI",2.556,6.4922399999999998,86.529998800000001]
["49015","Battle Creek","MI",2.5630000000000002,6.5100200000000008,86.529998800000001]
["49012","Augusta","MI",2.5639999000000002,6.5125597460000009,86.529998800000001]
["49083","Richland","MI",2.5710001,6.5303402540000004,86.529998800000001]
["49053","Galesburg","MI",2.5790000000000002,6.5506600000000006,86.529998800000001]
["49004","Kalamazoo","MI",2.5840000999999999,6.563360254,86.529998800000001]
["49007","Kalamazoo","MI",2.5859999999999999,6.5684399999999998,86.529998800000001]
["49001","Kalamazoo","MI",2.5920000000000001,6.5836800000000002,86.529998800000001]
["49006","Kalamazoo","MI",2.5929999000000001,6.5862197460000003,86.529998800000001]
["49048","Kalamazoo","MI",2.5940001000000001,6.5887602540000003,86.529998800000001]
["49008","Kalamazoo","MI",2.5960000000000001,6.5938400000000001,86.529998800000001]
["49002","Portage","MI",2.605,6.6166999999999998,86.529998800000001]
["49024","Portage","MI",2.6099999,6.6293997459999998,86.529998800000001]
["55956","Mazeppa","MN",2.9590000999999999,7.5158602539999997,86.540000899999995]
["79056","Lipscomb","TX","N/A","N/A",86.550003099999998]
["88103","Cannon AFB","NM",2.4409999999999998,{"$f":"D1401*2.54","v":6.2001399999999993},86.550003099999998]
["73858","Shattuck","OK",2.8870000999999998,7.3329802539999998,86.550003099999998]
["73843","Gage","OK",2.9159999000000001,7.4066397460000006,86.550003099999998]
["79011","Briscoe","TX",3.0250001000000002,7.683500254000001,86.550003099999998]
["73622","Bessie","OK",3.3959999000000001,8.6258397460000005,86.550003099999998]
["73024","Corn","OK",3.4719999000000001,8.8188797460000004,86.550003099999998]
["73021","Colony","OK",3.4760000999999998,8.8290402539999988,86.550003099999998]
["94104","San Francisco","CA",2.2820000999999999,5.796280254,86.569999699999997]
["94108","San Francisco","CA",2.2920001000000001,5.8216802540000003,86.569999699999997]
["94102","San Francisco","CA",2.323,5.9004199999999996,86.569999699999997]
["94115","San Francisco","CA",2.4049999999999998,6.1086999999999998,86.569999699999997]
["94121","San Francisco","CA",2.5250001000000002,6.4135002540000006,86.569999699999997]
["94118","San Francisco","CA",2.5259999999999998,6.4160399999999997,86.569999699999997]
["50142","Le Grand","IA",3.052,7.7520800000000003,86.569999699999997]
["06016","Broad Brook","CT","N/A","N/A",86.589996299999996]
["40855","Lynch","KY",2.7930000000000001,{"$f":"D1416*2.54","v":7.0942200000000009},86.599998499999998]
["40807","Benham","KY",2.9239999999999999,7.4269600000000002,86.599998499999998]
["40964","Mary Alice","KY",3.0599999000000002,7.7723997460000005,86.599998499999998]
["40830","Gulston","KY",3.0699999,7.7977997459999999,86.599998499999998]
["40829","Grays Knob","KY",3.073,7.8054199999999998,86.599998499999998]
["40863","Pathfork","KY",3.109,7.8968600000000002,86.599998499999998]
["40801","Ages Brookside","KY",3.1099999,7.8993997460000003,86.599998499999998]
["40818","Coalgood","KY",3.1379999999999999,7.9705199999999996,86.599998499999998]
["40815","Cawood","KY",3.1719998999999999,8.0568797459999999,86.599998499999998]
["40847","Kenvir","KY",3.2190001000000001,8.1762602540000007,86.599998499999998]
["40828","Evarts","KY",3.3010001,8.3845402540000009,86.599998499999998]
["40843","Holmes Mill","KY",3.319,8.4302600000000005,86.599998499999998]
["40927","Closplint","KY",3.3210001,8.4353402539999998,86.599998499999998]
["42140","Gamaliel","KY",3.5120000999999998,8.9204802539999992,86.599998499999998]
["42153","Holland","KY",3.5590000000000002,9.0398600000000009,86.599998499999998]
["30025","Social Circle","GA",3.7130000999999999,9.4310202539999999,86.599998499999998]
["30655","Monroe","GA",3.7269999999999999,9.4665800000000004,86.599998499999998]
["30656","Monroe","GA",3.7440000000000002,9.50976,86.599998499999998]
["13071","Genoa","NY","N/A","N/A",86.620002700000001]
["13147","Scipio Center","NY","N/A","N/A",86.620002700000001]
["14415","Bellona","NY","N/A","N/A",86.620002700000001]
["14522","Palmyra","NY","N/A","N/A",86.620002700000001]
["57245","Kranzburg","SD","N/A","N/A",86.629997299999999]
["49729","Ellsworth","MI",2.1889999000000002,{"$f":"D1439*2.54","v":5.5600597460000003},86.629997299999999]
["57007","Brookings","SD",2.5439999000000002,6.4617597460000002,86.629997299999999]
["69168","Venango","NE",2.2730000000000001,5.7734200000000007,86.639999399999994]
["69140","Grant","NE",2.3519999999999999,5.9740799999999998,86.639999399999994]
["51430","Arcadia","IA",3.0270000000000001,7.6885800000000009,86.639999399999994]
["55935","Fountain","MN",3.0350001,7.7089002540000005,86.639999399999994]
["55965","Preston","MN",3.0539999,7.7571597460000001,86.639999399999994]
["68037","Louisville","NE",3.1309999999999998,7.9527399999999995,86.639999399999994]
["28623","Ennice","NC",3.5169999999999999,8.9331800000000001,86.639999399999994]
["28668","Roaring Gap","NC",3.5630000000000002,9.05002,86.639999399999994]
["28735","Gerton","NC",3.6329999000000002,9.2278197459999998,86.639999399999994]
["28627","Glade Valley","NC",3.6670001000000001,9.314180254,86.639999399999994]
["28649","Mc Grady","NC",3.7920001000000001,9.6316802540000008,86.639999399999994]
["28622","Elk Park","NC",3.8690000000000002,9.8272600000000008,86.639999399999994]
["28665","Purlear","NC",3.9170001000000001,9.9491802539999998,86.639999399999994]
["28679","Sugar Grove","NC",3.9569999999999999,10.05078,86.639999399999994]
["28618","Deep Gap","NC",3.9679999000000001,10.078719746000001,86.639999399999994]
["28651","Millers Creek","NC",3.9719999000000001,10.088879746,86.639999399999994]
["28675","Sparta","NC",3.9949998999999998,10.147299746,86.639999399999994]
["28626","Fleetwood","NC",3.9960000999999998,10.149840253999999,86.639999399999994]
["28644","Laurel Springs","NC",4.1220001999999996,10.469880507999999,86.639999399999994]
["28756","Mill Spring","NC",4.4020000000000001,11.18108,86.639999399999994]
["28604","Banner Elk","NC",4.5040002000000001,11.440160508,86.639999399999994]
["28698","Zionville","NC",4.5689998000000003,11.605259492,86.639999399999994]
["28692","Vilas","NC",4.5869999000000004,11.650979746000001,86.639999399999994]
["28607","Boone","NC",4.8179997999999999,12.237719492,86.639999399999994]
["28605","Blowing Rock","NC",4.8270001000000002,12.260580254000001,86.639999399999994]
["28775","Scaly Mountain","NC",5.6630000999999996,14.384020253999999,86.639999399999994]
["28783","Tuckasegee","NC",6.1609997999999999,15.648939492,86.639999399999994]
["87006","Bosque","NM",1.2569999999999999,3.19278,86.650001500000002]
["88001","Las Cruces","NM",1.415,3.5941000000000001,86.650001500000002]
["87062","Veguita","NM",1.5329999999999999,3.8938199999999998,86.650001500000002]
["17551","Millersville","PA",3,{"$f":"D1471*2.54","v":7.62},86.650001500000002]
["27299","Linwood","NC",3.3490000000000002,8.5064600000000006,86.660003700000004]
["28031","Cornelius","NC",3.3789999000000002,8.5826597460000009,86.660003700000004]
["27358","Summerfield","NC",3.3980000000000001,8.6309199999999997,86.660003700000004]
["28117","Mooresville","NC",3.4170001000000001,8.6791802540000003,86.660003700000004]
["28006","Alexis","NC",3.4180000000000001,8.6817200000000003,86.660003700000004]
["27357","Stokesdale","NC",3.4360000999999998,8.7274402539999993,86.660003700000004]
["28166","Troutman","NC",3.4360000999999998,8.7274402539999993,86.660003700000004]
["27051","Walkertown","NC",3.444,8.7477599999999995,86.660003700000004]
["27695","Raleigh","NC",3.4519999000000001,8.7680797459999997,86.660003700000004]
["27571","Rolesville","NC",3.4549998999999998,8.775699745999999,86.660003700000004]
["27615","Raleigh","NC",3.4569999999999999,8.78078,86.660003700000004]
["27614","Raleigh","NC",3.4579998999999999,8.7833197460000001,86.660003700000004]
["27616","Raleigh","NC",3.48,8.8391999999999999,86.660003700000004]
["28673","Sherrills Ford","NC",3.49,8.8646000000000011,86.660003700000004]
["28037","Denver","NC",3.4940000000000002,8.8747600000000002,86.660003700000004]
["27545","Knightdale","NC",3.5030000000000001,8.8976199999999999,86.660003700000004]
["28080","Iron Station","NC",3.5120000999999998,8.9204802539999992,86.660003700000004]
["28609","Catawba","NC",3.5250001000000002,8.9535002540000015,86.660003700000004]
["28634","Harmony","NC",3.53,8.9661999999999988,86.660003700000004]
["28610","Claremont","NC",3.5409999000000001,8.9941397460000001,86.660003700000004]
["28678","Stony Point","NC",3.5590000000000002,9.0398600000000009,86.660003700000004]
["28660","Olin","NC",3.5819999999999999,9.098279999999999,86.660003700000004]
["28613","Conover","NC",3.5829998999999999,9.1008197459999991,86.660003700000004]
["28650","Maiden","NC",3.5829998999999999,9.1008197459999991,86.660003700000004]
["28033","Crouse","NC",3.6300001000000002,9.2202002539999999,86.660003700000004]
["28601","Hickory","NC",3.6440001,9.2557602540000001,86.660003700000004]
["28658","Newton","NC",3.6570000999999999,9.2887802540000006,86.660003700000004]
["29644","Fountain Inn","SC",3.6700001000000002,9.3218002540000011,86.660003700000004]
["28685","Traphill","NC",3.6739999999999999,9.3319600000000005,86.660003700000004]
["28021","Cherryville","NC",3.6849999000000002,9.359899746,86.660003700000004]
["28073","Grover","NC",3.7119998999999999,9.4284797460000007,86.660003700000004]
["28602","Hickory","NC",3.7229999999999999,{"$f":"D1503*2.54","v":9.4564199999999996},86.660003700000004]
["28168","Vale","NC",3.7330000000000001,9.4818200000000008,86.660003700000004]
["28152","Shelby","NC",3.74,9.4996000000000009,86.660003700000004]
["29680","Simpsonville","SC",3.7409998999999998,9.5021397459999992,86.660003700000004]
["28150","Shelby","NC",3.7850001,9.6139002540000007,86.660003700000004]
["28635","Hays","NC",3.8,9.6519999999999992,86.660003700000004]
["28090","Lawndale","NC",3.8150000999999998,9.690100253999999,86.660003700000004]
["28114","Mooresboro","NC",3.8299998999999998,9.7281997459999996,86.660003700000004]
["28160","Spindale","NC",3.8820000000000001,9.8602800000000013,86.660003700000004]
["28043","Forest City","NC",3.9070000999999999,9.9237802540000004,86.660003700000004]
["29672","Seneca","SC",4.3080001000000001,10.942320254,86.660003700000004]
["28722","Columbus","NC",4.6570001000000003,11.828780254000002,86.660003700000004]
["87083","Cochiti Lake","NM",1.4990000000000001,3.8074600000000003,86.680000300000003]
["41085","Silver Grove","KY",2.8859998999999998,7.3304397459999997,86.680000300000003]
["23294","Henrico","VA",3.323,8.4404199999999996,86.680000300000003]
["23173","Richmond","VA",3.3319999999999999,8.4632799999999992,86.680000300000003]
["23894","Wilsons","VA",3.3380000999999999,8.4785202539999993,86.680000300000003]
["23950","La Crosse","VA",3.3580000000000001,8.5293200000000002,86.680000300000003]
["23938","Dundas","VA",3.3870000999999998,8.6029802540000002,86.680000300000003]
["23876","Rawlings","VA",3.3929999,8.6182197459999994,86.680000300000003]
["23885","Sutherland","VA",3.4000001000000002,8.6360002540000007,86.680000300000003]
["23920","Brodnax","VA",3.4059998999999999,8.6512397459999999,86.680000300000003]
["23821","Alberta","VA",3.411,8.6639400000000002,86.680000300000003]
["97010","Bridal Veil","OR","N/A","N/A",86.690002399999997]
["54670","Wilton","WI",2.8329998999999999,{"$f":"D1527*2.54","v":7.1958197459999997},86.699996900000002]
["54648","Norwalk","WI",2.8429999000000001,7.2212197460000001,86.699996900000002]
["54651","Ontario","WI",2.8510000999999998,7.2415402539999993,86.699996900000002]
["54619","Cashton","WI",2.8959999000000001,7.355839746,86.699996900000002]
["53526","Cobb","WI",3.0289999999999999,7.6936599999999995,86.699996900000002]
["29645","Gray Court","SC",3.6179999999999999,9.1897199999999994,86.699996900000002]
["30545","Helen","GA",5.5869999000000004,14.190979746000002,86.699996900000002]
["88003","Las Cruces","NM",1.3940001,3.5407602539999998,86.709999100000005]
["87941","Salem","NM",1.444,3.6677599999999999,86.709999100000005]
["87823","Lemitar","NM",1.464,3.7185600000000001,86.709999100000005]
["88047","Mesilla Park","NM",1.464,3.7185600000000001,86.709999100000005]
["87936","Garfield","NM",1.4680001,3.7287202540000002,86.709999100000005]
["53804","Bloomington","WI",3.0179999,7.6657197459999997,86.709999100000005]
["53820","Potosi","WI",3.0420001000000001,7.7266802540000006,86.709999100000005]
["53569","Montfort","WI",3.0459999999999998,7.7368399999999999,86.709999100000005]
["53809","Fennimore","WI",3.0469998999999999,7.739379746,86.709999100000005]
["53553","Linden","WI",3.0569999000000001,7.7647797460000003,86.709999100000005]
["53580","Rewey","WI",3.0580001000000001,7.7673202540000004,86.709999100000005]
["53825","Stitzer","WI",3.0590000000000002,7.7698600000000004,86.709999100000005]
["53813","Lancaster","WI",3.0599999000000002,7.7723997460000005,86.709999100000005]
["53554","Livingston","WI",3.0610000999999998,7.7749402539999997,86.709999100000005]
["53807","Cuba City","WI",3.0630000000000002,7.7800200000000004,86.709999100000005]
["28164","Stanley","NC",3.4170001000000001,8.6791802540000003,86.709999100000005]
["29229","Columbia","SC",3.589,9.1160599999999992,86.709999100000005]
["29741","Ruby","SC",3.5979999999999999,9.1389200000000006,86.709999100000005]
["28016","Bessemer City","NC",3.6190000000000002,9.192260000000001,86.709999100000005]
["29169","West Columbia","SC",3.6259999000000001,9.2100397459999996,86.709999100000005]
["29073","Lexington","SC",3.641,9.2481399999999994,86.709999100000005]
["28092","Lincolnton","NC",3.6429999,9.2532197459999992,86.709999100000005]
["79908","El Paso","TX","N/A","N/A",86.720001199999999]
["79918","Fort Bliss","TX","N/A","N/A",86.720001199999999]
["79925","El Paso","TX","N/A","N/A",86.720001199999999]
["79935","El Paso","TX","N/A","N/A",86.720001199999999]
["79936","El Paso","TX","N/A","N/A",86.720001199999999]
["79342","Loop","TX","N/A","N/A",86.730003400000001]
["83802","Avery","ID","N/A","N/A",86.730003400000001]
["98535","Copalis Beach","WA","N/A","N/A",86.730003400000001]
["79377","Welch","TX","N/A","N/A",86.75]
["81084","Two Buttes","CO",2.3239999,{"$f":"D1565*2.54","v":5.9029597460000005},86.75]
["81087","Vilas","CO",2.3290000000000002,5.9156600000000008,86.75]
["81090","Walsh","CO",2.3829999000000002,6.0528197460000008,86.75]
["61263","Matherville","IL",2.9560000999999998,7.5082402539999995,86.75]
["61087","Warren","IL",3.0590000000000002,7.7698600000000004,86.75]
["62026","Southern Illinois University","IL",3.1120000000000001,7.9044800000000004,86.75]
["63934","Clubb","MO",3.7119998999999999,9.4284797460000007,86.779998800000001]
["63951","Lowndes","MO",3.7449998999999998,9.5122997460000001,86.779998800000001]
["63750","Gipsy","MO",3.7530000000000001,9.5326199999999996,86.779998800000001]
["63944","Greenville","MO",3.7570000000000001,9.5427800000000005,86.779998800000001]
["61015","Chana","IL",2.9260001,7.4320402540000003,86.790000899999995]
["17565","Pequea","PA",2.9660001,7.5336402539999998,86.790000899999995]
["17532","Holtwood","PA",2.9710000000000001,7.5463400000000007,86.790000899999995]
["17516","Conestoga","PA",2.9849999,7.5818997460000004,86.790000899999995]
["17582","Washington Boro","PA",2.9920000999999998,7.5996802539999999,86.790000899999995]
["17554","Mountville","PA",3.0070000000000001,7.6377800000000002,86.790000899999995]
["17584","Willow Street","PA",3.0209999000000001,7.6733397459999999,86.790000899999995]
["17366","Windsor","PA",3.0230000000000001,7.67842,86.790000899999995]
["17329","Glenville","PA",3.03,7.6961999999999993,86.790000899999995]
["17560","New Providence","PA",3.036,7.7114400000000005,86.790000899999995]
["17518","Drumore","PA",3.0390000000000001,7.7190600000000007,86.790000899999995]
["17360","Seven Valleys","PA",3.052,7.7520800000000003,86.790000899999995]
["17579","Strasburg","PA",3.0619999999999998,7.7774799999999997,86.790000899999995]
["17309","Brogue","PA",3.0639999000000002,7.7825597460000004,86.790000899999995]
["17356","Red Lion","PA",3.0769999000000001,7.815579746,86.790000899999995]
["17302","Airville","PA",3.0969999000000001,7.8663797460000007,86.790000899999995]
["21157","Westminster","MD",3.1140001000000002,7.9095602540000005,86.790000899999995]
["17322","Felton","PA",3.1259999000000001,7.9400397460000001,86.790000899999995]
["17314","Delta","PA",3.1270001000000001,7.9425802540000001,86.790000899999995]
["17327","Glen Rock","PA",3.1270001000000001,7.9425802540000001,86.790000899999995]
["17321","Fawn Grove","PA",3.1470001000000001,7.9933802540000007,86.790000899999995]
["17361","Shrewsbury","PA",3.1549999999999998,8.0137,86.790000899999995]
["17352","New Park","PA",3.1659999000000001,{"$f":"D1597*2.54","v":8.0416397459999995},86.790000899999995]
["17566","Quarryville","PA",3.1659999000000001,8.0416397459999995,86.790000899999995]
["21797","Woodbine","MD",3.1789999,8.074659746,86.790000899999995]
["21048","Finksburg","MD",3.181,8.079740000000001,86.790000899999995]
["17349","New Freedom","PA",3.1819999000000001,8.0822797460000011,86.790000899999995]
["17363","Stewartstown","PA",3.1819999000000001,8.0822797460000011,86.790000899999995]
["21132","Pylesville","MD",3.1819999000000001,8.0822797460000011,86.790000899999995]
["21723","Cooksville","MD",3.1840000000000002,8.0873600000000003,86.790000899999995]
["21738","Glenwood","MD",3.1880000000000002,8.0975200000000012,86.790000899999995]
["17536","Kirkwood","PA",3.1900000999999998,8.1026002540000004,86.790000899999995]
["21074","Hampstead","MD",3.1909999999999998,8.1051400000000005,86.790000899999995]
["21102","Manchester","MD",3.194,8.1127599999999997,86.790000899999995]
["17509","Christiana","PA",3.1970000000000001,8.1203800000000008,86.790000899999995]
["20833","Brookeville","MD",3.2010000000000001,8.1305399999999999,86.790000899999995]
["21784","Sykesville","MD",3.2010000000000001,8.1305399999999999,86.790000899999995]
["21794","West Friendship","MD",3.2019999000000001,8.1330797459999999,86.790000899999995]
["21071","Glyndon","MD",3.2069999999999999,8.1457800000000002,86.790000899999995]
["19560","Temple","PA",3.21,8.1533999999999995,86.790000899999995]
["21053","Freeland","MD",3.2160001,8.1686402539999996,86.790000899999995]
["20777","Highland","MD",3.2170000000000001,8.1711799999999997,86.790000899999995]
["21044","Columbia","MD",3.2170000000000001,8.1711799999999997,86.790000899999995]
["21029","Clarksville","MD",3.2190001000000001,8.1762602540000007,86.790000899999995]
["20759","Fulton","MD",3.2229999999999999,8.18642,86.790000899999995]
["21155","Upperco","MD",3.2240000000000002,8.1889599999999998,86.790000899999995]
["21161","White Hall","MD",3.234,8.2143599999999992,86.790000899999995]
["19352","Lincoln University","PA",3.2509999000000001,8.2575397460000008,86.790000899999995]
["19026","Drexel Hill","PA",3.2590001000000002,8.2778602540000001,86.790000899999995]
["19082","Upper Darby","PA",3.2590001000000002,8.2778602540000001,86.790000899999995]
["19330","Cochranville","PA",3.2590001000000002,8.2778602540000001,86.790000899999995]
["19151","Philadelphia","PA",3.2629999999999999,8.2880199999999995,86.790000899999995]
["19350","Landenberg","PA",3.2629999999999999,8.2880199999999995,86.790000899999995]
["19736","Yorklyn","DE",3.2739999000000002,8.3159597460000008,86.790000899999995]
["19066","Merion Station","PA",3.2750001000000002,{"$f":"D1629*2.54","v":8.3185002539999999},86.790000899999995]
["19096","Wynnewood","PA",3.2759999999999998,8.32104,86.790000899999995]
["19707","Hockessin","DE",3.2759999999999998,8.32104,86.790000899999995]
["19004","Bala Cynwyd","PA",3.2770000000000001,8.3235799999999998,86.790000899999995]
["19072","Narberth","PA",3.2809998999999999,8.3337397459999991,86.790000899999995]
["19127","Philadelphia","PA",3.2809998999999999,8.3337397459999991,86.790000899999995]
["19010","Bryn Mawr","PA",3.2820000999999999,8.3362802540000001,86.790000899999995]
["19085","Villanova","PA",3.2820000999999999,8.3362802540000001,86.790000899999995]
["19035","Gladwyne","PA",3.2829999999999999,8.3388200000000001,86.790000899999995]
["08102","Camden","NJ",3.2850001,8.3439002539999994,86.790000899999995]
["19128","Philadelphia","PA",3.2850001,8.3439002539999994,86.790000899999995]
["19119","Philadelphia","PA",3.29,8.3566000000000003,86.790000899999995]
["19144","Philadelphia","PA",3.2909999000000001,8.3591397460000003,86.790000899999995]
["19150","Philadelphia","PA",3.2939999000000002,8.3667597460000014,86.790000899999995]
["19138","Philadelphia","PA",3.2969998999999999,8.3743797460000007,86.790000899999995]
["19141","Philadelphia","PA",3.2989999999999999,8.3794599999999999,86.790000899999995]
["19095","Wyncote","PA",3.3010001,8.3845402540000009,86.790000899999995]
["19126","Philadelphia","PA",3.3010001,8.3845402540000009,86.790000899999995]
["19027","Elkins Park","PA",3.3080001000000001,8.402320254000001,86.790000899999995]
["19012","Cheltenham","PA",3.3099999000000002,8.4073997460000012,86.790000899999995]
["19046","Jenkintown","PA",3.3130000000000002,8.4150200000000002,86.790000899999995]
["19111","Philadelphia","PA",3.3150000999999998,8.4201002539999994,86.790000899999995]
["19009","Bryn Athyn","PA",3.3180000999999999,8.4277202540000005,86.790000899999995]
["08629","Trenton","NJ",3.3319999999999999,8.4632799999999992,86.790000899999995]
["08609","Trenton","NJ",3.3329998999999999,8.4658197459999993,86.790000899999995]
["08608","Trenton","NJ",3.335,8.4709000000000003,86.790000899999995]
["08720","Allenwood","NJ",3.46,8.7883999999999993,86.790000899999995]
["08730","Brielle","NJ",3.4929999999999999,8.8722200000000004,86.790000899999995]
["08736","Manasquan","NJ",3.4969999999999999,8.8823799999999995,86.790000899999995]
["08750","Sea Girt","NJ",3.4969999999999999,8.8823799999999995,86.790000899999995]
["07753","Neptune","NJ",3.4990000999999999,8.8874602540000005,86.790000899999995]
["07762","Spring Lake","NJ",3.4990000999999999,8.8874602540000005,86.790000899999995]
["07717","Avon By the Sea","NJ",3.5030000000000001,{"$f":"D1661*2.54","v":8.8976199999999999},86.790000899999995]
["07719","Belmar","NJ",3.5030000000000001,8.8976199999999999,86.790000899999995]
["07720","Bradley Beach","NJ",3.5030000000000001,8.8976199999999999,86.790000899999995]
["07711","Allenhurst","NJ",3.5059999999999998,8.9052399999999992,86.790000899999995]
["07756","Ocean Grove","NJ",3.5070000000000001,8.9077800000000007,86.790000899999995]
["07723","Deal","NJ",3.51,8.9154,86.790000899999995]
["74171","Tulsa","OK",3.8729998999999999,9.8374197460000001,86.790000899999995]
["97102","Arch Cape","OR","N/A","N/A",86.800003099999998]
["97118","Garibaldi","OR","N/A","N/A",86.800003099999998]
["97136","Rockaway Beach","OR","N/A","N/A",86.800003099999998]
["97147","Wheeler","OR","N/A","N/A",86.800003099999998]
["80802","Arapahoe","CO",2.2179999000000001,{"$f":"D1672*2.54","v":5.6337197460000006},86.800003099999998]
["81071","Sheridan Lake","CO",2.25,5.7149999999999999,86.800003099999998]
["68952","Inavale","NE",2.8659998999999998,7.279639746,86.800003099999998]
["68942","Guide Rock","NE",2.8729998999999999,7.2974197460000001,86.800003099999998]
["68970","Red Cloud","NE",2.8840001000000002,7.3253602540000005,86.800003099999998]
["40824","Dayhoit","KY",3.0090001000000002,7.6428602540000004,86.800003099999998]
["40831","Harlan","KY",3.1340001000000002,7.9603602540000002,86.800003099999998]
["40856","Miracle","KY",3.1359998999999998,7.9654397459999995,86.800003099999998]
["40820","Cranks","KY",3.2219999000000001,8.1838797460000006,86.800003099999998]
["28733","Fontana Dam","NC",3.9809999,10.111739746,86.800003099999998]
["38677","University","MS",4.2490000999999999,10.792460254,86.800003099999998]
["28702","Almond","NC",4.3790002000000001,11.122660508000001,86.800003099999998]
["32176","Ormond Beach","FL",4.46,11.3284,86.800003099999998]
["32118","Daytona Beach","FL",4.5570002000000001,11.574780508,86.800003099999998]
["32920","Cape Canaveral","FL",4.7199998000000001,11.988799492,86.800003099999998]
["34242","Sarasota","FL",4.7199998000000001,11.988799492,86.800003099999998]
["32951","Melbourne Beach","FL",4.7309998999999996,12.016739745999999,86.800003099999998]
["32931","Cocoa Beach","FL",4.7350000999999997,12.026900253999999,86.800003099999998]
["34217","Bradenton Beach","FL",4.7870001999999996,12.158980507999999,86.800003099999998]
["34228","Longboat Key","FL",4.8379998000000004,12.288519492000001,86.800003099999998]
["33480","Palm Beach","FL",5.7759999999999998,14.67104,86.800003099999998]
["51018","Cushing","IA",3.0329999999999999,7.7038200000000003,86.809997600000003]
["83803","Bayview","ID","N/A","N/A",86.819999699999997]
["19425","Chester Springs","PA",3.2429999999999999,{"$f":"D1695*2.54","v":8.2372200000000007},86.819999699999997]
["58057","McLeod","ND",2.4389999000000002,{"$f":"D1696*2.54","v":6.195059746000001},86.839996299999996]
["99001","Airway Heights","WA","N/A","N/A",86.849998499999998]
["99011","Fairchild Air Force Base","WA","N/A","N/A",86.849998499999998]
["99202","Spokane","WA","N/A","N/A",86.849998499999998]
["99203","Spokane","WA","N/A","N/A",86.849998499999998]
["99204","Spokane","WA","N/A","N/A",86.849998499999998]
["03871","Rye Beach","NH","N/A","N/A",86.860000600000006]
["29208","Columbia","SC","N/A","N/A",86.860000600000006]
["55055","Newport","MN",2.7930000000000001,{"$f":"D1704*2.54","v":7.0942200000000009},86.860000600000006]
["55016","Cottage Grove","MN",2.7980000999999999,7.1069202539999994,86.860000600000006]
["29206","Columbia","SC",3.5960000000000001,9.1338400000000011,86.860000600000006]
["29204","Columbia","SC",3.6019999999999999,9.1490799999999997,86.860000600000006]
["29205","Columbia","SC",3.6029998999999999,9.1516197459999997,86.860000600000006]
["55115","Saint Paul","MN",2.7920001000000001,7.0916802539999999,86.870002700000001]
["55128","Saint Paul","MN",2.7950001000000002,7.099300254000001,86.870002700000001]
["55125","Saint Paul","MN",2.7969998999999999,7.1043797460000002,86.870002700000001]
["55129","Saint Paul","MN",2.8,7.1119999999999992,86.870002700000001]
["55042","Lake Elmo","MN",2.802,7.1170800000000005,86.870002700000001]
["55003","Bayport","MN",2.8119999999999998,7.1424799999999999,86.870002700000001]
["55001","Afton","MN",2.8139999000000002,7.1475597460000007,86.870002700000001]
["61011","Caledonia","IL",2.8559999,7.2542397460000005,86.870002700000001]
["61070","Rock City","IL",2.9760000999999998,7.5590402539999992,86.870002700000001]
["50649","Kesley","IA","N/A","N/A",86.879997299999999]
["55905","Rochester","MN","N/A","N/A",86.879997299999999]
["52315","Newhall","IA",3.0030000000000001,{"$f":"D1720*2.54","v":7.6276200000000003},86.879997299999999]
["52351","Walford","IA",3.03,{"$f":"D1721*2.54","v":7.6961999999999993},86.879997299999999]
["55949","Lanesboro","MN",3.0320000999999999,{"$f":"D1722*2.54","v":7.7012802539999994},86.879997299999999]
["55990","Wykoff","MN",3.0350001,{"$f":"D1723*2.54","v":7.7089002540000005},86.879997299999999]
["50269","Whitten","IA",3.1150000000000002,{"$f":"D1724*2.54","v":7.9121000000000006},86.879997299999999]
["02806","Barrington","RI","N/A","N/A",86.889999399999994]
["02861","Pawtucket","RI","N/A","N/A",86.889999399999994]
["02863","Central Falls","RI","N/A","N/A",86.889999399999994]
["02888","Warwick","RI","N/A","N/A",86.889999399999994]
["02905","Providence","RI","N/A","N/A",86.889999399999994]
["02907","Providence","RI","N/A","N/A",86.889999399999994]
["02910","Cranston","RI","N/A","N/A",86.889999399999994]
["02914","East Providence","RI","N/A","N/A",86.889999399999994]
["02915","Riverside","RI","N/A","N/A",86.889999399999994]
["02916","Rumford","RI","N/A","N/A",86.889999399999994]
["11764","Miller Place","NY","N/A","N/A",86.900001500000002]
["11778","Rocky Point","NY","N/A","N/A",86.900001500000002]
["11789","Sound Beach","NY","N/A","N/A",86.900001500000002]
["11792","Wading River","NY","N/A","N/A",86.900001500000002]
["11939","East Marion","NY","N/A","N/A",86.900001500000002]
["11948","Laurel","NY","N/A","N/A",86.900001500000002]
["11952","Mattituck","NY","N/A","N/A",86.900001500000002]
["11958","Peconic","NY","N/A","N/A",86.900001500000002]
["24011","Roanoke","VA","N/A","N/A",86.900001500000002]
["79358","Ropesville","TX","N/A","N/A",86.900001500000002]
["79381","Wilson","TX","N/A","N/A",86.900001500000002]
["79382","Wolfforth","TX","N/A","N/A",86.900001500000002]
["79401","Lubbock","TX","N/A","N/A",86.900001500000002]
["79404","Lubbock","TX","N/A","N/A",86.900001500000002]
["79407","Lubbock","TX","N/A","N/A",86.900001500000002]
["79409","Lubbock","TX","N/A","N/A",86.900001500000002]
["79410","Lubbock","TX","N/A","N/A",86.900001500000002]
["79411","Lubbock","TX","N/A","N/A",86.900001500000002]
["79412","Lubbock","TX","N/A","N/A",86.900001500000002]
["79413","Lubbock","TX","N/A","N/A",86.900001500000002]
["79414","Lubbock","TX","N/A","N/A",86.900001500000002]
["79416","Lubbock","TX","N/A","N/A",86.900001500000002]
["79423","Lubbock","TX","N/A","N/A",86.900001500000002]
["79424","Lubbock","TX","N/A","N/A",86.900001500000002]
["24201","Bristol","VA",2.5750000000000002,{"$f":"D1759*2.54","v":6.5405000000000006},86.900001500000002]
["24061","Blacksburg","VA",2.7449998999999998,6.972299746,86.900001500000002]
["24476","Steeles Tavern","VA",3.23,8.2042000000000002,86.900001500000002]
["29639","Due West","SC",3.5169999999999999,8.9331800000000001,86.900001500000002]
["29638","Donalds","SC",3.5309998999999999,8.9687397459999989,86.900001500000002]
["29620","Abbeville","SC",3.5320000999999999,8.9712802539999998,86.900001500000002]
["29659","Lowndesville","SC",3.5430000000000001,8.9992200000000011,86.900001500000002]
["29654","Honea Path","SC",3.5999998999999998,9.1439997460000004,86.900001500000002]
["29624","Anderson","SC",3.6010000999999998,9.1465402539999996,86.900001500000002]
["29847","Trenton","SC",3.6240000999999999,9.2049602539999995,86.900001500000002]
["29684","Starr","SC",3.6429999,9.2532197459999992,86.900001500000002]
["29626","Anderson","SC",3.6760001,9.3370402539999997,86.900001500000002]
["29627","Belton","SC",3.6830001000000001,9.3548202539999998,86.900001500000002]
["29621","Anderson","SC",3.7440000000000002,9.50976,86.900001500000002]
["29669","Pelzer","SC",3.77,9.575800000000001,86.900001500000002]
["29301","Spartanburg","SC",3.7809998999999999,9.6037397460000005,86.900001500000002]
["29697","Williamston","SC",3.7809998999999999,9.6037397460000005,86.900001500000002]
["29662","Mauldin","SC",3.7869999000000001,9.6189797460000008,86.900001500000002]
["29625","Anderson","SC",3.7939999000000002,9.636759746000001,86.900001500000002]
["29689","Townville","SC",3.8,9.6519999999999992,86.900001500000002]
["29330","Cowpens","SC",3.8039999,9.6621597460000004,86.900001500000002]
["29334","Duncan","SC",3.8080001000000001,9.6723202540000006,86.900001500000002]
["29643","Fair Play","SC",3.8150000999999998,9.690100253999999,86.900001500000002]
["29670","Pendleton","SC",3.8150000999999998,9.690100253999999,86.900001500000002]
["29303","Spartanburg","SC",3.835,9.7408999999999999,86.900001500000002]
["29632","Clemson","SC",3.8440001000000001,9.763760254000001,86.900001500000002]
["29673","Piedmont","SC",3.8540000999999999,9.7891602540000004,86.900001500000002]
["29316","Boiling Springs","SC",3.8570001,9.7967802539999997,86.900001500000002]
["29650","Greer","SC",3.8570001,9.7967802539999997,86.900001500000002]
["29631","Clemson","SC",3.8670000999999998,9.8221802539999992,86.900001500000002]
["29605","Greenville","SC",3.8780000000000001,9.8501200000000004,86.900001500000002]
["29607","Greenville","SC",3.8980000000000001,9.9009200000000011,86.900001500000002]
["29615","Greenville","SC",3.9059998999999999,{"$f":"D1791*2.54","v":9.9212397459999995},86.900001500000002]
["29667","Norris","SC",3.9119999000000001,9.9364797459999998,86.900001500000002]
["29385","Wellford","SC",3.9219998999999999,9.9618797459999993,86.900001500000002]
["29642","Easley","SC",3.9260001,9.9720402539999995,86.900001500000002]
["29601","Greenville","SC",3.9300001,9.9822002540000003,86.900001500000002]
["29365","Lyman","SC",3.9760000999999998,10.099040254,86.900001500000002]
["29678","Seneca","SC",3.9860001,10.124440254,86.900001500000002]
["29611","Greenville","SC",3.9960000999999998,10.149840253999999,86.900001500000002]
["29323","Chesnee","SC",3.9979998999999999,10.154919745999999,86.900001500000002]
["29657","Liberty","SC",4.0170002,10.203180508000001,86.900001500000002]
["29613","Greenville","SC",4.04,10.2616,86.900001500000002]
["29349","Inman","SC",4.0430001999999998,10.269220508,86.900001500000002]
["29609","Greenville","SC",4.0650000999999998,10.325100253999999,86.900001500000002]
["29630","Central","SC",4.0780000999999997,10.358120253999999,86.900001500000002]
["29617","Greenville","SC",4.0960001999999998,10.403840508,86.900001500000002]
["29640","Easley","SC",4.1960001,10.657840254,86.900001500000002]
["29322","Campobello","SC",4.3080001000000001,10.942320254,86.900001500000002]
["29682","Six Mile","SC",4.3260002000000002,10.988040508000001,86.900001500000002]
["29651","Greer","SC",4.335,11.010899999999999,86.900001500000002]
["29687","Taylors","SC",4.3490000000000002,11.046460000000002,86.900001500000002]
["29688","Tigerville","SC",4.4349999000000002,11.264899746000001,86.900001500000002]
["29690","Travelers Rest","SC",4.7950001000000002,12.179300254000001,86.900001500000002]
["29356","Landrum","SC",4.8039999,12.202159746,86.900001500000002]
["29671","Pickens","SC",4.9650002000000004,12.611100508000002,86.900001500000002]
["29661","Marietta","SC",5.1420002,13.060680508000001,86.900001500000002]
["29635","Cleveland","SC",5.4860001,13.934440254,86.900001500000002]
["13112","Memphis","NY","N/A","N/A",86.910003700000004]
["58707","Minot","ND","N/A","N/A",86.910003700000004]
["52158","Marquette","IA",2.9519999000000001,{"$f":"D1819*2.54","v":7.4980797460000002},86.910003700000004]
["52047","Farmersburg","IA",2.9760000999999998,7.5590402539999992,86.910003700000004]
["55954","Mabel","MN",3.0289999999999999,7.6936599999999995,86.910003700000004]
["52068","Peosta","IA",3.0380001000000001,7.7165202540000006,86.910003700000004]
["55974","Spring Grove","MN",3.0390000000000001,7.7190600000000007,86.910003700000004]
["55922","Canton","MN",3.0459999999999998,7.7368399999999999,86.910003700000004]
["42782","Summersville","KY",3.4049999999999998,8.6486999999999998,86.910003700000004]
["38631","Friars Point","MS",4.0999999000000003,10.413999746,86.930000300000003]
["98941","Roslyn","WA","N/A","N/A",86.940002399999997]
["42764","Mount Sherman","KY",3.3929999,{"$f":"D1828*2.54","v":8.6182197459999994},86.949996900000002]
["83209","Pocatello","ID","N/A","N/A",86.959999100000005]
["69041","Parks","NE",2.3570001,{"$f":"D1830*2.54","v":5.9867802540000001},86.959999100000005]
["67731","Bird City","KS",2.4380000000000002,6.1925200000000009,86.959999100000005]
["69021","Benkelman","NE",2.444,6.2077600000000004,86.959999100000005]
["69037","Max","NE",2.444,6.2077600000000004,86.959999100000005]
["67745","Mc Donald","KS",2.4619998999999999,6.253479746,86.959999100000005]
["37690","Telford","TN",2.7989999999999999,7.1094600000000003,86.959999100000005]
["21776","New Windsor","MD",3.0650000999999998,7.7851002539999996,86.959999100000005]
["21771","Mount Airy","MD",3.1480000000000001,7.9959200000000008,86.959999100000005]
["21120","Parkton","MD",3.2409998999999998,8.2321397459999996,86.959999100000005]
["21152","Sparks Glencoe","MD",3.2920001000000001,8.3616802539999995,86.959999100000005]
["21111","Monkton","MD",3.2930000000000001,8.3642200000000013,86.959999100000005]
["21031","Hunt Valley","MD",3.3010001,8.3845402540000009,86.959999100000005]
["21153","Stevenson","MD",3.3080001000000001,8.402320254000001,86.959999100000005]
["21013","Baldwin","MD",3.3410001,8.4861402540000004,86.959999100000005]
["21051","Fork","MD",3.3440001000000001,8.4937602539999997,86.959999100000005]
["21030","Cockeysville","MD",3.3499998999999998,8.5089997459999989,86.959999100000005]
["21131","Phoenix","MD",3.3679999999999999,8.5547199999999997,86.959999100000005]
["56452","Hackensack","MN",2.5910001,6.5811402540000001,86.970001199999999]
["47406","Bloomington","IN",3.0680000999999999,7.7927202539999998,86.970001199999999]
["47405","Bloomington","IN",3.0699999,7.7977997459999999,86.970001199999999]
["47124","Greenville","IN",3.1400001,7.9756002539999997,86.970001199999999]
["58313","Balta","ND",2.0710001,5.2603402539999999,86.980003400000001]
["57020","Crooks","SD",2.6349999999999998,6.6928999999999998,86.980003400000001]
["86436","Topock","AZ",1.21,3.0733999999999999,87]
["86403","Lake Havasu City","AZ",1.244,3.1597599999999999,87]
["86440","Mohave Valley","AZ",1.2929999999999999,3.2842199999999999,87]
["86426","Fort Mohave","AZ",1.337,3.3959799999999998,87]
["85322","Arlington","AZ",1.466,3.7236400000000001,87]
["84602","Provo","UT",1.5509999999999999,3.93954,87]
["85340","Litchfield Park","AZ",1.5569999999999999,3.95478,87]
["85704","Tucson","AZ",1.883,4.7828200000000001,87]
["25115","Kanawha Falls","WV",2.5469998999999999,6.4693797459999995,87.010002099999994]
["25118","Kimberly","WV",2.5619999999999998,{"$f":"D1862*2.54","v":6.5074799999999993},87.010002099999994]
["25103","Hansford","WV",2.5650000999999998,6.5151002539999991,87.010002099999994]
["25161","Powellton","WV",2.5650000999999998,6.5151002539999991,87.010002099999994]
["25173","Robson","WV",2.5650000999999998,6.5151002539999991,87.010002099999994]
["25059","Dixie","WV",2.569,6.5252600000000003,87.010002099999994]
["25119","Kincaid","WV",2.569,6.5252600000000003,87.010002099999994]
["25160","Pond Gap","WV",2.5720000000000001,6.5328800000000005,87.010002099999994]
["25088","Glen","WV",2.5739999,6.5379597460000003,87.010002099999994]
["26656","Belva","WV",2.5750000000000002,6.5405000000000006,87.010002099999994]
["25125","Lizemores","WV",2.5760000000000001,6.5430400000000004,87.010002099999994]
["61115","Machesney Park","IL",2.8510000999999998,7.2415402539999993,87.010002099999994]
["61111","Loves Park","IL",2.8690000000000002,7.2872600000000007,87.010002099999994]
["61114","Rockford","IL",2.8690000000000002,7.2872600000000007,87.010002099999994]
["61103","Rockford","IL",2.8789999000000002,7.3126597460000005,87.010002099999994]
["61101","Rockford","IL",2.8840001000000002,7.3253602540000005,87.010002099999994]
["61107","Rockford","IL",2.8840001000000002,7.3253602540000005,87.010002099999994]
["53525","Clinton","WI",2.8849999999999998,7.3278999999999996,87.010002099999994]
["61104","Rockford","IL",2.8980000000000001,7.3609200000000001,87.010002099999994]
["96063","Mineral","CA",4.0190001000000004,10.208260254000001,87.010002099999994]
["17576","Smoketown","PA","N/A","N/A",87.019996599999999]
["92201","Indio","CA",1.1639999999999999,{"$f":"D1882*2.54","v":2.9565599999999996},87.019996599999999]
["48455","Metamora","MI",2.3499998999999998,5.9689997459999997,87.019996599999999]
["48367","Leonard","MI",2.3740000999999999,6.0299602539999997,87.019996599999999]
["48370","Oxford","MI",2.3780000000000001,6.0401199999999999,87.019996599999999]
["48371","Oxford","MI",2.3849999999999998,6.0578999999999992,87.019996599999999]
["48363","Oakland","MI",2.391,6.0731400000000004,87.019996599999999]
["48362","Lake Orion","MI",2.3919999999999999,6.0756800000000002,87.019996599999999]
["48350","Davisburg","MI",2.4000001000000002,6.0960002540000007,87.019996599999999]
["48360","Lake Orion","MI",2.4009999999999998,6.0985399999999998,87.019996599999999]
["48348","Clarkston","MI",2.4049999999999998,6.1086999999999998,87.019996599999999]
["48381","Milford","MI",2.415,6.1341000000000001,87.019996599999999]
["16802","University Park","PA",2.6389999,6.7030597460000001,87.019996599999999]
["16803","State College","PA",2.6440001,6.7157602540000001,87.019996599999999]
["16877","Warriors Mark","PA",2.645,6.7183000000000002,87.019996599999999]
["16683","Spruce Creek","PA",2.6470001000000001,6.7233802540000003,87.019996599999999]
["16664","New Enterprise","PA",2.6509999999999998,6.7335399999999996,87.019996599999999]
["16865","Pennsylvania Furnace","PA",2.6509999999999998,6.7335399999999996,87.019996599999999]
["16659","Loysburg","PA",2.6530000999999999,6.7386202539999998,87.019996599999999]
["16662","Martinsburg","PA",2.6579999999999999,6.7513199999999998,87.019996599999999]
["16673","Roaring Spring","PA",2.6600001,6.7564002539999999,87.019996599999999]
["16801","State College","PA",2.6630001000000001,6.7640202540000001,87.019996599999999]
["16695","Woodbury","PA",2.6640000000000001,6.7665600000000001,87.019996599999999]
["16693","Williamsburg","PA",2.6789999,6.8046597460000005,87.019996599999999]
["21767","Maugansville","MD",2.8199999,7.1627997460000001,87.019996599999999]
["21733","Fairplay","MD",2.835,7.2008999999999999,87.019996599999999]
["16852","Madisonburg","PA",2.8490000000000002,7.236460000000001,87.019996599999999]
["17344","Mc Sherrystown","PA",2.8570001,7.2567802540000006,87.019996599999999]
["25443","Shepherdstown","WV",2.8629999000000002,7.2720197460000007,87.019996599999999]
["16854","Millheim","PA",2.8679999999999999,7.2847200000000001,87.019996599999999]
["25438","Ranson","WV",2.8710000999999998,7.292340254,87.019996599999999]
["25442","Shenandoah Junction","WV",2.8710000999999998,7.292340254,87.019996599999999]
["17401","York","PA",2.9489999,7.490459746,87.019996599999999]
["67066","Iuka","KS",2.97,{"$f":"D1914*2.54","v":7.5438000000000009},87.019996599999999]
["17402","York","PA",3.0050001000000002,7.6327002540000004,87.019996599999999]
["17603","Lancaster","PA",3.0179999,7.6657197459999997,87.019996599999999]
["17538","Landisville","PA",3.02,7.6707999999999998,87.019996599999999]
["17520","East Petersburg","PA",3.0259999999999998,7.6860399999999993,87.019996599999999]
["17403","York","PA",3.0280000999999999,7.6911202539999994,87.019996599999999]
["17601","Lancaster","PA",3.0430000000000001,7.7292200000000006,87.019996599999999]
["17602","Lancaster","PA",3.0450001000000002,7.7343002540000008,87.019996599999999]
["21704","Frederick","MD",3.0680000999999999,7.7927202539999998,87.019996599999999]
["17505","Bird in Hand","PA",3.0710001,7.800340254,87.019996599999999]
["17572","Ronks","PA",3.0899999,7.8485997460000005,87.019996599999999]
["17529","Gordonville","PA",3.1280000000000001,7.9451200000000002,87.019996599999999]
["17562","Paradise","PA",3.1349999999999998,7.9628999999999994,87.019996599999999]
["17535","Kinzers","PA",3.1559998999999999,8.0162397460000001,87.019996599999999]
["67065","Isabel","KS",3.1760001,8.0670402540000001,87.019996599999999]
["19609","Reading","PA",3.1930000999999999,8.1102202539999997,87.019996599999999]
["19601","Reading","PA",3.1960001,8.1178402540000008,87.019996599999999]
["19610","Reading","PA",3.1970000000000001,8.1203800000000008,87.019996599999999]
["19604","Reading","PA",3.1989999,8.1254597460000006,87.019996599999999]
["19510","Blandon","PA",3.2109999999999999,8.1559399999999993,87.019996599999999]
["18087","Trexlertown","PA",3.2249998999999998,8.1914997459999999,87.019996599999999]
["19372","Thorndale","PA",3.2490000999999999,8.2524602540000007,87.019996599999999]
["19562","Topton","PA",3.2509999000000001,8.2575397460000008,87.019996599999999]
["19547","Oley","PA",3.2520001000000001,8.260080254,87.019996599999999]
["19341","Exton","PA",3.2539999000000002,8.2651597460000001,87.019996599999999]
["19539","Mertztown","PA",3.2559999999999998,8.2702399999999994,87.019996599999999]
["18011","Alburtis","PA",3.2570000000000001,8.2727800000000009,87.019996599999999]
["19390","West Grove","PA",3.2650001,8.2931002540000005,87.019996599999999]
["19311","Avondale","PA",3.2669999999999999,8.2981800000000003,87.019996599999999]
["19374","Toughkenamon","PA",3.2669999999999999,8.2981800000000003,87.019996599999999]
["19348","Kennett Square","PA",3.2770000000000001,8.3235799999999998,87.019996599999999]
["19444","Lafayette Hill","PA",3.2850001,8.3439002539999994,87.019996599999999]
["19118","Philadelphia","PA",3.2880001000000001,{"$f":"D1946*2.54","v":8.3515202540000004},87.019996599999999]
["19075","Oreland","PA",3.29,8.3566000000000003,87.019996599999999]
["19038","Glenside","PA",3.3,8.3819999999999997,87.019996599999999]
["36373","Shorterville","AL",4.4879999000000002,11.399519746000001,87.019996599999999]
["36562","Perdido","AL",5.5149999000000003,14.008099746000001,87.019996599999999]
["36578","Stapleton","AL",5.8239998999999996,14.792959745999999,87.019996599999999]
["36551","Loxley","AL",6,15.24,87.019996599999999]
["36576","Silverhill","AL",6.0190001000000004,15.288260254000001,87.019996599999999]
["36567","Robertsdale","AL",6.0310001,15.318740254,87.019996599999999]
["83808","Calder","ID","N/A","N/A",87.029998800000001]
["49046","Delton","MI",2.552,{"$f":"D1956*2.54","v":6.4820799999999998},87.029998800000001]
["64163","Kansas City","MO",3.5529999999999999,{"$f":"D1957*2.54","v":9.0246200000000005},87.029998800000001]
["64158","Kansas City","MO",3.6029998999999999,{"$f":"D1958*2.54","v":9.1516197459999997},87.029998800000001]
["78501","McAllen","TX","N/A","N/A",87.040000899999995]
["78504","McAllen","TX","N/A","N/A",87.040000899999995]
["78541","Edinburg","TX","N/A","N/A",87.040000899999995]
["78573","Mission","TX","N/A","N/A",87.040000899999995]
["78599","Weslaco","TX","N/A","N/A",87.040000899999995]
["55979","Utica","MN",2.9920000999999998,{"$f":"D1964*2.54","v":7.5996802539999999},87.040000899999995]
["53582","Ridgeway","WI",3.0230000000000001,7.67842,87.040000899999995]
["53507","Barneveld","WI",3.0369999000000001,7.7139797460000006,87.040000899999995]
["53544","Hollandale","WI",3.0550001,7.7597002540000002,87.040000899999995]
["53516","Blanchardville","WI",3.0599999000000002,7.7723997460000005,87.040000899999995]
["53565","Mineral Point","WI",3.0680000999999999,7.7927202539999998,87.040000899999995]
["29388","Woodruff","SC",3.7170000000000001,9.441180000000001,87.040000899999995]
["29376","Roebuck","SC",3.7249998999999998,9.4614997459999994,87.040000899999995]
["29369","Moore","SC",3.73,9.4741999999999997,87.040000899999995]
["29306","Spartanburg","SC",3.7370000000000001,9.4919799999999999,87.040000899999995]
["59846","Huson","MT","N/A","N/A",87.050003099999998]
["83227","Clayton","ID","N/A","N/A",87.050003099999998]
["63303","Saint Charles","MO",3.1849999000000002,{"$f":"D1976*2.54","v":8.0898997460000004},87.050003099999998]
["65211","University Of Missouri","MO",3.3269999000000001,8.4505797460000007,87.050003099999998]
["42130","Eighty Eight","KY",3.4630000999999999,8.7960202540000001,87.050003099999998]
["42156","Lucas","KY",3.4719999000000001,8.8188797460000004,87.050003099999998]
["42157","Mount Hermon","KY",3.4719999000000001,8.8188797460000004,87.050003099999998]
["42131","Etoile","KY",3.4779998999999999,8.8341197460000007,87.050003099999998]
["42123","Austin","KY",3.48,8.8391999999999999,87.050003099999998]
["42133","Fountain Run","KY",3.5380001000000001,8.9865202540000002,87.050003099999998]
["42104","Bowling Green","KY",3.5430000000000001,8.9992200000000011,87.050003099999998]
["42164","Scottsville","KY",3.5610000999999998,9.0449402540000001,87.050003099999998]
["37052","Cunningham","TN",3.665,9.3091000000000008,87.050003099999998]
["20689","Sunderland","MD",3.2370000000000001,8.2219800000000003,87.059997600000003]
["16444","Edinboro","PA",2.54,6.4516,87.069999699999997]
["65586","Wesco","MO",3.306,8.39724,87.089996299999996]
["65446","Cherryville","MO",3.4009999999999998,8.638539999999999,87.089996299999996]
["65565","Steelville","MO",3.4059998999999999,8.6512397459999999,87.089996299999996]
["65566","Viburnum","MO",3.4409999999999998,8.7401400000000002,87.089996299999996]
["65456","Davisville","MO",3.444,8.7477599999999995,87.089996299999996]
["65728","Ponce de Leon","MO",3.6270001000000001,9.2125802540000006,87.089996299999996]
["63952","Mill Spring","MO",3.7260000999999998,9.4640402540000004,87.089996299999996]
["79316","Brownfield","TX","N/A","N/A",87.099998499999998]
["79345","Meadow","TX","N/A","N/A",87.099998499999998]
["99147","Lincoln","WA","N/A","N/A",87.099998499999998]
["88123","Lingo","NM",2.5259999999999998,{"$f":"D1999*2.54","v":6.4160399999999997},87.099998499999998]
["56153","Leota","MN",2.8420000000000001,{"$f":"D2000*2.54","v":7.21868},87.110000600000006]
["88231","Eunice","NM",2.6179999999999999,6.6497199999999994,87.139999399999994]
["89021","Logandale","NV",1.0820000000000001,{"$f":"D2017*2.54","v":2.7482800000000003},87.150001500000002]
["38152","Memphis","TN",3.9870000000000001,10.12698,87.160003700000004]
["61471","Raritan","IL",3.0699999,7.7977997459999999,87.199996900000002]
["36561","Orange Beach","AL",5.9269999999999996,15.05458,87.209999100000005]
["28636","Hiddenite","NC",3.6670001000000001,9.314180254,87.230003400000001]
["03064","Nashua","NH","N/A","N/A",87.239997900000006]
["29828","Gloverville","SC",3.5979999999999999,9.1389200000000006,87.279998800000001]
["30290","Tyrone","GA",3.8479999999999999,9.7739200000000004,87.279998800000001]
["53937","Hillpoint","WI",2.8889999,7.3380597459999999,87.330001800000005]
["54623","Coon Valley","WI",3.0020001000000001,7.6250802540000002,87.330001800000005]
["53504","Argyle","WI",3.056,7.7622400000000003,87.330001800000005]
["30108","Bowdon","GA",3.9619998999999999,10.063479746000001,87.349998499999998]
["67513","Alexander","KS",2.6819999000000001,6.8122797460000006,87.360000600000006]
["73735","Drummond","OK",3.3670000999999998,8.5521802539999996,87.360000600000006]
["28726","East Flat Rock","NC",4.1339997999999998,10.500359491999999,87.360000600000006]
["28772","Rosman","NC",5.6890001000000003,14.450060254,87.360000600000006]
["28734","Franklin","NC",5.7569999999999997,14.622779999999999,87.360000600000006]
["68658","Rising City","NE",2.9470000000000001,7.4853800000000001,87.370002700000001]
["58405","Jamestown College","ND",2.27,5.7658000000000005,87.379997299999999]
["54773","Whitehall","WI",2.9279999999999999,7.4371200000000002,87.389999399999994]
["54151","Niagara","WI",2.391,6.0731400000000004,87.470001199999999]
["98516","Olympia","WA","N/A","N/A",87.480003400000001]
["93277","Visalia","CA",1.405,{"$f":"D2323*2.54","v":3.5687000000000002},87.480003400000001]
["53703","Madison","WI",2.8299998999999998,7.1881997459999996,87.480003400000001]
["53562","Middleton","WI",2.8620000000000001,7.2694800000000006,87.480003400000001]
["52309","Monmouth","IA",2.9679999000000001,7.5387197460000008,87.489997900000006]
["52053","Holy Cross","IA",3.0139999,7.6555597459999998,87.489997900000006]
["52002","Dubuque","IA",3.04,7.7216000000000005,87.489997900000006]
["54632","Genoa","WI",3.0489999999999999,7.7444600000000001,87.489997900000006]
["08097","Woodbury Heights","NJ",3.2629999999999999,{"$f":"D2426*2.54","v":8.2880199999999995},87.510002099999994]
["07732","Highlands","NJ",3.3290000000000002,8.45566,87.510002099999994]
["07755","Oakhurst","NJ",3.5039999000000002,8.9001597459999999,87.510002099999994]
["58415","Berlin","ND",2.4209999999999998,6.1493399999999996,87.550003099999998]
["48383","White Lake","MI",2.4200001000000002,6.1468002540000004,87.580001800000005]
["54014","Hager City","WI",2.8929999,7.3482197459999998,87.589996299999996]
["36473","Range","AL",5.1399999000000003,13.055599746,87.610000600000006]
["78721","Austin","TX","N/A","N/A",87.639999399999994]
["37187","White Bluff","TN",3.71,9.4234000000000009,87.650001500000002]
["69120","Arnold","NE",2.5950000000000002,6.5913000000000004,87.669998199999995]
["68856","Merna","NE",2.6570000999999999,6.7487802539999997,87.669998199999995]
["68940","Funk","NE",2.7850001,7.0739002539999998,87.669998199999995]
["73092","Verden","OK",3.5979999999999999,9.1389200000000006,87.690002399999997]
["40870","Totz","KY",3.0610000999999998,7.7749402539999997,87.709999100000005]
["52252","Langworthy","IA",3.0439999000000002,7.7317597460000007,87.730003400000001]
["18103","Allentown","PA",3.2030001000000001,8.1356202540000009,87.730003400000001]
["85296","Gilbert","AZ",1.484,3.7693599999999998,87.75]
["85361","Wittmann","AZ",1.845,4.6863000000000001,87.75]
["50120","Haverhill","IA",3.0699999,7.7977997459999999,87.760002099999994]
["35660","Sheffield","AL",3.9870000000000001,10.12698,87.779998800000001]
["68769","Plainview","NE",2.7360001,6.9494402540000006,87.790000899999995]
["49112","Edwardsburg","MI",2.7379999000000002,6.9545197460000008,87.809997600000003]
["60180","Union","IL",2.9510000000000001,7.4955400000000001,87.839996299999996]
["60408","Braidwood","IL",2.9349999000000002,7.4548997460000006,87.849998499999998]
["29203","Columbia","SC",3.6110001,9.1719402540000008,87.860000600000006]
["27209","Biscoe","NC",3.6559998999999999,9.2862397459999997,87.860000600000006]
["54945","Iola","WI",2.5790000000000002,6.5506600000000006,87.870002700000001]
["56343","Kensington","MN",2.5869998999999999,6.5709797459999999,87.900001500000002]
["63783","Uniontown","MO",3.6340001000000002,9.2303602540000007,87.919998199999995]
["41855","Thornton","KY",2.6579999999999999,6.7513199999999998,87.930000300000003]
["41746","Happy","KY",2.8269999000000001,7.1805797460000003,87.930000300000003]
["41367","Rowdy","KY",2.8559999,7.2542397460000005,87.930000300000003]
["41775","Wendover","KY",2.8989999000000002,7.3634597460000002,87.930000300000003]
["40840","Helton","KY",3.0129999999999999,7.6530199999999997,87.930000300000003]
["57272","Wallace","SD",2.4409999999999998,6.2001399999999993,87.940002399999997]
["67842","Ford","KS",2.7429999999999999,6.9672200000000002,87.949996900000002]
["51044","Oto","IA",2.9760000999999998,7.5590402539999992,87.959999100000005]
["51060","Ute","IA",2.9809999,7.5717397460000004,87.959999100000005]
["51448","Kiron","IA",3.0309998999999999,7.6987397459999993,87.959999100000005]
["51549","Macedonia","IA",3.2650001,8.2931002540000005,87.959999100000005]
["40504","Lexington","KY",3.0339999,7.7063597460000004,87.980003400000001]
["85706","Tucson","AZ",1.762,4.4754800000000001,88]
["56515","Battle Lake","MN",2.585,6.5659000000000001,88.029998800000001]
["56309","Ashby","MN",2.5869998999999999,6.5709797459999999,88.029998800000001]
["52237","Hopkinton","IA",3.0339999,7.7063597460000004,88.050003099999998]
["52057","Manchester","IA",3.0659999999999998,7.7876399999999997,88.050003099999998]
["22314","Alexandria","VA",3.109,7.8968600000000002,88.050003099999998]
["22304","Alexandria","VA",3.1429999,7.9832197459999996,88.050003099999998]
["22151","Springfield","VA",3.1749999999999998,8.0644999999999989,88.050003099999998]
["95462","Monte Rio","CA",5.6890001000000003,14.450060254,88.050003099999998]
["55901","Rochester","MN",2.948,7.4879199999999999,88.080001800000005]
["24549","Dry Fork","VA",3.4369999999999998,8.7299799999999994,88.120002700000001]
["53826","Wauzeka","WI",3.0009999000000001,7.6225397460000002,88.129997299999999]
["21779","Rohrersville","MD",2.984,7.5793600000000003,88.139999399999994]
["54414","Birnamwood","WI",2.5270000000000001,6.4185800000000004,88.160003700000004]
["73121","Oklahoma City","OK",3.7409998999999998,{"$f":"D3196*2.54","v":9.5021397459999992},88.180000300000003]
["27007","Ararat","NC",3.5009999000000001,8.8925397460000006,88.199996900000002]
["97108","Beaver","OR","N/A","N/A",88.220001199999999]
["97441","Gardiner","OR","N/A","N/A",88.220001199999999]
["67150","Waldron","KS",3.3690000000000002,8.5572600000000012,88.230003400000001]
["73049","Jones","OK",3.8119999999999998,9.68248,88.230003400000001]
["41183","Worthington","KY",2.6930000999999999,{"$f":"D3280*2.54","v":6.8402202540000001},88.260002099999994]
["75750","Arp","TX","N/A","N/A",88.290000899999995]
["67523","Burdett","KS",2.7049998999999998,6.8706997459999997,88.300003099999998]
["66204","Overland Park","KS",3.6640000000000001,9.3065600000000011,88.309997600000003]
["59256","Raymond","MT","N/A","N/A",88.319999699999997]
["73065","Newcastle","OK",3.7420000999999998,9.5046802540000002,88.339996299999996]
["01901","Lynn","MA","N/A","N/A",88.349998499999998]
["02122","Dorchester","MA","N/A","N/A",88.349998499999998]
["02144","Somerville","MA","N/A","N/A",88.349998499999998]
["02153","Medford","MA","N/A","N/A",88.349998499999998]
["02464","Newton Upper Falls","MA","N/A","N/A",88.349998499999998]
["27027","Mayodan","NC",3.5209999000000001,8.9433397459999995,88.349998499999998]
["83809","Careywood","ID","N/A","N/A",88.379997299999999]
["61044","Kent","IL",2.9279999999999999,7.4371200000000002,88.379997299999999]
["53510","Belmont","WI",3.0650000999999998,7.7851002539999996,88.379997299999999]
["28363","Marston","NC",3.7440000000000002,9.50976,88.379997299999999]
["65436","Beulah","MO",3.3679999999999999,8.5547199999999997,88.400001500000002]
["95923","Canyon Dam","CA",3.6709999999999998,9.3243399999999994,88.440002399999997]
["03752","Goshen","NH","N/A","N/A",88.449996900000002]
["38456","Ethridge","TN",3.9319999000000001,9.9872797460000005,88.449996900000002]
["30582","Young Harris","GA",3.9549998999999998,10.045699746,88.449996900000002]
["29664","Mountain Rest","SC",5.3860001999999998,13.680440508,88.449996900000002]
["67556","Mc Cracken","KS",2.6840000000000002,6.8173600000000008,88.480003400000001]
["80721","Amherst","CO",2.194,5.5727599999999997,88.5]
["38485","Waynesboro","TN",4.0019999000000004,10.165079746000002,88.510002099999994]
["24574","Monroe","VA",3.4569999999999999,8.78078,88.519996599999999]
["24440","Greenville","VA",3.8199999,9.7027997460000002,88.519996599999999]
["67640","Gorham","KS",2.8220000000000001,7.1678800000000003,88.540000899999995]
["13157","Sylvan Beach","NY","N/A","N/A",88.550003099999998]
["67205","Wichita","KS",3.3989999000000002,8.6334597459999998,88.550003099999998]
["07830","Califon","NJ",3.5750000000000002,9.0805000000000007,88.559997600000003]
["57212","Arlington","SD",2.5220001000000001,6.4058802540000004,88.599998499999998]
["57054","Ramona","SD",2.5469998999999999,6.4693797459999995,88.599998499999998]
["30115","Canton","GA",3.9009999999999998,9.9085400000000003,88.599998499999998]
["62688","Tallula","IL",2.9609999999999999,7.5209399999999995,88.610000600000006]
["61529","Elmwood","IL",3,7.62,88.610000600000006]
["61535","Groveland","IL",3.0179999,7.6657197459999997,88.610000600000006]
["65529","Jerome","MO",3.4460001,8.7528402540000005,88.610000600000006]
["65584","Saint Robert","MO",3.4779998999999999,8.8341197460000007,88.610000600000006]
["40737","Keavy","KY",2.9949998999999998,7.6072997459999998,88.620002700000001]
["54966","Plainfield","WI",2.6900000999999998,6.8326002539999999,88.639999399999994]
["48118","Chelsea","MI",2.4049999999999998,6.1086999999999998,88.680000300000003]
["72934","Chester","AR",4.1779999999999999,10.612119999999999,88.680000300000003]
["72546","Ida","AR",4.2240000000000002,10.728960000000001,88.680000300000003]
["54141","Little Suamico","WI",2.3650000000000002,{"$f":"D3896*2.54","v":6.0071000000000003},88.690002399999997]
["68647","Monroe","NE",2.8740000999999999,7.2999602540000001,88.709999100000005]
["35648","Lexington","AL",3.9860001,10.124440254,88.709999100000005]
["06757","Kent","CT","N/A","N/A",88.720001199999999]
["16321","East Hickory","PA",2.4530001000000001,6.2306202540000006,88.730003400000001]
["87514","Arroyo Seco","NM",1.3839999000000001,3.5153597460000001,88.739997900000006]
["15821","Benezett","PA",2.609,6.6268599999999998,88.75]
["28754","Mars Hill","NC",3.5090001000000002,8.9128602539999999,88.75]
["65788","Peace Valley","MO",3.7229999999999999,9.4564199999999996,88.779998800000001]
["65606","Alton","MO",3.766,9.5656400000000001,88.779998800000001]
["72459","Ravenden","AR",3.9039999999999999,9.9161599999999996,88.779998800000001]
["17547","Marietta","PA",2.9769999999999999,{"$f":"D4049*2.54","v":7.5615800000000002},88.790000899999995]
["19320","Coatesville","PA",3.2669999999999999,8.2981800000000003,88.790000899999995]
["21014","Bel Air","MD",3.3319999999999999,8.4632799999999992,88.790000899999995]
["51231","Archer","IA",2.9400000999999998,7.4676002539999997,88.800003099999998]
["98831","Manson","WA","N/A","N/A",88.819999699999997]
["17968","Sacramento","PA",3.052,7.7520800000000003,88.849998499999998]
["25208","Wharton","WV",2.6800001,6.8072002540000005,88.860000600000006]
["49064","Lawrence","MI",2.6579999999999999,6.7513199999999998,88.879997299999999]
["67649","Luray","KS",2.8929999,7.3482197459999998,88.889999399999994]
["67634","Dorrance","KS",2.9860001,7.5844402540000004,88.889999399999994]
["50626","Dunkerton","IA",3.0929999000000001,7.8562197460000007,88.889999399999994]
["25019","Bickmore","WV",2.5940001000000001,6.5887602540000003,88.900001500000002]
["62629","Chatham","IL",2.964,7.5285599999999997,88.919998199999995]
["62344","Huntsville","IL",3.0250001000000002,7.683500254000001,88.919998199999995]
["03062","Nashua","NH","N/A","N/A",88.930000300000003]
["03102","Manchester","NH","N/A","N/A",88.930000300000003]
["29302","Spartanburg","SC",3.74,{"$f":"D4271*2.54","v":9.4996000000000009},88.949996900000002]
["42204","Allensville","KY",3.6059999,9.1592397460000008,88.959999100000005]
["53186","Waukesha","WI",2.6900000999999998,6.8326002539999999,88.980003400000001]
["32563","Gulf Breeze","FL",5.9359998999999997,15.077439746,88.989997900000006]
["99158","Oakesdale","WA","N/A","N/A",89]
["42742","Gradyville","KY",3.427,8.70458,89]
["58440","Fredonia","ND",2.3900001,6.0706002540000004,89.029998800000001]
["56566","Naytahwaush","MN",2.4830000000000001,6.3068200000000001,89.040000899999995]
["60112","Cortland","IL",2.9579998999999999,7.5133197459999996,89.040000899999995]
["59873","Thompson Falls","MT","N/A","N/A",89.050003099999998]
["98685","Vancouver","WA","N/A","N/A",89.050003099999998]
["22722","Haywood","VA",3.4189999000000002,8.6842597460000004,89.050003099999998]
["49962","Skanee","MI",2.4089999,6.118859746,89.069999699999997]
["87529","El Prado","NM",1.671,{"$f":"D4459*2.54","v":4.2443400000000002},89.099998499999998]
["97439","Florence","OR","N/A","N/A",89.120002700000001]
["44506","Youngstown","OH",2.3729998999999999,6.0274197459999996,89.120002700000001]
["72739","Hiwasse","AR",3.8510000999999998,9.7815402539999994,89.120002700000001]
["64854","Noel","MO",3.9070000999999999,9.9237802540000004,89.120002700000001]
["72761","Siloam Springs","AR",4.0040002000000001,10.170160508,89.120002700000001]
["72717","Canehill","AR",4.1570001000000003,10.558780254,89.120002700000001]
["08052","Maple Shade","NJ",3.3299998999999998,8.458199746,89.139999399999994]
["21914","Charlestown","MD",3.2279998999999999,8.1991197459999992,89.150001500000002]
["21205","Baltimore","MD",3.2880001000000001,8.3515202540000004,89.150001500000002]
["03801","Portsmouth","NH","N/A","N/A",89.199996900000002]
["56518","Bluffton","MN",2.5699999,6.5277997460000003,89.209999100000005]
["56336","Grey Eagle","MN",2.7360001,6.9494402540000006,89.209999100000005]
["98349","Lakebay","WA","N/A","N/A",89.220001199999999]
["98383","Silverdale","WA","N/A","N/A",89.220001199999999]
["27576","Selma","NC",3.6070001,9.161780254,89.230003400000001]
["03470","Winchester","NH","N/A","N/A",89.239997900000006]
["30597","Dahlonega","GA","N/A","N/A",89.25]
["17364","Thomasville","PA",2.9140000000000001,7.4015600000000008,89.25]
["17350","New Oxford","PA",2.944,7.47776,89.25]
["21787","Taneytown","MD",3.1359998999999998,7.9654397459999995,89.25]
["18055","Hellertown","PA",3.2130000999999999,8.1610202540000003,89.25]
["18092","Zionsville","PA",3.2420000999999998,8.2346802539999988,89.25]
["30178","Taylorsville","GA",3.8410001,9.756140254,89.25]
["36269","Muscadine","AL",3.9549998999999998,10.045699746,89.25]
["58794","White Earth","ND",1.875,{"$f":"D4804*2.54","v":4.7625000000000002},89.269996599999999]
["55363","Montrose","MN",2.8420000000000001,7.21868,89.269996599999999]
["60548","Sandwich","IL",2.9419998999999999,7.4726797459999998,89.269996599999999]
["61421","Bradford","IL",2.9979998999999999,7.614919746,89.269996599999999]
["61849","Homer","IL",3.0329999999999999,{"$f":"D4868*2.54","v":7.7038200000000003},89.269996599999999]
["61877","Sidney","IL",3.05,7.7469999999999999,89.269996599999999]
["62535","Forsyth","IL",3.0680000999999999,7.7927202539999998,89.269996599999999]
["61911","Arthur","IL",3.1029998999999999,7.8816197460000001,89.269996599999999]
["00070","Mt Hood National Forest","OR","N/A","N/A",89.300003099999998]
["43766","New Straitsville","OH",2.5999998999999998,6.6039997459999995,89.300003099999998]
["28112","Monroe","NC",3.6429999,9.2532197459999992,89.300003099999998]
["27252","Goldston","NC",3.6459999000000001,9.2608397460000003,89.300003099999998]
["54015","Hammond","WI",2.8499998999999998,7.2389997459999993,89.319999699999997]
["89143","Las Vegas","NV",1.034,2.62636,89.330001800000005]
["89147","Las Vegas","NV",1.113,2.8270200000000001,89.330001800000005]
["95547","Hydesville","CA",3.8849999999999998,9.8678999999999988,89.330001800000005]
["21758","Knoxville","MD",2.9860001,7.5844402540000004,89.349998499999998]
["47119","Floyds Knobs","IN",3.1110001,7.9019402540000003,89.349998499999998]
["97211","Portland","OR","N/A","N/A",89.360000600000006]
["51038","Merrill","IA",2.8559999,7.2542397460000005,89.360000600000006]
["51016","Correctionville","IA",3.0090001000000002,7.6428602540000004,89.360000600000006]
["67512","Alden","KS",3.02,7.6707999999999998,89.370002700000001]
["27596","Youngsville","NC",3.4809999,8.841739746,89.370002700000001]
["27052","Walnut Cove","NC",3.6709999999999998,9.3243399999999994,89.370002700000001]
["35474","Moundville","AL",4.1550001999999999,10.553700508,89.379997299999999]
["79312","Amherst","TX","N/A","N/A",89.400001500000002]
["25902","Odd","WV",2.5059999999999998,6.3652399999999991,89.400001500000002]
["24844","Iaeger","WV",2.5819999999999999,6.5582799999999999,89.400001500000002]
["24850","Jolo","WV",2.5929999000000001,6.5862197460000003,89.400001500000002]
["25870","Maben","WV",2.6170000999999998,6.6471802539999993,89.400001500000002]
["24860","Matheny","WV",2.645,6.7183000000000002,89.400001500000002]
["24870","Oceana","WV",2.681,6.8097400000000006,89.400001500000002]
["12419","Cottekill","NY","N/A","N/A",89.410003700000004]
["08029","Glendora","NJ",3.2920001000000001,8.3616802539999995,89.430000300000003]
["08084","Stratford","NJ",3.3050001,8.394700254,89.430000300000003]
["37305","Beersheba Springs","TN",3.8499998999999998,9.7789997460000002,89.430000300000003]
["79903","El Paso","TX","N/A","N/A",89.449996900000002]
["40216","Louisville","KY",3.125,7.9375,89.449996900000002]
["82217","Hawk Springs","WY",1.87,4.7498000000000005,89.470001199999999]
["40943","Girdler","KY",3.036,7.7114400000000005,89.470001199999999]
["40402","Annville","KY",3.0680000999999999,7.7927202539999998,89.470001199999999]
["04226","East Andover","ME","N/A","N/A",89.480003400000001]
["98852","Stehekin","WA","N/A","N/A",89.5]
["04231","Stoneham","ME","N/A","N/A",89.510002099999994]
["06023","East Berlin","CT","N/A","N/A",89.519996599999999]
["55936","Grand Meadow","MN",3.0339999,7.7063597460000004,89.519996599999999]
["64036","Henrietta","MO",3.5590000000000002,9.0398600000000009,89.519996599999999]
["64054","Independence","MO",3.6600001,9.2964002539999999,89.519996599999999]
["68740","Hoskins","NE",2.766,7.0256400000000001,89.540000899999995]
["68643","Leigh","NE",2.9140000000000001,7.4015600000000008,89.540000899999995]
["68045","Oakland","NE",2.9820001,7.5742802540000005,89.540000899999995]
["68528","Lincoln","NE",3.0120000999999998,7.6504802539999996,89.540000899999995]
["68507","Lincoln","NE",3.0430000000000001,7.7292200000000006,89.540000899999995]
["08009","Berlin","NJ",3.3050001,8.394700254,89.540000899999995]
["08004","Atco","NJ",3.3329998999999999,{"$f":"D5573*2.54","v":8.4658197459999993},89.540000899999995]
["08089","Waterford Works","NJ",3.335,8.4709000000000003,89.540000899999995]
["08527","Jackson","NJ",3.4219998999999999,8.6918797459999997,89.540000899999995]
["52345","Urbana","IA",2.9710000000000001,7.5463400000000007,89.550003099999998]
["52729","Calamus","IA",3.0129999999999999,7.6530199999999997,89.550003099999998]
["52745","Dixon","IA",3.0230000000000001,7.67842,89.550003099999998]
["52202","Alburnett","IA",3.04,7.7216000000000005,89.550003099999998]
["52241","Coralville","IA",3.04,7.7216000000000005,89.550003099999998]
["52747","Durant","IA",3.052,7.7520800000000003,89.550003099999998]
["50038","Booneville","IA",3.0650000999999998,7.7851002539999996,89.550003099999998]
["52720","Atalissa","IA",3.0760000000000001,7.81304,89.550003099999998]
["50158","Marshalltown","IA",3.1029998999999999,7.8816197460000001,89.550003099999998]
["50001","Ackworth","IA",3.1359998999999998,7.9654397459999995,89.550003099999998]
["50665","Parkersburg","IA",3.1400001,7.9756002539999997,89.550003099999998]
["50257","Truro","IA",3.2330000000000001,8.2118200000000012,89.550003099999998]
["64423","Barnard","MO",3.3719999999999999,8.5648800000000005,89.550003099999998]
["49089","Sherwood","MI",2.645,6.7183000000000002,89.559997600000003]
["42765","Munfordville","KY",3.4890001000000002,8.8620602540000011,89.559997600000003]
["67869","Plains","KS",2.6150000000000002,6.642100000000001,89.569999699999997]
["72083","Keo","AR",4.2169999999999996,10.711179999999999,89.580001800000005]
["26581","Littleton","WV",2.5699999,6.5277997460000003,89.589996299999996]
["95125","San Jose","CA",1.9950000000000001,5.0673000000000004,89.599998499999998]
["55960","Oronoco","MN",2.9590000999999999,7.5158602539999997,89.599998499999998]
["28278","Charlotte","NC",3.5859999999999999,9.1084399999999999,89.610000600000006]
["29655","Iva","SC",3.6280000000000001,9.2151200000000006,89.610000600000006]
["30120","Cartersville","GA",3.859,9.8018599999999996,89.639999399999994]
["81635","Parachute","CO",1.6950000999999999,4.3053002539999996,89.650001500000002]
["63766","Millersville","MO",3.6749999999999998,9.3345000000000002,89.650001500000002]
["26591","Worthington","WV",2.536,6.4414400000000001,89.660003700000004]
["68978","Superior","NE",2.8570001,7.2567802540000006,89.660003700000004]
["66970","Webber","KS",2.9430000999999999,7.4752202539999999,89.660003700000004]
["68327","Chester","NE",3.0020001000000001,7.6250802540000002,89.660003700000004]
["68338","Daykin","NE",3.0610000999999998,7.7749402539999997,89.660003700000004]
["47118","English","IN",3.2260000999999998,8.194040253999999,89.660003700000004]
["47514","Branchville","IN",3.2429999999999999,8.2372200000000007,89.660003700000004]
["54025","Somerset","WI",2.8220000000000001,7.1678800000000003,89.680000300000003]
["56151","Lake Wilson","MN",2.8290000000000002,7.1856600000000004,89.720001199999999]
["50420","Alexander","IA",3.0650000999999998,7.7851002539999996,89.720001199999999]
["50401","Mason City","IA",3.089,7.8460599999999996,89.720001199999999]
["95383","Twain Harte","CA",3.8380000999999999,9.7485202540000007,89.720001199999999]
["93669","Wishon","CA",4.0819998000000002,10.368279492000001,89.720001199999999]
["55113","Saint Paul","MN",2.8290000000000002,7.1856600000000004,89.739997900000006]
["55364","Mound","MN",2.8650000000000002,7.2771000000000008,89.739997900000006]
["55447","Minneapolis","MN",2.8759999000000001,7.3050397460000003,89.739997900000006]
["60152","Marengo","IL",2.9540000000000002,7.5031600000000003,89.739997900000006]
["61283","Tampico","IL",2.9740000000000002,7.5539600000000009,89.739997900000006]
["95459","Manchester","CA",5.4860001,13.934440254,89.739997900000006]
["58444","Goodrich","ND",2.0439999000000002,5.1917597460000007,89.75]
["58492","Wimbledon","ND",2.2669999999999999,5.7581799999999994,89.75]
["58466","Marion","ND",2.4119999000000001,6.1264797460000002,89.75]
["38568","Hilham","TN",3.5150001,8.9281002540000003,89.75]
["38475","Olivehill","TN",3.9749998999999998,10.096499745999999,89.75]
["35974","Geraldine","AL",3.9510000000000001,10.035540000000001,89.760002099999994]
["35951","Albertville","AL",4.0129999999999999,10.193020000000001,89.760002099999994]
["01747","Hopedale","MA","N/A","N/A",89.769996599999999]
["02343","Holbrook","MA","N/A","N/A",89.769996599999999]
["98008","Bellevue","WA","N/A","N/A",89.769996599999999]
["98059","Renton","WA","N/A","N/A",89.769996599999999]
["57048","Montrose","SD",2.6240000999999999,6.6649602540000004,89.790000899999995]
["57005","Brandon","SD",2.681,6.8097400000000006,89.790000899999995]
["29860","North Augusta","SC",3.5780001000000001,9.0881202539999997,89.800003099999998]
["31544","Jacksonville","GA",3.8719999999999999,9.8348800000000001,89.800003099999998]
["03254","Moultonborough","NH","N/A","N/A",89.809997600000003]
["03280","Washington","NH","N/A","N/A",89.809997600000003]
["03872","Sanbornville","NH","N/A","N/A",89.809997600000003]
["49307","Big Rapids","MI",2.4089999,6.118859746,89.809997600000003]
["66035","Highland","KS",3.4070000999999999,8.6537802539999991,89.819999699999997]
["45671","Rarden","OH",2.7989999999999999,{"$f":"D6510*2.54","v":7.1094600000000003},89.830001800000005]
["58418","Bowdon","ND",2.1989999,5.5854597459999997,89.839996299999996]
["56368","Richmond","MN",2.72,6.9088000000000003,89.839996299999996]
["36042","Honoraville","AL",4.5300001999999999,11.506200507999999,89.839996299999996]
["76021","Bedford","TX","N/A","N/A",89.849998499999998]
["51106","Sioux City","IA",2.8069999000000001,7.1297797460000005,89.849998499999998]
["68111","Omaha","NE",2.9719999000000001,7.5488797460000008,89.849998499999998]
["68108","Omaha","NE",3.0030000000000001,7.6276200000000003,89.849998499999998]
["29649","Greenwood","SC",3.5209999000000001,8.9433397459999995,89.849998499999998]
["03444","Dublin","NH","N/A","N/A",89.860000600000006]
["03745","Cornish","NH","N/A","N/A",89.860000600000006]
["62012","Brighton","IL",3.0659999999999998,7.7876399999999997,89.860000600000006]
["21061","Glen Burnie","MD",3.1789999,8.074659746,89.860000600000006]
["21223","Baltimore","MD",3.234,8.2143599999999992,89.860000600000006]
["21239","Baltimore","MD",3.3729998999999999,8.5674197460000006,89.860000600000006]
["41548","Mouthcard","KY",2.6040000999999999,6.6141602539999997,89.870002700000001]
["25661","Williamson","WV",2.6419999999999999,6.71068,89.870002700000001]
["41564","Sidney","KY",2.6459999000000001,6.7208397460000002,89.870002700000001]
["41635","Harold","KY",2.6549999999999998,6.7436999999999996,89.870002700000001]
["25669","Crum","WV",2.6659999000000001,6.771639746,89.870002700000001]
["41828","Kite","KY",2.6749999999999998,6.7944999999999993,89.870002700000001]
["41602","Auxier","KY",2.7090000999999999,6.8808602539999999,89.870002700000001]
["41263","Tutor Key","KY",2.72,6.9088000000000003,89.870002700000001]
["41256","Staffordsville","KY",2.7770000000000001,7.0535800000000002,89.870002700000001]
["52236","Homestead","IA",3.0819999999999999,7.8282799999999995,89.870002700000001]
["52356","Wellman","IA",3.1099999,7.8993997460000003,89.870002700000001]
["52591","Sigourney","IA",3.1229998999999999,7.9324197459999999,89.870002700000001]
["52211","Brooklyn","IA",3.1300001000000002,7.9502002540000003,89.870002700000001]
["52601","Burlington","IA",3.1329999000000002,7.9578197460000002,89.870002700000001]
["72837","Dover","AR",4.3019999999999996,10.927079999999998,89.870002700000001]
["92703","Santa Ana","CA",2.2829999999999999,5.7988200000000001,89.879997299999999]
["92620","Irvine","CA",2.3919999999999999,6.0756800000000002,89.879997299999999]
["90292","Marina del Rey","CA",2.5550001,6.4897002539999997,89.879997299999999]
["90262","Lynwood","CA",2.7320001,6.9392802539999998,89.879997299999999]
["90270","Maywood","CA",2.7390001000000002,{"$f":"D6975*2.54","v":6.9570602540000008},89.879997299999999]
["91766","Pomona","CA",2.9530001000000001,7.5006202540000002,89.879997299999999]
["91340","San Fernando","CA",3.2060000999999998,8.1432402540000002,89.879997299999999]
["28356","Linden","NC",3.7160001,9.438640254000001,89.879997299999999]
["67458","Longford","KS",3.2880001000000001,8.3515202540000004,89.889999399999994]
["80116","Franktown","CO",1.946,4.9428400000000003,89.900001500000002]
["80121","Littleton","CO",1.992,5.0596800000000002,89.900001500000002]
["78402","Corpus Christi","TX","N/A","N/A",89.919998199999995]
["25174","Rock Creek","WV",2.6470001000000001,6.7233802540000003,89.930000300000003]
["12594","Wingdale","NY","N/A","N/A",89.949996900000002]
["67860","Lakin","KS",2.3959999000000001,6.0858397460000004,89.949996900000002]
["24935","Forest Hill","WV",2.4920000999999998,6.3296802539999995,89.949996900000002]
["25918","Shady Spring","WV",2.5280000999999999,6.4211202539999999,89.949996900000002]
["24901","Lewisburg","WV",2.7360001,6.9494402540000006,89.949996900000002]
["83868","Smelterville","ID","N/A","N/A",89.959999100000005]
["78369","Mirando City","TX","N/A","N/A",89.989997900000006]
["06120","Hartford","CT","N/A","N/A",90]
["06511","New Haven","CT","N/A","N/A",90]
["06704","Waterbury","CT","N/A","N/A",90]
["85629","Sahuarita","AZ",2.1640000000000001,5.4965600000000006,90]
["30093","Norcross","GA",3.7060000999999998,9.4132402539999998,90]
["30144","Kennesaw","GA",3.8529998999999999,9.7866197459999995,90]
["30213","Fairburn","GA",3.9130001000000001,9.9390202540000008,90]
["19044","Horsham","PA",3.2920001000000001,8.3616802539999995,90.010002099999994]
["06018","Canaan","CT","N/A","N/A",90.019996599999999]
["06232","Andover","CT","N/A","N/A",90.019996599999999]
["06259","Pomfret Center","CT","N/A","N/A",90.019996599999999]
["06339","Ledyard","CT","N/A","N/A",90.019996599999999]
["06365","Preston","CT","N/A","N/A",90.019996599999999]
["06447","Marlborough","CT","N/A","N/A",90.019996599999999]
["06756","Goshen","CT","N/A","N/A",90.019996599999999]
["06793","Washington","CT","N/A","N/A",90.019996599999999]
["06851","Norwalk","CT","N/A","N/A",90.019996599999999]
["06896","Redding","CT","N/A","N/A",90.019996599999999]
["72205","Little Rock","AR",4.2560000000000002,10.81024,90.019996599999999]
["71949","Jessieville","AR",4.6319999999999997,11.765279999999999,90.019996599999999]
["71959","Newhope","AR",4.9439998000000003,12.557759492000001,90.019996599999999]
["49446","New Era","MI",2.6010000999999998,6.6065402539999996,90.029998800000001]
["54858","Milltown","WI",2.915,7.4041000000000006,90.029998800000001]
["63010","Arnold","MO",3.2429999999999999,8.2372200000000007,90.040000899999995]
["37050","Cumberland City","TN",3.7060000999999998,9.4132402539999998,90.040000899999995]
["53574","New Glarus","WI",3.0120000999999998,7.6504802539999996,90.050003099999998]
["49852","Loretto","MI",2.3460000000000001,5.9588400000000004,90.069999699999997]
["55340","Hamel","MN",2.8710000999999998,7.292340254,90.069999699999997]
["55369","Osseo","MN",2.8719999999999999,7.29488,90.069999699999997]
["50025","Audubon","IA",3.1849999000000002,8.0898997460000004,90.080001800000005]
["51532","Elliott","IA",3.286,8.3464399999999994,90.080001800000005]
["64436","Cosby","MO",3.4430000999999999,8.7452202539999995,90.080001800000005]
["59724","Dell","MT","N/A","N/A",90.099998499999998]
["62972","Ozark","IL",3.6219999999999999,9.1998800000000003,90.099998499999998]
["29730","Rock Hill","SC",3.6240000999999999,9.2049602539999995,90.099998499999998]
["38133","Memphis","TN",3.9560000999999998,10.048240254,90.110000600000006]
["54828","Couderay","WI",2.8299998999999998,7.1881997459999996,90.120002700000001]
["20006","Washington","DC",3.1370000999999998,7.9679802539999995,90.120002700000001]
["20015","Washington","DC",3.1840000000000002,8.0873600000000003,90.120002700000001]
["74132","Tulsa","OK",3.8699998999999998,9.8297997459999991,90.120002700000001]
["74107","Tulsa","OK",3.8710000999999998,9.832340254,90.120002700000001]
["58771","Plaza","ND",1.9830000000000001,5.0368200000000005,90.129997299999999]
["03110","Bedford","NH","N/A","N/A",90.139999399999994]
["03301","Concord","NH","N/A","N/A",90.139999399999994]
["03884","Strafford","NH","N/A","N/A",90.139999399999994]
["06095","Windsor","CT","N/A","N/A",90.150001500000002]
["98051","Ravensdale","WA","N/A","N/A",90.160003700000004]
["20197","Waterford","VA",3.0699999,7.7977997459999999,90.169998199999995]
["42154","Knob Lick","KY",3.46,8.7883999999999993,90.169998199999995]
["24483","Vesuvius","VA",4.0840000999999999,10.373360254,90.169998199999995]
["05001","White River Junction","VT","N/A","N/A",90.190002399999997]
["05039","Corinth","VT","N/A","N/A",90.190002399999997]
["05072","Strafford","VT","N/A","N/A",90.190002399999997]
["05836","East Hardwick","VT","N/A","N/A",90.190002399999997]
["80631","Greeley","CO",1.8109999999999999,4.5999400000000001,90.199996900000002]
["80203","Denver","CO",1.8779999999999999,4.7701199999999995,90.199996900000002]
["80209","Denver","CO",1.9179999999999999,4.8717199999999998,90.199996900000002]
["80222","Denver","CO",1.972,5.0088800000000004,90.199996900000002]
["80016","Aurora","CO",2.0550001,5.2197002540000002,90.199996900000002]
["30068","Marietta","GA",3.7550001000000002,9.5377002540000007,90.199996900000002]
["88436","Sedan","NM",2.2780000999999999,5.7861202540000001,90.209999100000005]
["99111","Colfax","WA","N/A","N/A",90.220001199999999]
["63660","Mineral Point","MO",3.3770001000000001,8.5775802540000008,90.230003400000001]
["42762","Millwood","KY",3.5390000000000001,8.9890600000000003,90.230003400000001]
["54514","Butternut","WI",2.7820000999999999,7.0662802539999996,90.239997900000006]
["30256","Meansville","GA",3.875,9.8424999999999994,90.239997900000006]
["10986","Tomkins Cove","NY","N/A","N/A",90.25]
["75961","Nacogdoches","TX","N/A","N/A",90.25]
["10965","Pearl River","NY",3.3780000000000001,8.5801200000000009,90.25]
["65713","Niangua","MO",3.5750000000000002,{"$f":"D8173*2.54","v":9.0805000000000007},90.25]
["65648","Fair Grove","MO",3.6549999999999998,9.2836999999999996,90.25]
["35972","Gallant","AL",4.0879998000000004,10.383519492000001,90.25]
["35116","Morris","AL",4.0960001999999998,10.403840508,90.25]
["35148","Sumiton","AL",4.1279998000000004,10.485119492000001,90.25]
["35184","West Blocton","AL",4.1609997999999999,10.568939492,90.25]
["52136","Cresco","IA",3.0599999000000002,7.7723997460000005,90.260002099999994]
["50670","Shell Rock","IA",3.125,7.9375,90.260002099999994]
["57224","Claire City","SD",2.5,6.35,90.269996599999999]
["57255","New Effington","SD",2.5039999000000002,6.3601597460000008,90.269996599999999]
["55963","Pine Island","MN",2.9519999000000001,7.4980797460000002,90.269996599999999]
["40744","London","KY",3.0799998999999998,{"$f":"D8326*2.54","v":7.8231997459999993},90.290000899999995]
["69156","Potter","NE",2.0630000000000002,5.2400200000000003,90.300003099999998]
["21639","Greensboro","MD",3.2570000000000001,8.2727800000000009,90.319999699999997]
["19950","Greenwood","DE",3.3820000000000001,8.5902799999999999,90.319999699999997]
["19960","Lincoln","DE",3.3840001000000002,8.5953602540000009,90.319999699999997]
["64833","Avilla","MO",3.8469999000000001,9.7713797460000009,90.319999699999997]
["98555","Lilliwaup","WA","N/A","N/A",90.339996299999996]
["57243","Henry","SD",2.4569999999999999,{"$f":"D8425*2.54","v":6.24078},90.349998499999998]
["47941","Dayton","IN",2.8529998999999999,7.2466197459999995,90.349998499999998]
["46208","Indianapolis","IN",2.9330001000000001,7.4498202540000005,90.349998499999998]
["62613","Athens","IL",2.9400000999999998,7.4676002539999997,90.349998499999998]
["61061","Oregon","IL",2.964,7.5285599999999997,90.349998499999998]
["61560","Putnam","IL",2.9760000999999998,7.5590402539999992,90.349998499999998]
["61443","Kewanee","IL",2.99,7.5946000000000007,90.349998499999998]
["62563","Rochester","IL",3.0030000000000001,7.6276200000000003,90.349998499999998]
["61734","Delavan","IL",3.0250001000000002,7.683500254000001,90.349998499999998]
["62545","Mechanicsburg","IL",3.03,7.6961999999999993,90.349998499999998]
["62567","Stonington","IL",3.05,7.7469999999999999,90.349998499999998]
["23113","Midlothian","VA",3.3369998999999999,8.4759797460000001,90.349998499999998]
["22847","Quicksburg","VA",2.7309999,6.9367397459999998,90.370002700000001]
["63071","Richwoods","MO",3.3310000999999998,8.4607402539999992,90.370002700000001]
["65016","Bonnots Mill","MO",3.3519999999999999,8.5140799999999999,90.370002700000001]
["65058","Meta","MO",3.4890001000000002,8.8620602540000011,90.370002700000001]
["58481","Spiritwood","ND",2.3410001,5.9461402540000003,90.379997299999999]
["02903","Providence","RI","N/A","N/A",90.389999399999994]
["37172","Springfield","TN",3.5780001000000001,9.0881202539999997,90.389999399999994]
["37042","Clarksville","TN",3.6429999,9.2532197459999992,90.389999399999994]
["73135","Oklahoma City","OK",3.7460000999999998,9.5148402539999992,90.389999399999994]
["37355","Manchester","TN",3.891,9.8831400000000009,90.389999399999994]
["55396","Winthrop","MN",2.8260000000000001,7.1780400000000002,90.400001500000002]
["17851","Mount Carmel","PA",3.0799998999999998,7.8231997459999993,90.400001500000002]
["68421","Peru","NE",3.2229999999999999,8.18642,90.400001500000002]
["18248","Sheppton","PA",3.4540000000000002,8.7731600000000007,90.400001500000002]
["72827","Bluffton","AR",4.2080001999999999,10.688320508,90.400001500000002]
["16746","Roulette","PA",2.4649999,6.2610997460000002,90.419998199999995]
["45672","Ray","OH",2.6960001,6.8478402540000003,90.430000300000003]
["45653","Minford","OH",2.7249998999999998,6.9214997459999994,90.430000300000003]
["26330","Bridgeport","WV",2.5499999999999998,6.4769999999999994,90.449996900000002]
["27054","Woodleaf","NC",3.3870000999999998,8.6029802540000002,90.449996900000002]
["27377","Whitsett","NC",3.4489999,8.7604597460000004,90.449996900000002]
["28027","Concord","NC",3.484,8.8493600000000008,90.449996900000002]
["27278","Hillsborough","NC",3.5580001000000001,9.0373202540000008,90.449996900000002]
["27516","Chapel Hill","NC",3.5780001000000001,9.0881202539999997,90.449996900000002]
["35125","Pell City","AL",4.0760002000000002,10.353040508000001,90.459999100000005]
["83548","Reubens","ID","N/A","N/A",90.480003400000001]
["95073","Soquel","CA",4.6170001000000003,11.727180254,90.489997900000006]
["30523","Clarkesville","GA",5.6769999999999996,14.41958,90.5]
["04270","Oxford","ME","N/A","N/A",90.510002099999994]
["57422","Andover","SD",2.4219998999999999,6.1518797459999996,90.519996599999999]
["57479","Warner","SD",2.4349999000000002,6.184899746000001,90.519996599999999]
["15784","Worthville","PA",2.5120000999999998,6.3804802540000001,90.529998800000001]
["15773","Saint Benedict","PA",2.5480000999999999,6.4719202539999996,90.529998800000001]
["59634","Clancy","MT","N/A","N/A",90.540000899999995]
["26208","Camden on Gauley","WV",2.7240000000000002,6.9189600000000002,90.550003099999998]
["26234","Rock Cave","WV",2.7650001,7.023100254,90.550003099999998]
["30148","Marble Hill","GA",4.4559999000000001,11.318239746,90.550003099999998]
["02825","Foster","RI","N/A","N/A",90.559997600000003]
["06359","North Stonington","CT","N/A","N/A",90.559997600000003]
["92626","Costa Mesa","CA",2.1670001000000001,5.5041802540000004,90.559997600000003]
["90710","Harbor City","CA",2.4890001000000002,6.3220602540000002,90.559997600000003]
["90304","Inglewood","CA",2.5020001000000001,6.3550802540000007,90.559997600000003]
["90047","Los Angeles","CA",2.6280000000000001,6.6751200000000006,90.559997600000003]
["90007","Los Angeles","CA",2.6819999000000001,6.8122797460000006,90.559997600000003]
["90058","Los Angeles","CA",2.7490000999999999,6.9824602540000003,90.559997600000003]
["90601","Whittier","CA",2.9079999999999999,7.3863199999999996,90.559997600000003]
["92821","Brea","CA",2.9790000999999999,7.5666602540000003,90.559997600000003]
["91770","Rosemead","CA",3.1700001000000002,8.0518002539999998,90.559997600000003]
["42129","Edmonton","KY",3.4470000000000001,8.7553800000000006,90.559997600000003]
["54448","Marathon","WI",2.6320000000000001,6.6852800000000006,90.569999699999997]
["51249","Sibley","IA",2.9209999999999998,{"$f":"D9298*2.54","v":7.41934},90.580001800000005]
["51358","Ruthven","IA",2.9940000000000002,7.6047600000000006,90.580001800000005]
["50315","Des Moines","IA",3.0420001000000001,7.7266802540000006,90.580001800000005]
["50023","Ankeny","IA",3.0910001,7.8511402540000006,90.580001800000005]
["58060","Milnor","ND",2.4330001000000001,6.179820254,90.589996299999996]
["47615","Grandview","IN",3.2730000000000001,8.3134200000000007,90.599998499999998]
["72577","Sidney","AR",3.948,10.02792,90.599998499999998]
["72641","Jasper","AR",4.0300001999999999,10.236200508,90.599998499999998]
["56180","Walnut Grove","MN",2.7409998999999998,6.9621397460000001,90.610000600000006]
["35775","Valhermoso Springs","AL",4.0110001999999998,10.187940508000001,90.620002700000001]
["38838","Dennis","MS",4.1980000000000004,10.662920000000002,90.620002700000001]
["92372","Pinon Hills","CA",2.2620000999999998,{"$f":"D9451*2.54","v":5.7454802539999994},90.629997299999999]
["35640","Hartselle","AL",4.0910000999999996,10.391140254,90.629997299999999]
["08022","Columbus","NJ",3.3399999,8.4835997459999994,90.639999399999994]
["64111","Kansas City","MO",3.6619999000000001,9.301479746,90.639999399999994]
["64070","Lone Jack","MO",3.694,9.3827599999999993,90.639999399999994]
["64082","Lees Summit","MO",3.7069999999999999,9.4157799999999998,90.639999399999994]
["64081","Lees Summit","MO",3.7119998999999999,9.4284797460000007,90.639999399999994]
["40047","Mount Washington","KY",3.1800001,8.077200254000001,90.650001500000002]
["37714","Caryville","TN",3.802,9.6570800000000006,90.669998199999995]
["14216","Buffalo","NY","N/A","N/A",90.680000300000003]
["14853","Ithaca","NY","N/A","N/A",90.680000300000003]
["56062","Madelia","MN",2.927,7.4345800000000004,90.690002399999997]
["51360","Spirit Lake","IA",2.931,7.4447400000000004,90.690002399999997]
["50562","Mallard","IA",3.0259999999999998,7.6860399999999993,90.690002399999997]
["50586","Somers","IA",3.0610000999999998,7.7749402539999997,90.690002399999997]
["50478","Thompson","IA",3.0869998999999999,7.8409797459999995,90.690002399999997]
["50475","Sheffield","IA",3.1179999999999999,7.9197199999999999,90.690002399999997]
["50124","Huxley","IA",3.1509999999999998,8.0035399999999992,90.690002399999997]
["50156","Madrid","IA",3.1509999999999998,8.0035399999999992,90.690002399999997]
["24224","Castlewood","VA",2.6500001000000002,6.7310002540000005,90.699996900000002]
["19941","Ellendale","DE",3.395,8.6233000000000004,90.699996900000002]
["39082","Harrisville","MS",4.7229999999999999,11.996420000000001,90.699996900000002]
["56245","Hanley Falls","MN",2.6889999000000002,6.8300597460000008,90.720001199999999]
["00181","Low and Burbanks Grant","NH","N/A","N/A",90.730003400000001]
["00182","Crawfords Purchase","NH","N/A","N/A",90.730003400000001]
["54103","Armstrong Creek","WI",2.411,6.1239400000000002,90.730003400000001]
["54896","Winter","WI",2.8010001,7.1145402540000005,90.730003400000001]
["65617","Brighton","MO",3.6789999,9.3446597459999996,90.730003400000001]
["64862","Sarcoxie","MO",3.8540000999999999,9.7891602540000004,90.730003400000001]
["04221","Canton","ME","N/A","N/A",90.739997900000006]
["04984","Temple","ME","N/A","N/A",90.739997900000006]
["05648","Calais","VT","N/A","N/A",90.75]
["15692","Westmoreland City","PA",2.3970001000000001,6.0883802540000005,90.760002099999994]
["15417","Brownsville","PA",2.4260001,6.1620402539999999,90.760002099999994]
["15601","Greensburg","PA",2.4719999000000001,6.2788797460000003,90.760002099999994]
["15474","Point Marion","PA",2.4900000000000002,6.3246000000000002,90.760002099999994]
["15628","Donegal","PA",2.5369999000000001,6.4439797460000001,90.760002099999994]
["15901","Johnstown","PA",2.5680000999999999,6.5227202540000002,90.760002099999994]
["15944","New Florence","PA",2.6010000999999998,6.6065402539999996,90.760002099999994]
["45202","Cincinnati","OH",2.855,7.2517000000000005,90.760002099999994]
["45231","Cincinnati","OH",2.8640001000000002,7.2745602540000007,90.760002099999994]
["41004","Brooksville","KY",2.9119999000000001,7.3964797460000007,90.760002099999994]
["41040","Falmouth","KY",2.9660001,7.5336402539999998,90.760002099999994]
["19713","Newark","DE",3.2509999000000001,8.2575397460000008,90.760002099999994]
["37367","Pikeville","TN",3.8,9.6519999999999992,90.760002099999994]
["37301","Altamont","TN",3.9809999,10.111739746,90.760002099999994]
["24962","Pence Springs","WV",2.5430000000000001,6.4592200000000002,90.769996599999999]
["63631","Caledonia","MO",3.48,8.8391999999999999,90.769996599999999]
["63638","Ellington","MO",3.7210000000000001,9.4513400000000001,90.769996599999999]
["35098","Logan","AL",4.2110000000000003,10.69594,90.779998800000001]
["16036","Foxburg","PA","N/A","N/A",90.790000899999995]
["58210","Adams","ND",2.1869999999999998,5.5549799999999996,90.790000899999995]
["44443","New Springfield","OH",2.3859998999999998,6.0604397459999992,90.790000899999995]
["44669","Paris","OH",2.431,6.1747399999999999,90.790000899999995]
["44306","Akron","OH",2.4369999999999998,6.1899799999999994,90.790000899999995]
["44320","Akron","OH",2.4460001,6.2128402540000005,90.790000899999995]
["16313","Clarendon","PA",2.4579998999999999,6.2433197460000001,90.790000899999995]
["64457","Guilford","MO",3.3710000999999998,8.5623402540000004,90.790000899999995]
["74117","Tulsa","OK",3.8640001000000002,9.8145602539999999,90.790000899999995]
["57799","Black Hills State University","SD",2.4609999999999999,6.2509399999999999,90.800003099999998]
["60301","Oak Park","IL",2.9159999000000001,7.4066397460000006,90.809997600000003]
["27127","Winston Salem","NC",3.3940001,8.6207602540000003,90.809997600000003]
["27103","Winston Salem","NC",3.3980000000000001,8.6309199999999997,90.809997600000003]
["21801","Salisbury","MD",3.4470000000000001,8.7553800000000006,90.809997600000003]
["27604","Raleigh","NC",3.4929999999999999,8.8722200000000004,90.809997600000003]
["05071","South Woodstock","VT","N/A","N/A",90.819999699999997]
["44622","Dover","OH",2.4649999,6.2610997460000002,90.830001800000005]
["96106","Clio","CA",2.8150000999999998,7.1501002539999998,90.830001800000005]
["96114","Janesville","CA",3.75,9.5250000000000004,90.830001800000005]
["37075","Hendersonville","TN",3.4940000000000002,8.8747600000000002,90.839996299999996]
["37186","Westmoreland","TN",3.609,{"$f":"D10428*2.54","v":9.1668599999999998},90.839996299999996]
["83414","Alta","WY","N/A","N/A",90.849998499999998]
["38876","Tremont","MS",4.2270002,10.736580507999999,90.860000600000006]
["48095","Washington","MI",2.3659998999999998,6.0096397459999995,90.870002700000001]
["50438","Garner","IA",3.0529999999999999,7.7546200000000001,90.870002700000001]
["50525","Clarion","IA",3.0720000000000001,7.80288,90.870002700000001]
["50248","Story City","IA",3.1489999000000002,7.9984597460000009,90.870002700000001]
["50835","Benton","IA",3.2679999,{"$f":"D10531*2.54","v":8.3007197460000004},90.870002700000001]
["21209","Baltimore","MD",3.3410001,8.4861402540000004,90.870002700000001]
["64471","New Hampton","MO",3.3789999000000002,8.5826597460000009,90.870002700000001]
["64635","Chula","MO",3.3959999000000001,8.6258397460000005,90.870002700000001]
["64469","Maysville","MO",3.4670000000000001,8.8061799999999995,90.870002700000001]
["72840","Hartman","AR",4.0079998999999997,10.180319745999999,90.870002700000001]
["72846","Lamar","AR",4.1630000999999996,10.574020253999999,90.870002700000001]
["72938","Hartford","AR",4.3439999,11.033759745999999,90.870002700000001]
["82514","Fort Washakie","WY","N/A","N/A",90.879997299999999]
["24301","Pulaski","VA",2.4769999999999999,6.2915799999999997,90.879997299999999]
["26254","Bowden","WV",2.7109999999999999,6.8859399999999997,90.879997299999999]
["24938","Frankford","WV",2.7820000999999999,7.0662802539999996,90.879997299999999]
["26807","Franklin","WV",2.8519999999999999,7.2440799999999994,90.879997299999999]
["24073","Christiansburg","VA",2.911,7.3939400000000006,90.879997299999999]
["24445","Hot Springs","VA",3.0329999999999999,7.7038200000000003,90.879997299999999]
["24087","Elliston","VA",3.1900000999999998,8.1026002540000004,90.879997299999999]
["24072","Check","VA",3.4119999000000001,8.6664797460000003,90.879997299999999]
["22851","Stanley","VA",4.3060001999999997,10.937240507999999,90.879997299999999]
["49749","Indian River","MI",2.1549999999999998,{"$f":"D10773*2.54","v":5.4737},90.889999399999994]
["81435","Telluride","CO",2.0699999,5.2577997459999999,90.900001500000002]
["23153","Sandy Hook","VA",3.2850001,8.3439002539999994,90.900001500000002]
["23917","Boydton","VA",3.319,8.4302600000000005,90.900001500000002]
["23958","Pamplin","VA",3.4219998999999999,8.6918797459999997,90.900001500000002]
["24551","Forest","VA",3.4779998999999999,8.8341197460000007,90.900001500000002]
["02889","Warwick","RI","N/A","N/A",90.910003700000004]
["98034","Kirkland","WA","N/A","N/A",90.910003700000004]
["98109","Seattle","WA","N/A","N/A",90.910003700000004]
["98223","Arlington","WA","N/A","N/A",90.910003700000004]
["98372","Puyallup","WA","N/A","N/A",90.910003700000004]
["35034","Brent","AL",4.1570001000000003,{"$f":"D10926*2.54","v":10.558780254},90.910003700000004]
["12945","Lake Clear","NY","N/A","N/A",90.919998199999995]
["47003","West College Corner","IN",2.8679999999999999,7.2847200000000001,90.919998199999995]
["64429","Cameron","MO",3.5009999000000001,8.8925397460000006,90.930000300000003]
["64167","Kansas City","MO",3.5630000000000002,9.05002,90.930000300000003]
["77624","Hillister","TX","N/A","N/A",90.940002399999997]
["77664","Warren","TX","N/A","N/A",90.940002399999997]
["64656","Ludlow","MO",3.4409999999999998,8.7401400000000002,90.940002399999997]
["55370","Plato","MN",2.8319999999999999,7.1932799999999997,90.949996900000002]
["08805","Bound Brook","NJ",3.335,8.4709000000000003,90.949996900000002]
["66041","Lancaster","KS",3.4560000999999998,8.778240254,90.949996900000002]
["38633","Hickory Flat","MS",4.3850002000000003,11.137900508000001,90.949996900000002]
["04412","Brewer","ME","N/A","N/A",90.959999100000005]
["80905","Colorado Springs","CO",1.9220001,4.8818802540000004,90.959999100000005]
["15342","Houston","PA",2.3789999000000002,6.0426597460000009,90.959999100000005]
["15089","West Newton","PA",2.4130001000000001,6.1290202540000003,90.959999100000005]
["15352","New Freeport","PA",2.5289999999999999,6.4236599999999999,90.959999100000005]
["05076","Topsham","VT","N/A","N/A",90.970001199999999]
["58533","Elgin","ND",2.0840000999999999,5.2933602539999995,90.970001199999999]
["43802","Adamsville","OH",2.52,6.4008000000000003,90.970001199999999]
["13060","Elbridge","NY","N/A","N/A",90.989997900000006]
["14026","Bowmansville","NY","N/A","N/A",90.989997900000006]
["58528","Cannon Ball","ND",2.0739999,5.2679597459999998,90.989997900000006]
["41071","Newport","KY",2.8729998999999999,7.2974197460000001,90.989997900000006]
["41030","Crittenden","KY",3.0070000000000001,7.6377800000000002,90.989997900000006]
["40517","Lexington","KY",3.0459999999999998,7.7368399999999999,90.989997900000006]
["40065","Shelbyville","KY",3.1280000000000001,7.9451200000000002,90.989997900000006]
["23086","King William","VA",3.3369998999999999,8.4759797460000001,90.989997900000006]
["12435","Greenfield Park","NY","N/A","N/A",91]
["48825","East Lansing","MI","N/A","N/A",91]
["80211","Denver","CO",1.8420000000000001,4.6786799999999999,91]
["80236","Denver","CO",1.877,4.7675799999999997,91]
["80525","Fort Collins","CO",1.9770000000000001,5.0215800000000002,91]
["48342","Pontiac","MI",2.411,6.1239400000000002,91]
["48341","Pontiac","MI",2.415,6.1341000000000001,91]
["48324","West Bloomfield","MI",2.4260001,6.1620402539999999,91]
["93030","Oxnard","CA",2.8399999,7.2135997459999999,91]
["00028","Plumas Ntl Forest","CA",3.3130000000000002,8.4150200000000002,91]
["39203","Jackson","MS",4.3540001000000004,11.059160254000002,91]
["39212","Jackson","MS",4.4210000000000003,11.229340000000001,91]
["01701","Framingham","MA","N/A","N/A",91.019996599999999]
["02148","Malden","MA","N/A","N/A",91.019996599999999]
["11050","Port Washington","NY","N/A","N/A",91.019996599999999]
["57258","Raymond","SD",2.3929999,6.0782197460000003,91.019996599999999]
["37765","Kyles Ford","TN",2.9330001000000001,7.4498202540000005,91.019996599999999]
["24244","Duffield","VA",3.25,8.2550000000000008,91.019996599999999]
["46929","Flora","IN",2.8829999000000002,7.3228197460000004,91.029998800000001]
["61817","Catlin","IL",3.0169999999999999,7.6631799999999997,91.029998800000001]
["23230","Richmond","VA",3.3380000999999999,8.4785202539999993,91.029998800000001]
["75763","Frankston","TX","N/A","N/A",91.040000899999995]
["41011","Covington","KY",2.8940001,{"$f":"D11627*2.54","v":7.3507602539999999},91.040000899999995]
["26276","Kerens","WV",2.609,6.6268599999999998,91.050003099999998]
["47575","Saint Anthony","IN",3.22,8.1788000000000007,91.050003099999998]
["47432","French Lick","IN",3.2409998999999998,8.2321397459999996,91.050003099999998]
["23934","Cullen","VA",3.359,8.53186,91.050003099999998]
["30753","Trion","GA",4.0960001999999998,10.403840508,91.050003099999998]
["30731","Menlo","GA",4.2360001,10.759440254000001,91.050003099999998]
["44425","Hubbard","OH",2.3970001000000001,6.0883802540000005,91.059997600000003]
["22193","Woodbridge","VA",3.0920000000000001,7.8536800000000007,91.059997600000003]
["80818","Genoa","CO",1.9910000999999999,5.0571402540000001,91.069999699999997]
["43755","Lore City","OH",2.4900000000000002,6.3246000000000002,91.069999699999997]
["65464","Elk Creek","MO",3.4719999000000001,8.8188797460000004,91.069999699999997]
["65543","Lynchburg","MO",3.4749998999999998,8.8264997459999996,91.069999699999997]
["65652","Fordland","MO",3.5810000999999998,9.095740253999999,91.069999699999997]
["65608","Ava","MO",3.5979999999999999,9.1389200000000006,91.069999699999997]
["65637","Dora","MO",3.6509999999999998,9.2735399999999988,91.069999699999997]
["65789","Pomona","MO",3.7040000000000002,9.4081600000000005,91.069999699999997]
["65681","Lampe","MO",3.7520001000000001,9.5300802539999996,91.069999699999997]
["72537","Gamaliel","AR",3.7559999999999998,9.5402399999999989,91.069999699999997]
["65775","West Plains","MO",3.8080001000000001,9.6723202540000006,91.069999699999997]
["72687","Yellville","AR",3.9000001000000002,9.9060002540000003,91.069999699999997]
["36790","Stanton","AL",4.1700001000000002,10.591800254000001,91.069999699999997]
["57620","Bison","SD",2.0220001000000001,5.1358802539999999,91.080001800000005]
["40146","Irvington","KY",3.4039999999999999,8.6461600000000001,91.080001800000005]
["10992","Washingtonville","NY","N/A","N/A",91.089996299999996]
["12515","Clintondale","NY","N/A","N/A",91.089996299999996]
["12590","Wappingers Falls","NY","N/A","N/A",91.089996299999996]
["83644","Middleton","ID","N/A","N/A",91.089996299999996]
["83676","Wilder","ID","N/A","N/A",91.089996299999996]
["48030","Hazel Park","MI",2.3369998999999999,5.9359797460000001,91.089996299999996]
["82428","Hyattville","WY","N/A","N/A",91.099998499999998]
["49821","Daggett","MI",2.3429999000000001,5.9512197460000005,91.099998499999998]
["45416","Dayton","OH",2.7370000000000001,6.9519800000000007,91.099998499999998]
["45402","Dayton","OH",2.7429999999999999,6.9672200000000002,91.099998499999998]
["97038","Molalla","OR","N/A","N/A",91.110000600000006]
["74127","Tulsa","OK",3.8710000999999998,9.832340254,91.110000600000006]
["04653","Bass Harbor","ME","N/A","N/A",91.120002700000001]
["05841","Greensboro","VT","N/A","N/A",91.120002700000001]
["12783","Swan Lake","NY","N/A","N/A",91.120002700000001]
["13756","East Branch","NY","N/A","N/A",91.120002700000001]
["41166","Quincy","KY",2.7509999000000001,6.9875397460000004,91.120002700000001]
["40387","Wellington","KY",2.9749998999999998,7.5564997459999992,91.120002700000001]
["10309","Staten Island","NY",3.3580000000000001,8.5293200000000002,91.129997299999999]
["92352","Lake Arrowhead","CA",5.9229998999999998,15.044419745999999,91.139999399999994]
["12910","Altona","NY","N/A","N/A",91.150001500000002]
["98843","Orondo","WA","N/A","N/A",91.150001500000002]
["54311","Green Bay","WI",2.3840001000000002,6.0553602540000009,91.150001500000002]
["16932","Mainesburg","PA",2.48,6.2991999999999999,91.150001500000002]
["16921","Gaines","PA",2.5819999999999999,6.5582799999999999,91.150001500000002]
["79070","Perryton","TX",2.6900000999999998,6.8326002539999999,91.150001500000002]
["79005","Booker","TX",2.7010000000000001,6.8605400000000003,91.150001500000002]
["17771","Trout Run","PA",2.8789999000000002,7.3126597460000005,91.150001500000002]
["47879","Shelburn","IN",3.1389999,7.9730597459999997,91.150001500000002]
["42076","New Concord","KY",3.7240000000000002,9.4589600000000011,91.150001500000002]
["35907","Gadsden","AL",3.9920000999999998,10.139680254,91.160003700000004]
["36207","Anniston","AL",4.1139998000000002,10.449559492000001,91.160003700000004]
["35146","Springville","AL",4.1259999000000001,10.480039746000001,91.160003700000004]
["08618","Trenton","NJ",3.3329998999999999,8.4658197459999993,91.169998199999995]
["72905","Fort Smith","AR",3.9969999999999999,10.152379999999999,91.169998199999995]
["01240","Lenox","MA","N/A","N/A",91.180000300000003]
["76861","Miles","TX","N/A","N/A",91.180000300000003]
["16929","Lawrenceville","PA",2.3840001000000002,6.0553602540000009,91.180000300000003]
["58456","Kulm","ND",2.4279999999999999,6.1671199999999997,91.180000300000003]
["10501","Amawalk","NY","N/A","N/A",91.190002399999997]
["10579","Putnam Valley","NY","N/A","N/A",91.190002399999997]
["11725","Commack","NY","N/A","N/A",91.199996900000002]
["11766","Mount Sinai","NY","N/A","N/A",91.199996900000002]
["11779","Ronkonkoma","NY","N/A","N/A",91.199996900000002]
["87027","La Jara","NM",1.524,3.8709600000000002,91.199996900000002]
["55122","Saint Paul","MN",2.8180000999999999,7.157720254,91.199996900000002]
["27890","Weldon","NC",3.3690000000000002,8.5572600000000012,91.199996900000002]
["28659","North Wilkesboro","NC",3.6739999999999999,9.3319600000000005,91.199996900000002]
["92382","Running Springs","CA",6.0840000999999999,15.453360254,91.199996900000002]
["13108","Marcellus","NY","N/A","N/A",91.209999100000005]
["49679","Sears","MI",2.3629999000000002,6.0020197460000002,91.209999100000005]
["24413","Blue Grass","VA",2.8970001000000001,7.3583802540000001,91.209999100000005]
["65042","High Point","MO",3.4489999,8.7604597460000004,91.209999100000005]
["98305","Beaver","WA","N/A","N/A",91.220001199999999]
["44633","Holmesville","OH",2.4920000999999998,{"$f":"D12722*2.54","v":6.3296802539999995},91.220001199999999]
["56293","Wabasso","MN",2.7149999,6.896099746,91.220001199999999]
["74536","Clayton","OK",4.5310001,11.508740253999999,91.220001199999999]
["12047","Cohoes","NY","N/A","N/A",91.230003400000001]
["12159","Slingerlands","NY","N/A","N/A",91.230003400000001]
["12188","Waterford","NY","N/A","N/A",91.230003400000001]
["13368","Lyons Falls","NY","N/A","N/A",91.230003400000001]
["14571","Waterport","NY","N/A","N/A",91.230003400000001]
["55107","Saint Paul","MN",2.806,7.1272400000000005,91.230003400000001]
["39066","Edwards","MS",4.5029998000000004,11.437619492000001,91.230003400000001]
["26750","Piedmont","WV",2.415,{"$f":"D12860*2.54","v":6.1341000000000001},91.239997900000006]
["25437","Points","WV",2.6630001000000001,6.7640202540000001,91.239997900000006]
["47150","New Albany","IN",3.1129999000000002,7.9070197460000005,91.239997900000006]
["64651","Laclede","MO",3.4330001000000001,8.719820254,91.239997900000006]
["44230","Doylestown","OH",2.4489999,6.2204597460000004,91.25]
["59464","Moore","MT","N/A","N/A",91.260002099999994]
["20748","Temple Hills","MD",3.1579999999999999,{"$f":"D12944*2.54","v":8.0213199999999993},91.260002099999994]
["20770","Greenbelt","MD",3.2019999000000001,8.1330797459999999,91.260002099999994]
["20602","Waldorf","MD",3.2809998999999999,8.3337397459999991,91.260002099999994]
["05032","Bethel","VT","N/A","N/A",91.269996599999999]
["05345","Newfane","VT","N/A","N/A",91.269996599999999]
["05872","West Charleston","VT","N/A","N/A",91.269996599999999]
["15275","Pittsburgh","PA",2.3299998999999998,{"$f":"D13028*2.54","v":5.918199746},91.269996599999999]
["15044","Gibsonia","PA",2.4079999999999999,6.11632,91.269996599999999]
["47612","Cynthiana","IN",3.2469999999999999,8.2473799999999997,91.269996599999999]
["30650","Madison","GA",3.7,9.3980000000000015,91.269996599999999]
["31078","Roberta","GA",3.9619998999999999,10.063479746000001,91.269996599999999]
["84075","Syracuse","UT",1.5589999999999999,{"$f":"D13111*2.54","v":3.9598599999999999},91.279998800000001]
["84015","Clearfield","UT",1.6479999999999999,4.1859199999999994,91.279998800000001]
["56141","Iona","MN",2.8629999000000002,7.2720197460000007,91.279998800000001]
["12027","Burnt Hills","NY","N/A","N/A",91.290000899999995]
["13101","Mc Graw","NY","N/A","N/A",91.290000899999995]
["13335","Edmeston","NY","N/A","N/A",91.290000899999995]
["13425","Oriskany Falls","NY","N/A","N/A",91.290000899999995]
["13482","West Burlington","NY","N/A","N/A",91.290000899999995]
["13780","Guilford","NY","N/A","N/A",91.290000899999995]
["13825","Otego","NY","N/A","N/A",91.290000899999995]
["14030","Chaffee","NY","N/A","N/A",91.290000899999995]
["14091","Lawtons","NY","N/A","N/A",91.290000899999995]
["14134","Sardinia","NY","N/A","N/A",91.290000899999995]
["14512","Naples","NY","N/A","N/A",91.290000899999995]
["14735","Fillmore","NY","N/A","N/A",91.290000899999995]
["14818","Burdett","NY","N/A","N/A",91.290000899999995]
["14859","Lockwood","NY","N/A","N/A",91.290000899999995]
["14867","Newfield","NY","N/A","N/A",91.290000899999995]
["14904","Elmira","NY","N/A","N/A",91.290000899999995]
["14877","Rexville","NY",2.4260001,6.1620402539999999,91.290000899999995]
["22182","Vienna","VA",3.1880000000000002,{"$f":"D13387*2.54","v":8.0975200000000012},91.290000899999995]
["22719","Etlan","VA",3.5569999000000001,9.0347797459999999,91.290000899999995]
["04958","North Anson","ME","N/A","N/A",91.300003099999998]
["14901","Elmira","NY",2.4180000000000001,6.1417200000000003,91.300003099999998]
["18833","New Albany","PA",2.5790000000000002,6.5506600000000006,91.300003099999998]
["18616","Forksville","PA",2.76,7.0103999999999997,91.300003099999998]
["18437","Lake Como","PA",2.964,7.5285599999999997,91.300003099999998]
["18628","Lopez","PA",3.1219999999999999,7.9298799999999998,91.300003099999998]
["18326","Cresco","PA",3.1779999999999999,8.07212,91.300003099999998]
["23015","Beaverdam","VA",3.2759999999999998,8.32104,91.300003099999998]
["23227","Richmond","VA",3.3329998999999999,8.4658197459999993,91.300003099999998]
["55758","Kinney","MN",2.484,6.3093599999999999,91.319999699999997]
["72568","Pleasant Plains","AR",4.1090001999999997,10.436860507999999,91.319999699999997]
["72567","Pleasant Grove","AR",4.1739997999999998,10.601959491999999,91.319999699999997]
["93532","Lake Hughes","CA",4.8169998999999999,12.235179746,91.319999699999997]
["97060","Troutdale","OR","N/A","N/A",91.330001800000005]
["16421","Harborcreek","PA",2.5480000999999999,{"$f":"D13609*2.54","v":6.4719202539999996},91.330001800000005]
["56475","Randall","MN",2.6589999,6.7538597459999998,91.330001800000005]
["75605","Longview","TX","N/A","N/A",91.339996299999996]
["75630","Avinger","TX","N/A","N/A",91.339996299999996]
["75754","Ben Wheeler","TX","N/A","N/A",91.339996299999996]
["04462","Millinocket","ME","N/A","N/A",91.349998499999998]
["99208","Spokane","WA","N/A","N/A",91.349998499999998]
["48226","Detroit","MI",2.3340000999999999,5.9283602540000002,91.349998499999998]
["48072","Berkley","MI",2.3640001000000002,6.0045602540000003,91.349998499999998]
["48073","Royal Oak","MI",2.3679999999999999,6.0147199999999996,91.349998499999998]
["48334","Farmington","MI",2.4089999,6.118859746,91.349998499999998]
["78235","San Antonio","TX","N/A","N/A",91.360000600000006]
["60501","Summit Argo","IL",2.9630000999999999,7.5260202539999996,91.360000600000006]
["24550","Evington","VA",3.3269999000000001,{"$f":"D13797*2.54","v":8.4505797460000007},91.360000600000006]
["24161","Sandy Level","VA",3.4140000000000001,8.6715600000000013,91.360000600000006]
["24538","Concord","VA",3.4340000000000002,8.7223600000000001,91.360000600000006]
["24055","Bassett","VA",3.7370000000000001,9.4919799999999999,91.360000600000006]
["15927","Colver","PA",2.5739999,6.5379597460000003,91.370002700000001]
["76120","Fort Worth","TX","N/A","N/A",91.379997299999999]
["92373","Redlands","CA",2.5499999999999998,6.4769999999999994,91.379997299999999]
["56667","Puposky","MN",2.4679999000000001,6.2687197460000004,91.389999399999994]
["60913","Bonfield","IL",2.9979998999999999,7.614919746,91.389999399999994]
["42041","Fulton","KY",3.859,9.8018599999999996,91.389999399999994]
["75652","Henderson","TX","N/A","N/A",91.400001500000002]
["43779","Sarahsville","OH",2.5020001000000001,6.3550802540000007,91.400001500000002]
["54403","Wausau","WI",2.5940001000000001,6.5887602540000003,91.400001500000002]
["15550","Manns Choice","PA",2.6259999000000001,6.6700397460000005,91.400001500000002]
["54484","Stratford","WI",2.6709999999999998,6.7843399999999994,91.400001500000002]
["22845","Orkney Springs","VA",2.7160001,6.898640254,91.400001500000002]
["22830","Fulks Run","VA",2.7449998999999998,6.972299746,91.400001500000002]
["16674","Robertsdale","PA",2.7709999000000001,7.0383397460000001,91.400001500000002]
["17228","Harrisonville","PA",2.7820000999999999,7.0662802539999996,91.400001500000002]
["17215","Burnt Cabins","PA",2.8080001000000001,7.1323202540000006,91.400001500000002]
["22664","Woodstock","VA",2.8329998999999999,7.1958197459999997,91.400001500000002]
["25420","Gerrardstown","WV",2.8620000000000001,7.2694800000000006,91.400001500000002]
["17265","Upperstrasburg","PA",2.8759999000000001,7.3050397460000003,91.400001500000002]
["17728","Cogan Station","PA",2.8820000000000001,7.3202800000000003,91.400001500000002]
["17025","Enola","PA",2.9020000000000001,7.3710800000000001,91.400001500000002]
["17103","Harrisburg","PA",2.9130001000000001,7.3990202540000007,91.400001500000002]
["17867","Rebuck","PA",2.9400000999999998,7.4676002539999997,91.400001500000002]
["17824","Elysburg","PA",2.99,7.5946000000000007,91.400001500000002]
["17836","Leck Kill","PA",3.0329999999999999,7.7038200000000003,91.400001500000002]
["17814","Benton","PA",3.0590000000000002,7.7698600000000004,91.400001500000002]
["17835","Laurelton","PA",3.1159998999999998,7.9146397459999998,91.400001500000002]
["17026","Fredericksburg","PA",3.1689999000000002,8.0492597460000006,91.400001500000002]
["18014","Bath","PA",3.2030001000000001,8.1356202540000009,91.400001500000002]
["18031","Breinigsville","PA",3.2490000999999999,8.2524602540000007,91.400001500000002]
["18353","Saylorsburg","PA",3.2679999,8.3007197460000004,91.400001500000002]
["19529","Kempton","PA",3.3659998999999998,8.5496397460000004,91.400001500000002]
["75639","De Berry","TX",4.375,11.112500000000001,91.400001500000002]
["01073","Southampton","MA","N/A","N/A",91.410003700000004]
["01420","Fitchburg","MA","N/A","N/A",91.410003700000004]
["01507","Charlton","MA","N/A","N/A",91.410003700000004]
["01510","Clinton","MA","N/A","N/A",91.410003700000004]
["01536","North Grafton","MA","N/A","N/A",91.410003700000004]
["01602","Worcester","MA","N/A","N/A",91.410003700000004]
["01731","Hanscom AFB","MA","N/A","N/A",91.410003700000004]
["01843","Lawrence","MA","N/A","N/A",91.410003700000004]
["01904","Lynn","MA","N/A","N/A",91.410003700000004]
["01913","Amesbury","MA","N/A","N/A",91.410003700000004]
["02072","Stoughton","MA","N/A","N/A",91.410003700000004]
["02451","Waltham","MA","N/A","N/A",91.410003700000004]
["02763","Attleboro Falls","MA","N/A","N/A",91.410003700000004]
["06071","Somers","CT","N/A","N/A",91.410003700000004]
["46805","Fort Wayne","IN",2.6120000000000001,6.6344799999999999,91.410003700000004]
["43217","Columbus","OH",2.6329999000000002,6.6878197460000006,91.410003700000004]
["43078","Urbana","OH",2.6819999000000001,6.8122797460000006,91.410003700000004]
["45382","West Manchester","OH",2.7639999,7.020559746,91.410003700000004]
["37353","Mc Donald","TN",3.6900000999999998,9.372600254,91.410003700000004]
["29128","Rembert","SC",3.5669998999999999,9.0601797459999993,91.419998199999995]
["35903","Gadsden","AL",3.9760000999999998,10.099040254,91.419998199999995]
["58634","Grassy Butte","ND",2.0139999,5.1155597459999997,91.430000300000003]
["49968","Wakefield","MI",2.6440001,6.7157602540000001,91.430000300000003]
["39652","Magnolia","MS",5.0199999999999996,12.7508,91.440002399999997]
["83101","Kemmerer","WY","N/A","N/A",91.449996900000002]
["74868","Seminole","OK",4.0209998999999996,10.213339745999999,91.449996900000002]
["01002","Amherst","MA","N/A","N/A",91.459999100000005]
["01349","Millers Falls","MA","N/A","N/A",91.459999100000005]
["53206","Milwaukee","WI",2.645,6.7183000000000002,91.459999100000005]
["53219","Milwaukee","WI",2.6520000000000001,6.7360800000000003,91.459999100000005]
["53154","Oak Creek","WI",2.6630001000000001,6.7640202540000001,91.459999100000005]
["53005","Brookfield","WI",2.6730000999999999,6.7894202539999995,91.459999100000005]
["60432","Joliet","IL",2.911,7.3939400000000006,91.459999100000005]
["60124","Elgin","IL",2.984,7.5793600000000003,91.459999100000005]
["66533","Rossville","KS",3.4530001000000001,8.7706202540000007,91.470001199999999]
["12116","Maryland","NY","N/A","N/A",91.480003400000001]
["12194","West Fulton","NY","N/A","N/A",91.480003400000001]
["98902","Yakima","WA","N/A","N/A",91.480003400000001]
["66064","Osawatomie","KS",3.6219999999999999,9.1998800000000003,91.480003400000001]
["11718","Brightwaters","NY","N/A","N/A",91.489997900000006]
["11951","Mastic Beach","NY","N/A","N/A",91.489997900000006]
["59528","Hingham","MT","N/A","N/A",91.489997900000006]
["07822","Augusta","NJ",3.21,8.1533999999999995,91.489997900000006]
["57451","Ipswich","SD",2.4200001000000002,6.1468002540000004,91.510002099999994]
["62034","Glen Carbon","IL",3.1229998999999999,7.9324197459999999,91.510002099999994]
["07086","Weehawken","NJ",3.3110000999999998,8.4099402540000003,91.510002099999994]
["72947","Mulberry","AR",4.0900002000000004,10.388600508000001,91.510002099999994]
["58382","Webster","ND",2.0639999000000002,5.2425597460000004,91.519996599999999]
["71275","Simsboro","LA",4.5739998999999996,11.617959745999999,91.519996599999999]
["65340","Marshall","MO",3.4849999,8.8518997460000008,91.529998800000001]
["64125","Kansas City","MO",3.6589999,9.2938597460000008,91.529998800000001]
["75974","Tenaha","TX",4.4790001000000004,11.376660254000001,91.529998800000001]
["59825","Clinton","MT","N/A","N/A",91.540000899999995]
["59832","Drummond","MT","N/A","N/A",91.540000899999995]
["39767","Stewart","MS",4.3579998,11.069319492,91.540000899999995]
["80101","Agate","CO",1.9220001,{"$f":"D15080*2.54","v":4.8818802540000004},91.550003099999998]
["12865","Salem","NY","N/A","N/A",91.559997600000003]
["63135","Saint Louis","MO",3.1840000000000002,8.0873600000000003,91.559997600000003]
["63011","Ballwin","MO",3.2060000999999998,8.1432402540000002,91.559997600000003]
["63105","Saint Louis","MO",3.2060000999999998,{"$f":"D15130*2.54","v":8.1432402540000002},91.559997600000003]
["63101","Saint Louis","MO",3.2229999999999999,8.18642,91.559997600000003]
["93641","Miramonte","CA",4.6609997999999999,11.838939492,91.559997600000003]
["43938","Mingo Junction","OH",2.415,6.1341000000000001,91.569999699999997]
["16218","Cowansville","PA",2.4460001,6.2128402540000005,91.569999699999997]
["15763","Northpoint","PA",2.5320000999999999,6.4312802539999998,91.569999699999997]
["15732","Creekside","PA",2.5459999999999998,6.4668399999999995,91.569999699999997]
["15748","Homer City","PA",2.5869998999999999,6.5709797459999999,91.569999699999997]
["16434","Spartansburg","PA",2.5120000999999998,6.3804802540000001,91.580001800000005]
["53560","Mazomanie","WI",2.9039999999999999,7.3761599999999996,91.580001800000005]
["03576","Colebrook","NH","N/A","N/A",91.589996299999996]
["13740","Bovina Center","NY","N/A","N/A",91.589996299999996]
["79547","Rule","TX","N/A","N/A",91.589996299999996]
["14895","Wellsville","NY",2.3879999999999999,{"$f":"D15317*2.54","v":6.0655200000000002},91.589996299999996]
["82435","Powell","WY","N/A","N/A",91.599998499999998]
["87116","Albuquerque","NM",1.5569999999999999,3.95478,91.599998499999998]
["87009","Cedarvale","NM",1.8099999,4.5973997459999998,91.599998499999998]
["67954","Rolla","KS",2.4070000999999999,6.1137802539999999,91.599998499999998]
["53177","Sturtevant","WI",2.6930000999999999,6.8402202540000001,91.599998499999998]
["50523","Callender","IA",3.1029998999999999,7.8816197460000001,91.599998499999998]
["36460","Monroeville","AL",4.9549998999999998,12.585699746,91.599998499999998]
["07930","Chester","NJ",3.5929999000000001,9.1262197460000003,91.620002700000001]
["66870","Virgil","KS",3.7210000000000001,9.4513400000000001,91.620002700000001]
["83341","Kimberly","ID","N/A","N/A",91.639999399999994]
["63474","Wyaconda","MO",3.3369998999999999,8.4759797460000001,91.639999399999994]
["63530","Atlanta","MO",3.4100001,{"$f":"D15489*2.54","v":8.6614002540000001},91.639999399999994]
["65247","Excello","MO",3.4249999999999998,8.6995000000000005,91.639999399999994]
["74429","Coweta","OK",3.9740000000000002,10.093960000000001,91.639999399999994]
["74570","Stuart","OK",4.1620001999999996,10.571480507999999,91.639999399999994]
["79062","Morse","TX","N/A","N/A",91.650001500000002]
["38948","Oakland","MS",4.2820001000000003,10.876280254000001,91.650001500000002]
["16159","West Middlesex","PA",2.4170001000000001,6.1391802540000002,91.660003700000004]
["16142","New Wilmington","PA",2.4369999999999998,6.1899799999999994,91.660003700000004]
["63837","Clarkton","MO",3.9000001000000002,9.9060002540000003,91.660003700000004]
["87581","Vallecitos","NM",2.2309999,5.6667397460000002,91.669998199999995]
["37846","Philadelphia","TN",3.5139999,8.9255597459999994,91.669998199999995]
["37406","Chattanooga","TN",3.6779999999999999,9.3421199999999995,91.669998199999995]
["37377","Signal Mountain","TN",3.9180000000000001,{"$f":"D15661*2.54","v":9.9517199999999999},91.669998199999995]
["30725","Flintstone","GA",3.95,10.033000000000001,91.669998199999995]
["01258","South Egremont","MA","N/A","N/A",91.690002399999997]
["59275","Westby","MT",1.7589999000000001,4.4678597460000002,91.690002399999997]
["36081","Troy","AL",4.5029998000000004,11.437619492000001,91.690002399999997]
["36028","Dozier","AL",5.0069999999999997,12.717779999999999,91.690002399999997]
["59829","Darby","MT","N/A","N/A",91.699996900000002]
["59871","Sula","MT","N/A","N/A",91.699996900000002]
["47433","Gosport","IN",3.1120000000000001,7.9044800000000004,91.699996900000002]
["59935","Troy","MT","N/A","N/A",91.709999100000005]
["61431","Ellisville","IL",2.9940000000000002,7.6047600000000006,91.709999100000005]
["62081","Rockbridge","IL",3.0079999000000002,{"$f":"D15814*2.54","v":7.6403197460000003},91.709999100000005]
["62326","Colchester","IL",3.0250001000000002,7.683500254000001,91.709999100000005]
["62378","Versailles","IL",3.03,7.6961999999999993,91.709999100000005]
["62672","Nilwood","IL",3.0630000000000002,7.7800200000000004,91.709999100000005]
["62321","Carthage","IL",3.1019999999999999,7.8790800000000001,91.709999100000005]
["61454","Lomax","IL",3.1520000000000001,8.0060800000000008,91.709999100000005]
["62240","East Carondelet","IL",3.2370000000000001,8.2219800000000003,91.709999100000005]
["42058","Ledbetter","KY",3.6459999000000001,9.2608397460000003,91.709999100000005]
["77379","Spring","TX","N/A","N/A",91.720001199999999]
["08515","Chesterfield","NJ",3.3420000000000001,8.4886800000000004,91.720001199999999]
["07403","Bloomingdale","NJ",3.5070000000000001,8.9077800000000007,91.720001199999999]
["07405","Butler","NJ",3.5920000000000001,9.1236800000000002,91.720001199999999]
["45318","Covington","OH",2.6680000000000001,6.7767200000000001,91.730003400000001]
["45371","Tipp City","OH",2.7079998999999999,6.8783197459999998,91.730003400000001]
["42355","Maceo","KY",3.29,8.3566000000000003,91.730003400000001]
["95984","Twain","CA",6.9669999999999996,17.696179999999998,91.730003400000001]
["16365","Warren","PA",2.4700000000000002,6.2738000000000005,91.75]
["16371","Youngsville","PA",2.4909998999999998,6.3271397459999994,91.75]
["15851","Reynoldsville","PA",2.5239999000000002,6.4109597460000005,91.75]
["46013","Anderson","IN",2.8640001000000002,7.2745602540000007,91.75]
["46162","Needham","IN",2.9119999000000001,7.3964797460000007,91.75]
["46126","Fairland","IN",2.9289999,7.4396597460000002,91.75]
["46104","Arlington","IN",2.9380000000000002,7.4625200000000005,91.75]
["46143","Greenwood","IN",2.944,7.47776,91.75]
["46224","Indianapolis","IN",2.9569999999999999,7.5107799999999996,91.75]
["46167","Pittsboro","IN",3.0150001,7.6581002539999998,91.75]
["62846","Ina","IL",3.3529998999999999,8.5166197459999999,91.75]
["24931","Crawley","WV",2.8510000999999998,7.2415402539999993,91.760002099999994]
["37030","Carthage","TN",3.6080000000000001,9.16432,91.760002099999994]
["37027","Brentwood","TN",3.6489999000000002,9.2684597460000013,91.760002099999994]
["37179","Thompsons Station","TN",3.7920001000000001,9.6316802540000008,91.760002099999994]
["58737","Flaxton","ND",1.998,5.0749199999999997,91.769996599999999]
["25514","Fort Gay","WV",2.71,6.8834,91.769996599999999]
["45111","Camp Dennison","OH",2.9330001000000001,7.4498202540000005,91.769996599999999]
["05148","Londonderry","VT","N/A","N/A",91.779998800000001]
["05762","Pittsfield","VT","N/A","N/A",91.779998800000001]
["93206","Buttonwillow","CA",1.0640000000000001,2.7025600000000001,91.779998800000001]
["27519","Cary","NC",3.4790000999999999,8.8366602539999999,91.790000899999995]
["27540","Holly Springs","NC",3.5829998999999999,9.1008197459999991,91.790000899999995]
["18013","Bangor","PA",3.3239999,8.4429597459999997,91.809997600000003]
["18343","Mount Bethel","PA",3.3250000000000002,8.4455000000000009,91.809997600000003]
["64093","Warrensburg","MO",3.645,9.2583000000000002,91.809997600000003]
["64061","Kingsville","MO",3.665,9.3091000000000008,91.809997600000003]
["46975","Rochester","IN",2.8299998999999998,7.1881997459999996,91.819999699999997]
["39090","Kosciusko","MS",4.2800001999999999,10.871200507999999,91.830001800000005]
["12965","Nicholville","NY","N/A","N/A",91.839996299999996]
["12967","North Lawrence","NY","N/A","N/A",91.839996299999996]
["45775","Rutland","OH",2.625,6.6675000000000004,91.839996299999996]
["45685","Thurman","OH",2.7060000999999998,6.8732402539999997,91.839996299999996]
["51556","Modale","IA",2.8970001000000001,7.3583802540000001,91.839996299999996]
["64482","Rock Port","MO",3.2770000000000001,8.3235799999999998,91.839996299999996]
["40437","Hustonville","KY",3.3740000999999999,8.5699602539999997,91.839996299999996]
["42718","Campbellsville","KY",3.4530001000000001,8.7706202540000007,91.839996299999996]
["43230","Columbus","OH",2.625,6.6675000000000004,91.849998499999998]
["43203","Columbus","OH",2.6329999000000002,6.6878197460000006,91.849998499999998]
["66605","Topeka","KS",3.4830000000000001,8.846820000000001,91.849998499999998]
["35049","Cleveland","AL",4.1209997999999999,10.467339492000001,91.849998499999998]
["04282","Turner","ME","N/A","N/A",91.860000600000006]
["54537","Kennan","WI",2.7440000000000002,6.9697600000000008,91.860000600000006]
["54728","Chetek","WI",2.8620000000000001,7.2694800000000006,91.860000600000006]
["44104","Cleveland","OH",2.3780000000000001,6.0401199999999999,91.879997299999999]
["78101","Adkins","TX","N/A","N/A",91.889999399999994]
["87820","Aragon","NM",1.899,4.8234599999999999,91.900001500000002]
["54475","Rudolph","WI",2.6419999999999999,6.71068,91.900001500000002]
["36548","Leroy","AL",4.9710001999999998,12.626340508,91.900001500000002]
["18955","Richlandtown","PA",3.23,8.2042000000000002,91.919998199999995]
["18930","Kintnersville","PA",3.26,8.2804000000000002,91.919998199999995]
["18947","Pipersville","PA",3.3130000000000002,8.4150200000000002,91.919998199999995]
["18933","Lumberville","PA",3.3290000000000002,8.45566,91.919998199999995]
["05403","South Burlington","VT","N/A","N/A",91.940002399999997]
["03227","Center Sandwich","NH","N/A","N/A",91.949996900000002]
["03777","Orford","NH","N/A","N/A",91.949996900000002]
["78705","Austin","TX","N/A","N/A",91.949996900000002]
["78753","Austin","TX","N/A","N/A",91.949996900000002]
["61032","Freeport","IL",2.8959999000000001,7.355839746,91.949996900000002]
["60961","Reddick","IL",2.9460001,7.4828402540000001,91.949996900000002]
["47932","Covington","IN",3.0169999999999999,7.6631799999999997,91.949996900000002]
["60442","Manhattan","IL",3.0659999999999998,7.7876399999999997,91.949996900000002]
["60940","Grant Park","IL",3.1059999,7.8892397460000003,91.949996900000002]
["04915","Belfast","ME","N/A","N/A",91.959999100000005]
["42408","Dawson Springs","KY",3.6140001000000002,9.1795602540000001,91.959999100000005]
["76311","Sheppard AFB","TX","N/A","N/A",91.989997900000006]
["25136","Montgomery","WV",2.5910001,6.5811402540000001,91.989997900000006]
["27870","Roanoke Rapids","NC",3.3770001000000001,8.5775802540000008,91.989997900000006]
["27864","Pinetops","NC",3.4940000000000002,{"$f":"D16979*2.54","v":8.8747600000000002},91.989997900000006]
["76357","Byers","TX",3.6229998999999999,9.2024197460000003,91.989997900000006]
["59025","Decker","MT","N/A","N/A",92]
["99114","Colville","WA","N/A","N/A",92]
["80836","Stratton","CO",2.1539999999999999,5.4711600000000002,92]
["39323","Chunky","MS",4.3649997999999997,11.087099492,92]
["39481","Stringer","MS",4.5890002000000001,11.656060508000001,92]
["47331","Connersville","IN",2.9089999,7.3888597459999996,92.010002099999994]
["12134","Northville","NY","N/A","N/A",92.019996599999999]
["12912","Au Sable Forks","NY","N/A","N/A",92.019996599999999]
["13416","Newport","NY","N/A","N/A",92.019996599999999]
["48423","Davison","MI",2.319,5.8902599999999996,92.019996599999999]
["48022","Emmett","MI",2.3220000000000001,5.8978800000000007,92.019996599999999]
["44818","Bloomville","OH",2.5309998999999999,6.4287397459999998,92.019996599999999]
["43066","Radnor","OH",2.573,6.5354200000000002,92.019996599999999]
["46730","Corunna","IN",2.5990000000000002,6.6014600000000003,92.019996599999999]
["46798","Yoder","IN",2.6219999999999999,6.6598800000000002,92.019996599999999]
["45362","Rossburg","OH",2.6440001,6.7157602540000001,92.019996599999999]
["45333","Houston","OH",2.6570000999999999,6.7487802539999997,92.019996599999999]
["49107","Buchanan","MI",2.7170000000000001,6.9011800000000001,92.019996599999999]
["46941","Lagro","IN",2.7750001000000002,7.0485002540000004,92.019996599999999]
["46919","Converse","IN",2.8490000000000002,7.236460000000001,92.019996599999999]
["99117","Creston","WA","N/A","N/A",92.040000899999995]
["99154","Mohler","WA","N/A","N/A",92.040000899999995]
["78584","Roma","TX","N/A","N/A",92.050003099999998]
["16002","Butler","PA",2.4340000000000002,6.1823600000000001,92.050003099999998]
["16258","Strattanville","PA",2.4990000999999999,6.3474602539999996,92.050003099999998]
["16651","Houtzdale","PA",2.5320000999999999,6.4312802539999998,92.050003099999998]
["16821","Allport","PA",2.5380001000000001,6.4465202540000002,92.050003099999998]
["15753","La Jose","PA",2.556,6.4922399999999998,92.050003099999998]
["26456","West Union","WV",2.5659999999999998,6.5176400000000001,92.050003099999998]
["26167","Reader","WV",2.5750000000000002,6.5405000000000006,92.050003099999998]
["25261","Millstone","WV",2.5819999999999999,6.5582799999999999,92.050003099999998]
["25164","Procious","WV",2.5910001,6.5811402540000001,92.050003099999998]
["25202","Tornado","WV",2.5940001000000001,6.5887602540000003,92.050003099999998]
["26611","Cedarville","WV",2.605,6.6166999999999998,92.050003099999998]
["25141","Nebo","WV",2.6170000999999998,6.6471802539999993,92.050003099999998]
["16845","Karthaus","PA",2.6389999,6.7030597460000001,92.050003099999998]
["26218","French Creek","WV",2.7219999000000001,6.9138797460000001,92.050003099999998]
["39110","Madison","MS",4.3210001,10.975340254000001,92.050003099999998]
["02346","Middleboro","MA","N/A","N/A",92.059997600000003]
["13114","Mexico","NY","N/A","N/A",92.059997600000003]
["96027","Etna","CA",3.7690001,9.5732602540000009,92.069999699999997]
["04970","Rangeley","ME","N/A","N/A",92.080001800000005]
["94973","Woodacre","CA",4.9359998999999997,12.537439745999999,92.080001800000005]
["26105","Vienna","WV",2.5539999,6.4871597459999997,92.089996299999996]
["79781","Sheffield","TX","N/A","N/A",92.099998499999998]
["69155","Paxton","NE",2.2939999000000002,5.8267597460000005,92.099998499999998]
["68663","Silver Creek","NE",2.9059998999999999,{"$f":"D17660*2.54","v":7.3812397459999994},92.099998499999998]
["42223","Fort Campbell","KY",3.6539999999999999,9.2811599999999999,92.099998499999998]
["42223","Fort Campbell","KY",3.6539999999999999,9.2811599999999999,92.099998499999998]
["57440","Frankfort","SD",2.3679999999999999,6.0147199999999996,92.110000600000006]
["58577","Washburn","ND",2.0529999999999999,5.21462,92.120002700000001]
["47967","New Richmond","IN",2.9749998999999998,7.5564997459999992,92.129997299999999]
["95458","Lucerne","CA",4.7529998000000004,12.072619492000001,92.129997299999999]
["15046","Crescent","PA",2.3340000999999999,5.9283602540000002,92.139999399999994]
["15202","Pittsburgh","PA",2.335,5.9309000000000003,92.139999399999994]
["15074","Rochester","PA",2.3580000000000001,5.9893200000000002,92.139999399999994]
["15010","Beaver Falls","PA",2.3670000999999998,6.0121802539999996,92.139999399999994]
["15223","Pittsburgh","PA",2.3719999999999999,6.0248799999999996,92.139999399999994]
["26035","Colliers","WV",2.4039999999999999,6.10616,92.139999399999994]
["93449","Pismo Beach","CA",2.415,6.1341000000000001,92.139999399999994]
["43772","Pleasant City","OH",2.4900000000000002,6.3246000000000002,92.139999399999994]
["71406","Belmont","LA",4.5199999999999996,11.480799999999999,92.139999399999994]
["33137","Miami","FL",5.3769999000000004,13.657579746000001,92.139999399999994]
["33168","Miami","FL",5.4489998999999996,13.840459745999999,92.139999399999994]
["33165","Miami","FL",5.5170002,14.013180508,92.139999399999994]
["04084","Standish","ME","N/A","N/A",92.150001500000002]
["04101","Portland","ME","N/A","N/A",92.150001500000002]
["06026","East Granby","CT","N/A","N/A",92.150001500000002]
["06455","Middlefield","CT","N/A","N/A",92.150001500000002]
["29929","Islandton","SC",4.0479998999999998,10.281919746,92.150001500000002]
["73090","Union City","OK",3.6280000000000001,9.2151200000000006,92.160003700000004]
["73162","Oklahoma City","OK",3.6549999999999998,9.2836999999999996,92.160003700000004]
["73120","Oklahoma City","OK",3.6900000999999998,9.372600254,92.160003700000004]
["73139","Oklahoma City","OK",3.7090000999999999,9.420860253999999,92.160003700000004]
["73071","Norman","OK",3.8169998999999999,9.6951797459999991,92.160003700000004]
["25703","Huntington","WV",2.641,6.7081400000000002,92.169998199999995]
["68362","Gilead","NE",3.036,7.7114400000000005,92.169998199999995]
["64776","Osceola","MO",3.7079998999999999,9.4183197459999999,92.180000300000003]
["31772","Oakfield","GA",3.9200001000000002,9.9568002540000009,92.180000300000003]
["39813","Arlington","GA",4.1980000000000004,10.662920000000002,92.180000300000003]
["39078","Georgetown","MS",4.7870001999999996,12.158980507999999,92.180000300000003]
["39083","Hazlehurst","MS",4.8550000000000004,12.331700000000001,92.180000300000003]
["04971","Saint Albans","ME","N/A","N/A",92.190002399999997]
["48762","Spruce","MI",2.1070001,5.3517802540000003,92.190002399999997]
["49883","Seney","MI",2.194,5.5727599999999997,92.190002399999997]
["48661","West Branch","MI",2.2629999999999999,5.7480199999999995,92.190002399999997]
["49893","Wallace","MI",2.3239999,5.9029597460000005,92.190002399999997]
["49833","Little Lake","MI",2.3369998999999999,5.9359797460000001,92.190002399999997]
["90731","San Pedro","CA",2.4430000999999999,6.2052202539999994,92.190002399999997]
["52556","Fairfield","IA",3.1379999999999999,7.9705199999999996,92.190002399999997]
["52625","Donnellson","IA",3.1670001000000001,8.0441802540000005,92.190002399999997]
["50210","New Virginia","IA",3.2539999000000002,8.2651597460000001,92.190002399999997]
["50861","Shannon City","IA",3.286,8.3464399999999994,92.190002399999997]
["50140","Lamoni","IA",3.3280001000000001,8.4531202539999999,92.190002399999997]
["43724","Caldwell","OH",2.5350001,6.438900254,92.199996900000002]
["82442","Ten Sleep","WY","N/A","N/A",92.209999100000005]
["40006","Bedford","KY",3.1480000000000001,7.9959200000000008,92.209999100000005]
["58573","Strasburg","ND",2.1379999999999999,5.4305199999999996,92.220001199999999]
["58538","Fort Yates","ND",2.1579999999999999,5.4813200000000002,92.220001199999999]
["95619","Diamond Springs","CA",3.3199999,8.4327997460000006,92.230003400000001]
["55065","Randolph","MN",2.8220000000000001,7.1678800000000003,92.239997900000006]
["04674","Seal Cove","ME","N/A","N/A",92.25]
["48032","Jeddo","MI",2.2989999999999999,5.8394599999999999,92.25]
["48801","Alma","MI",2.4089999,6.118859746,92.25]
["48842","Holt","MI",2.415,6.1341000000000001,92.25]
["55314","Buffalo Lake","MN",2.7609998999999998,7.0129397459999998,92.25]
["56091","Waldorf","MN",2.9879999000000002,7.5895197460000006,92.25]
["04617","Brooksville","ME","N/A","N/A",92.260002099999994]
["56208","Appleton","MN",2.5999998999999998,6.6039997459999995,92.260002099999994]
["72082","Kensett","AR",4.1479998,10.535919492,92.260002099999994]
["45788","Whipple","OH",2.5499999999999998,6.4769999999999994,92.269996599999999]
["04741","Estcourt Station","ME","N/A","N/A",92.279998800000001]
["78677","Wrightsboro","TX","N/A","N/A",92.279998800000001]
["56744","Oslo","MN",2.2869999000000001,5.8089797460000003,92.290000899999995]
["58008","Barney","ND",2.4300001,6.1722002539999998,92.290000899999995]
["56565","Nashua","MN",2.5070000000000001,6.3677800000000007,92.290000899999995]
["91350","Santa Clarita","CA",3.4489999,8.7604597460000004,92.290000899999995]
["93251","Mc Kittrick","CA",1.875,4.7625000000000002,92.300003099999998]
["00050","Six Rivers Ntl Forest","CA",5.5630002000000003,14.130020508000001,92.300003099999998]
["78057","Moore","TX","N/A","N/A",92.309997600000003]
["63330","Annada","MO",3.0710001,7.800340254,92.309997600000003]
["63389","Winfield","MO",3.1289999000000002,7.9476597460000002,92.309997600000003]
["63748","Frohna","MO",3.6320000000000001,9.2252799999999997,92.309997600000003]
["14062","Forestville","NY","N/A","N/A",92.319999699999997]
["14623","Rochester","NY","N/A","N/A",92.319999699999997]
["14724","Clymer","NY",2.5590000000000002,6.4998600000000009,92.319999699999997]
["93427","Buellton","CA",4.3360000000000003,11.013440000000001,92.319999699999997]
["60470","Ransom","IL",2.9590000999999999,7.5158602539999997,92.330001800000005]
["72032","Conway","AR",4.1389999,10.513059746,92.330001800000005]
["72168","Tucker","AR",4.3049998,10.934699492,92.330001800000005]
["71663","Portland","AR",4.4099997999999996,11.201399491999998,92.330001800000005]
["20744","Fort Washington","MD",3.1719998999999999,8.0568797459999999,92.339996299999996]
["20733","Churchton","MD",3.2170000000000001,8.1711799999999997,92.339996299999996]
["21617","Centreville","MD",3.26,8.2804000000000002,92.339996299999996]
["21010","Gunpowder","MD",3.29,8.3566000000000003,92.339996299999996]
["20630","Drayden","MD",3.3250000000000002,8.4455000000000009,92.339996299999996]
["21162","White Marsh","MD",3.3319999999999999,8.4632799999999992,92.339996299999996]
["20619","California","MD",3.3780000000000001,8.5801200000000009,92.339996299999996]
["71227","Choudrant","LA",4.5250000999999997,11.493500253999999,92.339996299999996]
["15243","Pittsburgh","PA",2.3570001,5.9867802540000001,92.349998499999998]
["15102","Bethel Park","PA",2.3780000000000001,6.0401199999999999,92.349998499999998]
["37615","Johnson City","TN",2.6289999000000002,6.6776597460000007,92.349998499999998]
["37645","Mount Carmel","TN",2.7309999,6.9367397459999998,92.349998499999998]
["37616","Afton","TN",2.9449999,7.480299746,92.349998499999998]
["39744","Eupora","MS",4.3460001999999998,11.038840508,92.349998499999998]
["55918","Brownsdale","MN",2.9760000999999998,7.5590402539999992,92.360000600000006]
["05442","Belvidere Center","VT","N/A","N/A",92.370002700000001]
["05487","Starksboro","VT","N/A","N/A",92.370002700000001]
["05489","Underhill","VT","N/A","N/A",92.370002700000001]
["05827","Craftsbury Common","VT","N/A","N/A",92.370002700000001]
["05905","Guildhall","VT","N/A","N/A",92.370002700000001]
["54970","Redgranite","WI",2.569,6.5252600000000003,92.370002700000001]
["19033","Folsom","PA",3.2469999999999999,8.2473799999999997,92.370002700000001]
["19061","Marcus Hook","PA",3.2509999000000001,8.2575397460000008,92.370002700000001]
["19146","Philadelphia","PA",3.2539999000000002,8.2651597460000001,92.370002700000001]
["19801","Wilmington","DE",3.2750001000000002,8.3185002539999999,92.370002700000001]
["19124","Philadelphia","PA",3.3130000000000002,8.4150200000000002,92.370002700000001]
["19056","Levittown","PA",3.3499998999999998,8.5089997459999989,92.370002700000001]
["04735","Bridgewater","ME","N/A","N/A",92.379997299999999]
["36264","Heflin","AL",4.1230000999999996,10.472420253999999,92.379997299999999]
["36251","Ashland","AL",4.2090000999999999,10.690860254,92.379997299999999]
["93721","Fresno","CA",1.4370000000000001,3.6499800000000002,92.389999399999994]
["93720","Fresno","CA",1.5109999999999999,3.8379399999999997,92.389999399999994]
["79789","Wink","TX","N/A","N/A",92.400001500000002]
["43615","Toledo","OH",2.3840001000000002,6.0553602540000009,92.400001500000002]
["45877","Pandora","OH",2.4779998999999999,6.2941197459999998,92.400001500000002]
["35208","Birmingham","AL",4.0939999,10.398759746,92.400001500000002]
["35126","Pinson","AL",4.1279998000000004,10.485119492000001,92.400001500000002]
["04353","Whitefield","ME","N/A","N/A",92.410003700000004]
["73744","Hitchcock","OK",3.319,8.4302600000000005,92.410003700000004]
["67026","Clearwater","KS",3.4279999999999999,8.7071199999999997,92.410003700000004]
["38363","Parsons","TN",3.7909999000000001,9.6291397459999999,92.410003700000004]
["36040","Hayneville","AL",4.2430000000000003,10.777220000000002,92.410003700000004]
["66738","Fulton","KS",3.6970000000000001,9.3903800000000004,92.419998199999995]
["67341","Dennis","KS",3.9849999,10.121899746,92.419998199999995]
["44440","Mineral Ridge","OH",2.3829999000000002,{"$f":"D19470*2.54","v":6.0528197460000008},92.440002399999997]
["44120","Cleveland","OH",2.4219998999999999,6.1518797459999996,92.440002399999997]
["44146","Bedford","OH",2.4489999,6.2204597460000004,92.440002399999997]
["18641","Pittston","PA",2.5710001,6.5303402540000004,92.440002399999997]
["18617","Glen Lyon","PA",2.8469999000000001,7.2313797460000009,92.440002399999997]
["96051","Lakehead","CA",7.4109997999999999,18.823939492000001,92.440002399999997]
["76566","Purmela","TX","N/A","N/A",92.449996900000002]
["73570","Tipton","OK",3.3699998999999998,8.5597997459999995,92.459999100000005]
["37711","Bulls Gap","TN",2.7420000999999998,6.9646802539999992,92.470001199999999]
["52542","Cantril","IA",3.2609998999999998,8.2829397460000003,92.470001199999999]
["50052","Clio","IA",3.3010001,8.3845402540000009,92.470001199999999]
["50144","Leon","IA",3.3029999999999999,8.3896200000000007,92.470001199999999]
["07103","Newark","NJ",3.339,8.4810599999999994,92.470001199999999]
["07111","Irvington","NJ",3.3690000000000002,8.5572600000000012,92.470001199999999]
["07028","Glen Ridge","NJ",3.3889999,8.6080597460000003,92.470001199999999]
["07033","Kenilworth","NJ",3.4039999999999999,8.6461600000000001,92.470001199999999]
["07009","Cedar Grove","NJ",3.4300001,8.7122002540000008,92.470001199999999]
["07424","Little Falls","NJ",3.4300001,{"$f":"D19698*2.54","v":8.7122002540000008},92.470001199999999]
["66612","Topeka","KS",3.4749998999999998,8.8264997459999996,92.470001199999999]
["66073","Perry","KS",3.5510001,9.0195402540000007,92.470001199999999]
["36528","Dauphin Island","AL",5.9949998999999998,15.227299746,92.470001199999999]
["18519","Scranton","PA",2.6459999000000001,6.7208397460000002,92.480003400000001]
["79741","Goldsmith","TX","N/A","N/A",92.489997900000006]
["79762","Odessa","TX","N/A","N/A",92.489997900000006]
["13331","Eagle Bay","NY","N/A","N/A",92.5]
["88318","Corona","NM",1.9299999000000001,4.902199746,92.5]
["67546","Inman","KS",3.234,8.2143599999999992,92.5]
["12066","Esperance","NY","N/A","N/A",92.519996599999999]
["62001","Alhambra","IL",3.1280000000000001,7.9451200000000002,92.519996599999999]
["62049","Hillsboro","IL",3.1429999,7.9832197459999996,92.519996599999999]
["62255","Lenzburg","IL",3.3080001000000001,8.402320254000001,92.519996599999999]
["97470","Roseburg","OR","N/A","N/A",92.529998800000001]
["39170","Terry","MS",4.5990000000000002,11.681460000000001,92.529998800000001]
["80540","Lyons","CO",2.1179999999999999,5.3797199999999998,92.540000899999995]
["74081","Terlton","OK",3.8299998999999998,9.7281997459999996,92.540000899999995]
["59069","Reed Point","MT","N/A","N/A",92.550003099999998]
["84020","Draper","UT",1.6419999999999999,4.1706799999999999,92.550003099999998]
["12928","Crown Point","NY","N/A","N/A",92.559997600000003]
["56212","Bellingham","MN",2.5639999000000002,6.5125597460000009,92.559997600000003]
["43137","Lockbourne","OH",2.6359998999999998,6.6954397459999999,92.559997600000003]
["56285","Sacred Heart","MN",2.6930000999999999,6.8402202540000001,92.559997600000003]
["62886","Sims","IL",3.2520001000000001,8.260080254,92.559997600000003]
["62954","Junction","IL",3.4590000999999999,8.7858602539999993,92.559997600000003]
["62987","Stonefort","IL",3.5659999999999998,9.0576399999999992,92.559997600000003]
["62902","Carbondale","IL",3.6199998999999998,9.1947997459999993,92.559997600000003]
["66868","Reading","KS",3.6389999,{"$f":"D20092*2.54","v":9.2430597460000001},92.559997600000003]
["62942","Grand Tower","IL",3.6830001000000001,9.3548202539999998,92.559997600000003]
["66039","Kincaid","KS",3.7279998999999999,9.4691197460000005,92.559997600000003]
["62970","Olmsted","IL",3.7750001000000002,9.5885002540000013,92.559997600000003]
["66772","Savonburg","KS",3.8359999999999999,{"$f":"D20156*2.54","v":9.7434399999999997},92.559997600000003]
["66733","Erie","KS",3.9230000999999999,9.9644202540000002,92.559997600000003]
["46068","Sharpsville","IN",2.9419998999999999,7.4726797459999998,92.569999699999997]
["83553","Weippe","ID","N/A","N/A",92.580001800000005]
["47465","Switz City","IN",3.1509999999999998,8.0035399999999992,92.580001800000005]
["47630","Newburgh","IN",3.28,8.3311999999999991,92.580001800000005]
["75080","Richardson","TX","N/A","N/A",92.589996299999996]
["75230","Dallas","TX","N/A","N/A",92.589996299999996]
["44417","Farmdale","OH",2.4389999000000002,6.195059746000001,92.589996299999996]
["16426","Mc Kean","PA",2.5819999999999999,6.5582799999999999,92.589996299999996]
["48108","Ann Arbor","MI",2.3580000000000001,5.9893200000000002,92.599998499999998]
["67401","Salina","KS",3.2260000999999998,8.194040253999999,92.610000600000006]
["67073","Lehigh","KS",3.3640001000000002,8.5445602540000003,92.610000600000006]
["08061","Mount Royal","NJ",3.2520001000000001,8.260080254,92.620002700000001]
["08324","Heislerville","NJ",3.2750001000000002,8.3185002539999999,92.620002700000001]
["07029","Harrison","NJ",3.306,8.39724,92.620002700000001]
["07758","Port Monmouth","NJ",3.3180000999999999,8.4277202540000005,92.620002700000001]
["08054","Mount Laurel","NJ",3.3310000999999998,8.4607402539999992,92.620002700000001]
["08057","Moorestown","NJ",3.3310000999999998,8.4607402539999992,92.620002700000001]
["07747","Matawan","NJ",3.3519999999999999,8.5140799999999999,92.620002700000001]
["08226","Ocean City","NJ",3.3710000999999998,8.5623402540000004,92.620002700000001]
["08734","Lanoka Harbor","NJ",3.5079999000000002,8.9103197460000008,92.620002700000001]
["97862","Milton Freewater","OR","N/A","N/A",92.629997299999999]
["98631","Long Beach","WA","N/A","N/A",92.629997299999999]
["98638","Naselle","WA","N/A","N/A",92.629997299999999]
["95650","Loomis","CA",2.6340001000000002,6.6903602540000007,92.629997299999999]
["04005","Biddeford","ME","N/A","N/A",92.639999399999994]
["04539","Bristol","ME","N/A","N/A",92.639999399999994]
["04851","Matinicus","ME","N/A","N/A",92.639999399999994]
["79924","El Paso","TX","N/A","N/A",92.639999399999994]
["79934","El Paso","TX",1.59,4.0386000000000006,92.639999399999994]
["68810","Alda","NE",2.8169998999999999,7.155179746,92.639999399999994]
["12422","Durham","NY","N/A","N/A",92.650001500000002]
["12492","West Kill","NY","N/A","N/A",92.650001500000002]
["81505","Grand Junction","CO",1.214,3.0835599999999999,92.650001500000002]
["81022","Avondale","CO",1.7989999999999999,4.5694600000000003,92.650001500000002]
["87320","Mexican Springs","NM",1.34,{"$f":"D20654*2.54","v":3.4036000000000004},92.660003700000004]
["42086","West Paducah","KY",3.7590001000000002,9.5478602539999997,92.660003700000004]
["37128","Murfreesboro","TN",3.7829999999999999,9.6088199999999997,92.669998199999995]
["02804","Ashaway","RI","N/A","N/A",92.690002399999997]
["83442","Rigby","ID","N/A","N/A",92.690002399999997]
["76087","Weatherford","TX","N/A","N/A",92.699996900000002]
["76491","Woodson","TX","N/A","N/A",92.699996900000002]
["54865","Port Wing","WI",2.6739999999999999,6.7919599999999996,92.699996900000002]
["16410","Cranesville","PA",2.5350001,6.438900254,92.709999100000005]
["07058","Pine Brook","NJ",3.4579998999999999,8.7833197460000001,92.709999100000005]
["07932","Florham Park","NJ",3.4749998999999998,8.8264997459999996,92.709999100000005]
["59201","Wolf Point","MT","N/A","N/A",92.720001199999999]
["59752","Three Forks","MT","N/A","N/A",92.720001199999999]
["46791","Uniondale","IN",2.6429999,6.713219746,92.720001199999999]
["61741","Forrest","IL",2.9369999999999998,7.4599799999999998,92.720001199999999]
["46321","Munster","IN",2.9630000999999999,7.5260202539999996,92.720001199999999]
["60928","Crescent City","IL",3.0270000000000001,7.6885800000000009,92.720001199999999]
["67441","Enterprise","KS",3.3629999000000002,8.5420197460000011,92.720001199999999]
["72209","Little Rock","AR",4.3239998999999996,10.982959745999999,92.730003400000001]
["71745","Harrell","AR",4.3610001,11.076940254,92.730003400000001]
["71631","Banks","AR",4.375,11.112500000000001,92.730003400000001]
["71942","Friendship","AR",4.4289999,11.249659746000001,92.730003400000001]
["71866","Winthrop","AR",4.5320001000000003,11.511280254000001,92.730003400000001]
["89156","Las Vegas","NV",1.0640000000000001,2.7025600000000001,92.75]
["95127","San Jose","CA",2.6789999,6.8046597460000005,92.75]
["35180","Warrior","AL",4.1020002,{"$f":"D21010*2.54","v":10.419080508},92.760002099999994]
["00134","Northern Washington Co","ME","N/A","N/A",92.769996599999999]
["04668","Princeton","ME","N/A","N/A",92.769996599999999]
["42350","Island","KY",3.4039999999999999,8.6461600000000001,92.769996599999999]
["42464","White Plains","KY",3.5680000999999999,9.0627202540000003,92.769996599999999]
["39478","Sandy Hook","MS",4.9629998000000004,12.606019492000001,92.769996599999999]
["10595","Valhalla","NY","N/A","N/A",92.779998800000001]
["10601","White Plains","NY","N/A","N/A",92.779998800000001]
["12051","Coxsackie","NY","N/A","N/A",92.779998800000001]
["12414","Catskill","NY","N/A","N/A",92.779998800000001]
["12525","Gardiner","NY","N/A","N/A",92.779998800000001]
["12771","Port Jervis","NY",3.0409999000000001,7.7241397460000005,92.779998800000001]
["76238","Era","TX","N/A","N/A",92.790000899999995]
["76263","Rosston","TX","N/A","N/A",92.790000899999995]
["81431","Redvale","CO",1.6900001,4.2926002539999999,92.800003099999998]
["44135","Cleveland","OH",2.3359999999999999,5.93344,92.800003099999998]
["44889","Wakeman","OH",2.4679999000000001,6.2687197460000004,92.800003099999998]
["60551","Sheridan","IL",2.9369999999999998,7.4599799999999998,92.800003099999998]
["30326","Atlanta","GA",3.6800001,9.3472002540000005,92.800003099999998]
["30317","Atlanta","GA",3.6900000999999998,9.372600254,92.800003099999998]
["30318","Atlanta","GA",3.7570000000000001,9.5427800000000005,92.800003099999998]
["74080","Talala","OK",3.8740000999999999,9.8399602539999993,92.800003099999998]
["74019","Claremore","OK",3.9159999000000001,{"$f":"D21320*2.54","v":9.9466397460000007},92.800003099999998]
["74047","Mounds","OK",3.9779998999999999,10.104119746,92.800003099999998]
["74421","Beggs","OK",3.9969999999999999,10.152379999999999,92.800003099999998]
["74331","Afton","OK",4.0710001,10.340340254000001,92.800003099999998]
["74455","Porum","OK",4.1609997999999999,10.568939492,92.800003099999998]
["78164","Yorktown","TX","N/A","N/A",92.809997600000003]
["92389","Tecopa","CA",1.7789999999999999,4.5186599999999997,92.819999699999997]
["87747","Springer","NM",2.141,5.4381399999999998,92.819999699999997]
["93444","Nipomo","CA",2.9030000999999999,7.3736202539999995,92.830001800000005]
["38683","Walnut","MS",4.2389998000000002,10.767059492000001,92.830001800000005]
["49743","Hawks","MI",2.125,5.3975,92.839996299999996]
["49659","Mancelona","MI",2.3110000999999998,5.8699402539999994,92.839996299999996]
["49688","Tustin","MI",2.391,{"$f":"D21488*2.54","v":6.0731400000000004},92.839996299999996]
["49601","Cadillac","MI",2.4119999000000001,6.1264797460000002,92.839996299999996]
["73027","Coyle","OK",3.7509999000000001,9.5275397460000004,92.839996299999996]
["83220","Bern","ID","N/A","N/A",92.860000600000006]
["37902","Knoxville","TN",3.0529999999999999,7.7546200000000001,92.860000600000006]
["37922","Knoxville","TN",3.2349999,8.2168997460000011,92.860000600000006]
["37849","Powell","TN",3.2739999000000002,8.3159597460000008,92.860000600000006]
["36784","Thomasville","AL",4.7090000999999999,11.960860254,92.860000600000006]
["82649","Shoshoni","WY","N/A","N/A",92.879997299999999]
["33070","Tavernier","FL",5.0430001999999998,12.809220507999999,92.879997299999999]
["97760","Terrebonne","OR","N/A","N/A",92.889999399999994]
["73638","Crawford","OK",3.0529999999999999,7.7546200000000001,92.889999399999994]
["73601","Clinton","OK",3.4249999999999998,8.6995000000000005,92.889999399999994]
["36083","Tuskegee","AL",4.2340001999999997,10.754360508,92.889999399999994]
["48417","Burt","MI",2.3640001000000002,6.0045602540000003,92.900001500000002]
["46806","Fort Wayne","IN",2.6110001,6.6319402539999999,92.900001500000002]
["66549","Westmoreland","KS",3.3650000000000002,8.5471000000000004,92.900001500000002]
["66428","Goff","KS",3.3659998999999998,8.5496397460000004,92.900001500000002]
["13142","Pulaski","NY","N/A","N/A",92.910003700000004]
["83422","Driggs","ID","N/A","N/A",92.910003700000004]
["66503","Manhattan","KS",3.4249999999999998,8.6995000000000005,92.919998199999995]
["89129","Las Vegas","NV",1.1339999000000001,2.8803597460000003,92.930000300000003]
["76036","Crowley","TX","N/A","N/A",92.940002399999997]
["76044","Godley","TX","N/A","N/A",92.940002399999997]
["76118","Fort Worth","TX","N/A","N/A",92.940002399999997]
["76180","North Richland Hills","TX","N/A","N/A",92.940002399999997]
["76262","Roanoke","TX","N/A","N/A",92.940002399999997]
["97820","Canyon City","OR","N/A","N/A",92.949996900000002]
["80535","Laporte","CO",1.9299999000000001,4.902199746,92.949996900000002]
["80526","Fort Collins","CO",2.0129999999999999,5.1130199999999997,92.949996900000002]
["44430","Leavittsburg","OH",2.4009999999999998,6.0985399999999998,92.949996900000002]
["44288","Windham","OH",2.4530001000000001,6.2306202540000006,92.949996900000002]
["60004","Arlington Heights","IL",2.8519999999999999,7.2440799999999994,92.949996900000002]
["60191","Wood Dale","IL",2.8879999999999999,7.3355199999999998,92.949996900000002]
["90022","Los Angeles","CA",2.9239999999999999,7.4269600000000002,92.949996900000002]
["60526","La Grange Park","IL",2.9330001000000001,7.4498202540000005,92.949996900000002]
["60172","Roselle","IL",2.9489999,7.490459746,92.949996900000002]
["60188","Carol Stream","IL",2.9749998999999998,7.5564997459999992,92.949996900000002]
["60443","Matteson","IL",3.016,7.6606399999999999,92.949996900000002]
["73771","Wakita","OK",3.4300001,8.7122002540000008,92.949996900000002]
["67018","Bluff City","KS",3.4400000999999998,8.7376002540000002,92.949996900000002]
["73736","Fairmont","OK",3.5430000000000001,8.9992200000000011,92.949996900000002]
["91423","Sherman Oaks","CA",3.6800001,9.3472002540000005,92.949996900000002]
["70456","Roseland","LA",5.0970000999999998,12.946380253999999,92.949996900000002]
["26184","Waverly","WV",2.5550001,6.4897002539999997,92.959999100000005]
["25239","Cottageville","WV",2.5659999999999998,6.5176400000000001,92.959999100000005]
["26141","Creston","WV",2.5899999,6.5785997460000001,92.959999100000005]
["00188","Padre Island Ntl Seashor","TX","N/A","N/A",92.980003400000001]
["96121","Milford","CA",2.5329999999999999,{"$f":"D22159*2.54","v":6.4338199999999999},92.980003400000001]
["62553","Oconee","IL",3.105,7.8867000000000003,92.980003400000001]
["62442","Martinsville","IL",3.1110001,7.9019402540000003,92.980003400000001]
["62032","Fillmore","IL",3.1480000000000001,7.9959200000000008,92.980003400000001]
["62262","Mulberry Grove","IL",3.1779999999999999,8.07212,92.980003400000001]
["62419","Calhoun","IL",3.2360001,8.2194402540000002,92.980003400000001]
["62882","Sandoval","IL",3.2570000000000001,8.2727800000000009,92.980003400000001]
["62263","Nashville","IL",3.3119999999999998,8.4124800000000004,92.980003400000001]
["62836","Ewing","IL",3.3580000000000001,8.5293200000000002,92.980003400000001]
["62983","Royalton","IL",3.4929999999999999,8.8722200000000004,92.980003400000001]
["12090","Hoosick Falls","NY","N/A","N/A",92.989997900000006]
["63362","Moscow Mills","MO",3.145,7.9882999999999997,92.989997900000006]
["63361","Montgomery City","MO",3.2609998999999998,8.2829397460000003,92.989997900000006]
["65077","Steedman","MO",3.2839999,8.3413597460000002,92.989997900000006]
["65256","Harrisburg","MO",3.3540000999999999,8.5191602539999991,92.989997900000006]
["65258","Holliday","MO",3.4140000000000001,8.6715600000000013,92.989997900000006]
["31207","Mercer University","GA","N/A","N/A",93.010002099999994]
["31204","Macon","GA",3.7420000999999998,9.5046802540000002,93.010002099999994]
["71111","Bossier City","LA",4.25,10.795,93.029998800000001]
["71112","Bossier City","LA",4.2649999000000003,10.833099746,93.029998800000001]
["83263","Preston","ID","N/A","N/A",93.040000899999995]
["97324","Alsea","OR","N/A","N/A",93.040000899999995]
["97437","Elmira","OR","N/A","N/A",93.040000899999995]
["67118","Norwich","KS",3.3599999,8.5343997460000001,93.040000899999995]
["36688","University Of South Alabama","AL",5.8159999999999998,14.772639999999999,93.040000899999995]
["36609","Mobile","AL",5.8189998000000003,14.780259492000001,93.040000899999995]
["99357","Royal City","WA","N/A","N/A",93.059997600000003]
["04901","Waterville","ME","N/A","N/A",93.069999699999997]
["92347","Hinkley","CA",1.2889999999999999,3.27406,93.069999699999997]
["39339","Louisville","MS",4.2770000000000001,10.863580000000001,93.069999699999997]
["10989","Valley Cottage","NY","N/A","N/A",93.080001800000005]
["78956","Schulenburg","TX","N/A","N/A",93.080001800000005]
["94024","Los Altos","CA",3.4949998999999998,8.8772997460000003,93.080001800000005]
["01950","Newburyport","MA","N/A","N/A",93.089996299999996]
["02660","South Dennis","MA","N/A","N/A",93.089996299999996]
["76449","Graford","TX","N/A","N/A",93.089996299999996]
["54473","Rosholt","WI",2.5750000000000002,{"$f":"D22657*2.54","v":6.5405000000000006},93.089996299999996]
["54739","Elk Mound","WI",2.8429999000000001,7.2212197460000001,93.089996299999996]
["47037","Osgood","IN",3.0120000999999998,7.6504802539999996,93.089996299999996]
["47230","Deputy","IN",3.109,7.8968600000000002,93.089996299999996]
["42032","Columbus","KY",3.8840001000000002,{"$f":"D22721*2.54","v":9.8653602540000005},93.089996299999996]
["28584","Swansboro","NC",4.4590000999999999,11.325860254,93.089996299999996]
["71427","Flatwoods","LA",5.0799998999999998,12.903199746,93.089996299999996]
["82052","Buford","WY","N/A","N/A",93.099998499999998]
["86334","Paulden","AZ",2.036,5.1714400000000005,93.099998499999998]
["73560","Olustee","OK",3.2530000000000001,8.2626200000000001,93.099998499999998]
["73562","Randlett","OK",3.5990000000000002,9.1414600000000004,93.099998499999998]
["73505","Lawton","OK",3.6440001,9.2557602540000001,93.099998499999998]
["63833","Catron","MO",3.8820000000000001,9.8602800000000013,93.099998499999998]
["63855","Hornersville","MO",3.9419998999999999,10.012679746,93.099998499999998]
["95817","Sacramento","CA",2.1500001000000002,5.4610002540000009,93.110000600000006]
["76367","Iowa Park","TX",3.5020001000000001,8.8950802539999998,93.110000600000006]
["89801","Elko","NV",2,5.08,93.120002700000001]
["68512","Lincoln","NE",3.0580001000000001,7.7673202540000004,93.120002700000001]
["68358","Firth","NE",3.1379999999999999,7.9705199999999996,93.120002700000001]
["68307","Avoca","NE",3.2119998999999999,8.1584797459999994,93.120002700000001]
["66438","Home","KS",3.2409998999999998,8.2321397459999996,93.120002700000001]
["68305","Auburn","NE",3.27,8.3057999999999996,93.120002700000001]
["87042","Peralta","NM",1.645,4.1783000000000001,93.129997299999999]
["40371","Salt Lick","KY",3.0259999999999998,7.6860399999999993,93.129997299999999]
["92010","Carlsbad","CA",2.1689999000000002,5.5092597460000006,93.139999399999994]
["06461","Milford","CT","N/A","N/A",93.150001500000002]
["46349","Lake Village","IN",3.0590000000000002,7.7698600000000004,93.150001500000002]
["67583","Turon","KS",3.1880000000000002,8.0975200000000012,93.150001500000002]
["67570","Pretty Prairie","KS",3.2959999999999998,8.3718399999999988,93.150001500000002]
["21673","Trappe","MD",3.3870000999999998,8.6029802540000002,93.150001500000002]
["19966","Millsboro","DE",3.4470000000000001,8.7553800000000006,93.150001500000002]
["78652","Manchaca","TX","N/A","N/A",93.160003700000004]
["26205","Craigsville","WV",2.7249998999999998,6.9214997459999994,93.160003700000004]
["26691","Tioga","WV",2.7260000999999998,6.9240402539999995,93.160003700000004]
["71831","Columbus","AR",4.5240001999999997,11.490960507999999,93.160003700000004]
["76471","Rising Star","TX","N/A","N/A",93.169998199999995]
["66502","Manhattan","KS",3.4619998999999999,8.7934797459999992,93.169998199999995]
["67042","El Dorado","KS",3.6670001000000001,9.314180254,93.169998199999995]
["49061","Jones","MI",2.71,6.8834,93.180000300000003]
["62427","Flat Rock","IL",3.2069999999999999,8.1457800000000002,93.180000300000003]
["62821","Carmi","IL",3.3250000000000002,8.4455000000000009,93.180000300000003]
["75203","Dallas","TX","N/A","N/A",93.199996900000002]
["57312","Alpena","SD",2.4049999999999998,6.1086999999999998,93.199996900000002]
["79922","El Paso","TX","N/A","N/A",93.209999100000005]
["48505","Flint","MI",2.3130000000000002,5.8750200000000001,93.209999100000005]
["48507","Flint","MI",2.3220000000000001,5.8978800000000007,93.209999100000005]
["30815","Hephzibah","GA",3.6019999999999999,9.1490799999999997,93.209999100000005]
["31042","Irwinton","GA",3.7290000999999999,9.4716602539999997,93.209999100000005]
["63740","Chaffee","MO",3.7669999999999999,9.5681799999999999,93.209999100000005]
["31023","Eastman","GA",3.7969998999999999,9.6443797460000003,93.209999100000005]
["63936","Dudley","MO",3.802,9.6570800000000006,93.209999100000005]
["63822","Bernie","MO",3.8310000999999998,9.7307402539999988,93.209999100000005]
["31712","Arabi","GA",3.8610001,9.8069402540000006,93.209999100000005]
["31622","Alapaha","GA",3.8900001,9.8806002540000009,93.209999100000005]
["72450","Paragould","AR",3.9360000999999998,9.9974402539999989,93.209999100000005]
["63876","Senath","MO",3.9449999,10.020299746000001,93.209999100000005]
["31789","Sumner","GA",3.9949998999999998,10.147299746,93.209999100000005]
["31771","Norman Park","GA",4.0489997999999998,10.284459492,93.209999100000005]
["31832","Weston","GA",4.1479998,10.535919492,93.209999100000005]
["31765","Meigs","GA",4.2290001000000004,10.741660254000001,93.209999100000005]
["31626","Boston","GA",4.5669998999999999,11.600179746,93.209999100000005]
["59521","Box Elder","MT","N/A","N/A",93.220001199999999]
["96035","Gerber","CA",2.4519999000000001,6.2280797460000006,93.220001199999999]
["91945","Lemon Grove","CA",1.9170001000000001,4.8691802540000007,93.230003400000001]
["00017","Northeast Fresno County","CA",5.3220000000000001,13.51788,93.239997900000006]
["44491","West Farmington","OH",2.4470000000000001,6.2153800000000006,93.25]
["44076","Orwell","OH",2.5059999999999998,6.3652399999999991,93.25]
["47666","Patoka","IN",3.2429999999999999,8.2372200000000007,93.25]
["56652","Leonard","MN",2.4489999,6.2204597460000004,93.260002099999994]
["56461","Laporte","MN",2.5650000999999998,6.5151002539999991,93.260002099999994]
["60660","Chicago","IL",2.8029999999999999,7.1196200000000003,93.260002099999994]
["60714","Niles","IL",2.8280001000000001,7.1831202540000003,93.260002099999994]
["60619","Chicago","IL",2.8970001000000001,7.3583802540000001,93.260002099999994]
["60614","Chicago","IL",2.9349999000000002,7.4548997460000006,93.260002099999994]
["60406","Blue Island","IL",2.9519999000000001,7.4980797460000002,93.260002099999994]
["60428","Markham","IL",2.964,7.5285599999999997,93.260002099999994]
["59332","Hammond","MT","N/A","N/A",93.279998800000001]
["75420","Brashear","TX","N/A","N/A",93.279998800000001]
["76527","Florence","TX","N/A","N/A",93.279998800000001]
["78570","Mercedes","TX","N/A","N/A",93.279998800000001]
["78729","Austin","TX","N/A","N/A",93.279998800000001]
["36740","Forkland","AL",4.1350002000000003,10.502900508000002,93.279998800000001]
["70817","Baton Rouge","LA",5.0630002000000003,12.860020508000002,93.279998800000001]
["70770","Pride","LA",5.085,12.915900000000001,93.279998800000001]
["54230","Reedsville","WI",2.4769999999999999,6.2915799999999997,93.290000899999995]
["53065","Oakfield","WI",2.5829998999999999,6.560819746,93.290000899999995]
["53002","Allenton","WI",2.6719998999999999,6.7868797459999994,93.290000899999995]
["53182","Union Grove","WI",2.7130000999999999,6.8910202539999998,93.290000899999995]
["53120","East Troy","WI",2.7739999000000002,7.0459597460000003,93.290000899999995]
["53594","Waterloo","WI",2.7850001,7.0739002539999998,93.290000899999995]
["53190","Whitewater","WI",2.8450000000000002,7.2263000000000002,93.290000899999995]
["93252","Maricopa","CA",7.0380000999999996,17.876520253999999,93.290000899999995]
["55606","Hovland","MN",2.444,6.2077600000000004,93.300003099999998]
["55613","Schroeder","MN",2.5129999999999999,6.3830200000000001,93.300003099999998]
["56657","Marcell","MN",2.5669998999999999,6.5201797460000002,93.300003099999998]
["55724","Cotton","MN",2.5969999000000001,6.5963797460000002,93.300003099999998]
["55811","Duluth","MN",2.6909999999999998,6.83514,93.300003099999998]
["55712","Bruno","MN",2.819,7.1602600000000001,93.300003099999998]
["74856","Mill Creek","OK",4.1220001999999996,10.469880507999999,93.300003099999998]
["45846","Fort Recovery","OH",2.6509999999999998,6.7335399999999996,93.309997600000003]
["45011","Hamilton","OH",2.8559999,7.2542397460000005,93.309997600000003]
["35740","Bridgeport","AL",4.0300001999999999,10.236200508,93.309997600000003]
["71106","Shreveport","LA",4.2930001999999998,10.904220508,93.309997600000003]
["55051","Mora","MN",2.7309999,{"$f":"D24107*2.54","v":6.9367397459999998},93.319999699999997]
["55056","North Branch","MN",2.8499998999999998,7.2389997459999993,93.319999699999997]
["33193","Miami","FL",5.3680000000000003,13.634720000000002,93.319999699999997]
["79106","Amarillo","TX","N/A","N/A",93.330001800000005]
["95821","Sacramento","CA",2.286,5.8064400000000003,93.330001800000005]
["79014","Canadian","TX",2.9729999999999999,7.5514199999999994,93.330001800000005]
["76649","Iredell","TX","N/A","N/A",93.339996299999996]
["82710","Aladdin","WY",1.9960001000000001,5.0698402539999998,93.339996299999996]
["29009","Bethune","SC",3.5599999000000002,9.042399746000001,93.339996299999996]
["29154","Sumter","SC",3.6070001,9.161780254,93.339996299999996]
["29547","Hamer","SC",3.6520000000000001,9.2760800000000003,93.339996299999996]
["28352","Laurinburg","NC",3.6909999999999998,9.37514,93.339996299999996]
["28395","Wade","NC",3.7179999000000001,9.4437197460000011,93.339996299999996]
["28347","Hoffman","NC",3.7249998999999998,9.4614997459999994,93.339996299999996]
["29571","Marion","SC",3.7880001000000001,9.621520254,93.339996299999996]
["28431","Chadbourn","NC",3.9349999000000002,9.9948997460000015,93.339996299999996]
["32607","Gainesville","FL",4.2589997999999998,10.817859492,93.339996299999996]
["28451","Leland","NC",4.7169999999999996,11.981179999999998,93.339996299999996]
["77833","Brenham","TX","N/A","N/A",93.349998499999998]
["41168","Rush","KY",2.7320001,6.9392802539999998,93.349998499999998]
["58762","Newburg","ND",2.1110001,5.3619402540000003,93.360000600000006]
["04401","Bangor","ME","N/A","N/A",93.370002700000001]
["04468","Old Town","ME","N/A","N/A",93.370002700000001]
["76905","San Angelo","TX","N/A","N/A",93.370002700000001]
["76932","Big Lake","TX","N/A","N/A",93.370002700000001]
["89431","Sparks","NV",1.2949999999999999,{"$f":"D24449*2.54","v":3.2892999999999999},93.370002700000001]
["93021","Moorpark","CA",3.6680000000000001,9.3167200000000001,93.370002700000001]
["97603","Klamath Falls","OR","N/A","N/A",93.400001500000002]
["95655","Mather","CA",2.161,5.4889400000000004,93.400001500000002]
["48603","Saginaw","MI",2.3510000999999998,5.9715402539999998,93.400001500000002]
["48638","Saginaw","MI",2.3559999,5.9842397460000001,93.400001500000002]
["68722","Butte","NE",2.5920000000000001,6.5836800000000002,93.400001500000002]
["71049","Logansport","LA",4.5009999000000001,{"$f":"D24552*2.54","v":11.432539746},93.400001500000002]
["74871","Stonewall","OK",4.1300001000000002,10.490200254000001,93.410003700000004]
["49952","Nisula","MI",2.4369999999999998,6.1899799999999994,93.419998199999995]
["71646","Hamburg","AR",4.3790002000000001,11.122660508000001,93.419998199999995]
["71250","Jones","LA",4.4539999999999997,11.31316,93.419998199999995]
["71417","Colfax","LA",5.1459998999999996,13.070839745999999,93.419998199999995]
["44111","Cleveland","OH",2.3359999999999999,5.93344,93.430000300000003]
["56358","Ogilvie","MN",2.734,6.9443599999999996,93.430000300000003]
["29556","Kingstree","SC",3.8220000000000001,9.7078800000000012,93.430000300000003]
["29059","Holly Hill","SC",3.8940001,9.8907602539999999,93.430000300000003]
["84721","Cedar City","UT",1.929,4.8996599999999999,93.440002399999997]
["27847","Kelford","NC",3.5780001000000001,9.0881202539999997,93.440002399999997]
["28513","Ayden","NC",3.9489999,{"$f":"D24724*2.54","v":10.030459746},93.440002399999997]
["31563","Surrency","GA",3.9389999000000002,10.005059746000001,93.449996900000002]
["93526","Independence","CA",4.6120000000000001,11.71448,93.449996900000002]
["23668","Hampton","VA","N/A","N/A",93.459999100000005]
["23111","Mechanicsville","VA",3.3139999000000002,8.4175597460000002,93.459999100000005]
["23043","Deltaville","VA",3.4119999000000001,8.6664797460000003,93.459999100000005]
["23125","New Point","VA",3.4560000999999998,8.778240254,93.459999100000005]
["23827","Boykins","VA",3.48,8.8391999999999999,93.459999100000005]
["23890","Waverly","VA",3.5289999999999999,8.9636599999999991,93.459999100000005]
["23513","Norfolk","VA",3.5750000000000002,9.0805000000000007,93.459999100000005]
["23510","Norfolk","VA",3.5910001,{"$f":"D24858*2.54","v":9.1211402540000002},93.459999100000005]
["71027","Frierson","LA",4.3720001999999996,11.104880507999999,93.459999100000005]
["88136","Yeso","NM",2.089,5.3060599999999996,93.480003400000001]
["66734","Farlington","KS",3.8919999999999999,9.8856800000000007,93.480003400000001]
["49710","Barbeau","MI",2.1340001000000002,5.4203602540000002,93.489997900000006]
["44254","Lodi","OH",2.4960000999999998,6.3398402539999994,93.489997900000006]
["93426","Bradley","CA",5.6020002,14.229080508000001,93.489997900000006]
["38320","Camden","TN",3.7570000000000001,9.5427800000000005,93.5]
["38242","Paris","TN",3.7930000000000001,9.6342200000000009,93.5]
["38370","Saltillo","TN",3.8460000000000001,9.7688400000000009,93.5]
["38253","Rives","TN",3.8809999999999998,9.8577399999999997,93.5]
["38063","Ripley","TN",3.9200001000000002,9.9568002540000009,93.5]
["38016","Cordova","TN",3.9740000000000002,10.093960000000001,93.5]
["38138","Germantown","TN",4.0060000000000002,10.175240000000001,93.5]
["38075","Whiteville","TN",4.0190001000000004,10.208260254000001,93.5]
["38833","Burnsville","MS",4.1129999000000002,{"$f":"D25065*2.54","v":10.447019746},93.5]
["93638","Madera","CA",1.579,{"$f":"D25084*2.54","v":4.0106599999999997},93.510002099999994]
["93907","Salinas","CA",2.6019999999999999,6.6090799999999996,93.510002099999994]
["59029","Fromberg","MT","N/A","N/A",93.519996599999999]
["75078","Prosper","TX","N/A","N/A",93.519996599999999]
["75082","Richardson","TX","N/A","N/A",93.519996599999999]
["75215","Dallas","TX","N/A","N/A",93.519996599999999]
["76010","Arlington","TX","N/A","N/A",93.519996599999999]
["76511","Bartlett","TX","N/A","N/A",93.519996599999999]
["76636","Covington","TX","N/A","N/A",93.519996599999999]
["78218","San Antonio","TX","N/A","N/A",93.519996599999999]
["78219","San Antonio","TX","N/A","N/A",93.519996599999999]
["78655","Martindale","TX","N/A","N/A",93.519996599999999]
["81223","Cotopaxi","CO",1.8180000000000001,4.6177200000000003,93.519996599999999]
["32405","Panama City","FL",5.4169998000000001,13.759179492000001,93.519996599999999]
["37725","Dandridge","TN",2.8959999000000001,7.355839746,93.540000899999995]
["95614","Cool","CA",3.3290000000000002,8.45566,93.540000899999995]
["37862","Sevierville","TN",3.4949998999999998,8.8772997460000003,93.540000899999995]
["70803","Baton Rouge","LA",4.9669999999999996,12.61618,93.540000899999995]
["70772","Rosedale","LA",5.0879998000000004,12.923519492,93.540000899999995]
["83611","Cascade","ID","N/A","N/A",93.550003099999998]
["84759","Panguitch","UT",2.0139999,5.1155597459999997,93.550003099999998]
["92364","Nipton","CA",2.1349999999999998,5.4228999999999994,93.550003099999998]
["66861","Marion","KS",3.4929999999999999,{"$f":"D25391*2.54","v":8.8722200000000004},93.550003099999998]
["67146","Udall","KS",3.5699999,9.0677997460000004,93.550003099999998]
["95318","El Portal","CA",4.0259999999999998,10.226039999999999,93.559997600000003]
["20121","Centreville","VA",3.016,7.6606399999999999,93.569999699999997]
["20151","Chantilly","VA",3.0339999,7.7063597460000004,93.569999699999997]
["22033","Fairfax","VA",3.0969999000000001,7.8663797460000007,93.569999699999997]
["22508","Locust Grove","VA",3.286,8.3464399999999994,93.569999699999997]
["91301","Agoura Hills","CA",4.9499997999999996,12.572999491999999,93.569999699999997]
["43571","Whitehouse","OH",2.4079999999999999,6.11632,93.589996299999996]
["75481","Sulphur Bluff","TX","N/A","N/A",93.599998499999998]
["75844","Grapeland","TX","N/A","N/A",93.599998499999998]
["77426","Chappell Hill","TX","N/A","N/A",93.599998499999998]
["94112","San Francisco","CA",2.609,6.6268599999999998,93.599998499999998]
["94062","Redwood City","CA",4.4400000999999998,11.277600253999999,93.599998499999998]
["97124","Hillsboro","OR","N/A","N/A",93.610000600000006]
["97229","Portland","OR","N/A","N/A",93.610000600000006]
["97351","Independence","OR","N/A","N/A",93.610000600000006]
["97405","Eugene","OR","N/A","N/A",93.610000600000006]
["94523","Pleasant Hill","CA",2.5350001,6.438900254,93.610000600000006]
["94602","Oakland","CA",2.9039999999999999,7.3761599999999996,93.610000600000006]
["71826","Bradley","AR",4.1769999999999996,10.609579999999999,93.610000600000006]
["14120","North Tonawanda","NY","N/A","N/A",93.639999399999994]
["75964","Nacogdoches","TX","N/A","N/A",93.639999399999994]
["56025","Easton","MN",3.0819999999999999,7.8282799999999995,93.639999399999994]
["86032","Joseph City","AZ",1.248,3.1699199999999998,93.660003700000004]
["13612","Black River","NY","N/A","N/A",93.669998199999995]
["13616","Calcium","NY","N/A","N/A",93.669998199999995]
["77382","Spring","TX","N/A","N/A",93.669998199999995]
["78254","San Antonio","TX","N/A","N/A",93.669998199999995]
["78654","Marble Falls","TX","N/A","N/A",93.669998199999995]
["78830","Big Wells","TX","N/A","N/A",93.669998199999995]
["94608","Emeryville","CA",2.5299999999999998,6.4261999999999997,93.669998199999995]
["94607","Oakland","CA",2.556,6.4922399999999998,93.669998199999995]
["96007","Anderson","CA",3.7570000000000001,9.5427800000000005,93.669998199999995]
["72315","Blytheville","AR",3.9200001000000002,9.9568002540000009,93.669998199999995]
["72373","Parkin","AR",4.0170002,10.203180508000001,93.669998199999995]
["72367","Mellwood","AR",4.1929997999999999,10.650219492,93.669998199999995]
["00038","East Tehama County","CA",6.2389998000000002,15.847059492000001,93.669998199999995]
["75152","Palmer","TX","N/A","N/A",93.680000300000003]
["76635","Coolidge","TX","N/A","N/A",93.680000300000003]
["76711","Waco","TX","N/A","N/A",93.680000300000003]
["92155","Naval Amphibious Base","CA",1.6539999999999999,4.2011599999999998,93.680000300000003]
["96109","Doyle","CA",2.9279999999999999,7.4371200000000002,93.680000300000003]
["76528","Gatesville","TX","N/A","N/A",93.690002399999997]
["76864","Mullin","TX","N/A","N/A",93.690002399999997]
["10028","New York","NY","N/A","N/A",93.699996900000002]
["10708","Bronxville","NY","N/A","N/A",93.699996900000002]
["11204","Brooklyn","NY","N/A","N/A",93.699996900000002]
["11221","Brooklyn","NY","N/A","N/A",93.699996900000002]
["11228","Brooklyn","NY","N/A","N/A",93.699996900000002]
["11356","College Point","NY","N/A","N/A",93.699996900000002]
["11374","Rego Park","NY","N/A","N/A",93.699996900000002]
["11426","Bellerose","NY","N/A","N/A",93.699996900000002]
["11530","Garden City","NY","N/A","N/A",93.699996900000002]
["11554","East Meadow","NY","N/A","N/A",93.699996900000002]
["11753","Jericho","NY","N/A","N/A",93.699996900000002]
["12303","Schenectady","NY","N/A","N/A",93.699996900000002]
["14206","Buffalo","NY","N/A","N/A",93.699996900000002]
["14611","Rochester","NY","N/A","N/A",93.699996900000002]
["14620","Rochester","NY","N/A","N/A",93.699996900000002]
["78343","Bishop","TX","N/A","N/A",93.699996900000002]
["82801","Sheridan","WY","N/A","N/A",93.699996900000002]
["10013","New York","NY",3.2989999999999999,8.3794599999999999,93.699996900000002]
["10036","New York","NY",3.306,8.39724,93.699996900000002]
["10030","New York","NY",3.3210001,8.4353402539999998,93.699996900000002]
["10456","Bronx","NY",3.3239999,8.4429597459999997,93.699996900000002]
["39701","Columbus","MS",4.1059998999999996,10.429239745999999,93.699996900000002]
["32714","Altamonte Springs","FL",4.2729998,10.853419492,93.699996900000002]
["33609","Tampa","FL",4.3230000000000004,10.980420000000001,93.699996900000002]
["33603","Tampa","FL",4.4229998999999998,11.234419746,93.699996900000002]
["39074","Forest","MS",4.4590000999999999,11.325860254,93.699996900000002]
["89440","Virginia City","NV",1.9650000000000001,4.9911000000000003,93.709999100000005]
["83856","Priest River","ID","N/A","N/A",93.720001199999999]
["23231","Henrico","VA",3.3770001000000001,8.5775802540000008,93.720001199999999]
["27701","Durham","NC",3.5390000000000001,8.9890600000000003,93.720001199999999]
["23430","Smithfield","VA",3.6099999,9.1693997459999999,93.720001199999999]
["23709","Portsmouth","VA",3.6140001000000002,9.1795602540000001,93.720001199999999]
["71316","Acme","LA",5.165,13.1191,93.720001199999999]
["78159","Smiley","TX","N/A","N/A",93.730003400000001]
["14054","East Bethany","NY","N/A","N/A",93.739997900000006]
["59831","Dixon","MT","N/A","N/A",93.75]
["95612","Clarksburg","CA",2.0739999,5.2679597459999998,93.75]
["95659","Nicolaus","CA",2.1309999999999998,5.4127399999999994,93.75]
["95917","Biggs","CA",2.5050001000000002,6.3627002540000008,93.75]
["13633","De Peyster","NY","N/A","N/A",93.760002099999994]
["43403","Bowling Green State Univ","OH","N/A","N/A",93.760002099999994]
["77067","Houston","TX","N/A","N/A",93.760002099999994]
["83554","White Bird","ID","N/A","N/A",93.760002099999994]
["97845","John Day","OR","N/A","N/A",93.760002099999994]
["92280","Vidal","CA",1.6180000000000001,4.1097200000000003,93.760002099999994]
["92102","San Diego","CA",1.827,4.6405799999999999,93.760002099999994]
["84080","Vernon","UT",2.036,5.1714400000000005,93.760002099999994]
["48035","Clinton Township","MI",2.3169998999999999,5.8851797459999995,93.760002099999994]
["48088","Warren","MI",2.3210001,5.8953402539999997,93.760002099999994]
["43452","Port Clinton","OH",2.3380000999999999,5.9385202540000002,93.760002099999994]
["54159","Porterfield","WI",2.3450000000000002,5.9563000000000006,93.760002099999994]
["48127","Dearborn Heights","MI",2.3650000000000002,6.0071000000000003,93.760002099999994]
["43525","Haskins","OH",2.3829999000000002,6.0528197460000008,93.760002099999994]
["54161","Pound","WI",2.3970001000000001,6.0883802540000005,93.760002099999994]
["43619","Northwood","OH",2.4039999999999999,6.10616,93.760002099999994]
["43435","Helena","OH",2.4279999999999999,6.1671199999999997,93.760002099999994]
["43534","Mc Clure","OH",2.4449999,6.2102997460000005,93.760002099999994]
["43545","Napoleon","OH",2.4710000000000001,6.2763400000000003,93.760002099999994]
["49248","Jasper","MI",2.5209999000000001,6.4033397460000003,93.760002099999994]
["45807","Lima","OH",2.5369999000000001,6.4439797460000001,93.760002099999994]
["54962","Ogdensburg","WI",2.5829998999999999,6.560819746,93.760002099999994]
["29836","Martin","SC",3.6320000000000001,9.2252799999999997,93.760002099999994]
["72086","Lonoke","AR",4.1909999999999998,10.64514,93.760002099999994]
["71466","Otis","LA",5.2399997999999997,13.309599491999998,93.760002099999994]
["71346","Lecompte","LA",5.3660002000000002,13.629640508000001,93.760002099999994]
["96065","Montgomery Creek","CA",7.0650000999999998,17.945100254,93.769996599999999]
["75571","Omaha","TX","N/A","N/A",93.779998800000001]
["48757","Reese","MI",2.3380000999999999,5.9385202540000002,93.779998800000001]
["71220","Bastrop","LA",4.4080000000000004,11.196320000000002,93.779998800000001]
["75559","De Kalb","TX",4.4480000000000004,11.297920000000001,93.779998800000001]
["59451","Hilger","MT","N/A","N/A",93.790000899999995]
["77355","Magnolia","TX","N/A","N/A",93.790000899999995]
["77853","Dime Box","TX","N/A","N/A",93.790000899999995]
["98584","Shelton","WA","N/A","N/A",93.790000899999995]
["56710","Alvarado","MN",2.2909999000000001,5.8191397460000003,93.790000899999995]
["58240","Hatton","ND",2.3699998999999998,6.0197997459999995,93.790000899999995]
["58015","Christine","ND",2.4330001000000001,6.179820254,93.790000899999995]
["56519","Borup","MN",2.4760000999999998,6.2890402539999997,93.790000899999995]
["45159","New Vienna","OH",2.8269999000000001,7.1805797460000003,93.790000899999995]
["45130","Hamersville","OH",2.9039999999999999,7.3761599999999996,93.790000899999995]
["31648","Statenville","GA",4.3200002,10.972800508000001,93.790000899999995]
["38703","Greenville","MS",4.3769999000000004,11.117579746000001,93.790000899999995]
["71422","Dodson","LA",5.1290002000000001,13.027660508,93.790000899999995]
["92126","San Diego","CA",1.9330000000000001,4.9098199999999999,93.800003099999998]
["92585","Sun City","CA",2.1889999000000002,5.5600597460000003,93.800003099999998]
["92532","Lake Elsinore","CA",2.4460001,6.2128402540000005,93.800003099999998]
["92230","Cabazon","CA",2.8770001000000001,7.3075802540000003,93.800003099999998]
["92065","Ramona","CA",2.95,7.4930000000000003,93.800003099999998]
["95240","Lodi","CA",1.905,4.8387000000000002,93.809997600000003]
["83623","Glenns Ferry","ID","N/A","N/A",93.819999699999997]
["94510","Benicia","CA",2.6199998999999998,6.6547997459999992,93.819999699999997]
["95482","Ukiah","CA",4.7169999999999996,11.981179999999998,93.819999699999997]
["59014","Bridger","MT","N/A","N/A",93.830001800000005]
["59044","Laurel","MT","N/A","N/A",93.830001800000005]
["94621","Oakland","CA",2.4679999000000001,6.2687197460000004,93.830001800000005]
["00076","Okanogan Natl Park","WA","N/A","N/A",93.839996299999996]
["57547","Long Valley","SD",2.1819999000000001,5.5422797460000002,93.839996299999996]
["43324","Huntsville","OH",2.5120000999999998,{"$f":"D27388*2.54","v":6.3804802540000001},93.839996299999996]
["57342","Geddes","SD",2.5489999999999999,6.4744599999999997,93.839996299999996]
["71447","Lena","LA",5.1319999999999997,13.03528,93.839996299999996]
["59747","Pony","MT","N/A","N/A",93.849998499999998]
["77009","Houston","TX","N/A","N/A",93.849998499999998]
["77710","Beaumont","TX","N/A","N/A",93.849998499999998]
["78957","Smithville","TX","N/A","N/A",93.849998499999998]
["88301","Carrizozo","NM",2.4140000000000001,6.1315600000000003,93.849998499999998]
["45813","Antwerp","OH",2.5039999000000002,6.3601597460000008,93.849998499999998]
["74533","Caney","OK",4.2759999999999998,10.861039999999999,93.849998499999998]
["38761","Moorhead","MS",4.4009999999999998,11.17854,93.849998499999998]
["39194","Yazoo City","MS",4.4640002000000001,11.338560508,93.849998499999998]
["32214","Jacksonville","FL",4.5440000999999999,11.541760254,93.849998499999998]
["32448","Marianna","FL",4.9169998000000001,12.489179492,93.849998499999998]
["32569","Mary Esther","FL",6.0170002,15.283180508000001,93.849998499999998]
["75428","Commerce","TX","N/A","N/A",93.879997299999999]
["77808","Bryan","TX","N/A","N/A",93.879997299999999]
["78851","Dryden","TX","N/A","N/A",93.879997299999999]
["38632","Hernando","MS",4.1170001000000003,10.457180254000001,93.879997299999999]
["73446","Madill","OK",4.2210001999999998,10.721340507999999,93.879997299999999]
["70589","Washington","LA",5.2360001,13.299440254,93.879997299999999]
["87560","Ribera","NM",1.8099999,4.5973997459999998,93.889999399999994]
["60051","McHenry","IL",2.8719999999999999,7.29488,93.889999399999994]
["60033","Harvard","IL",2.9400000999999998,7.4676002539999997,93.889999399999994]
["71004","Belcher","LA",4.2210001999999998,10.721340507999999,93.889999399999994]
["93105","Santa Barbara","CA",7.4870000000000001,19.01698,93.889999399999994]
["75034","Frisco","TX","N/A","N/A",93.910003700000004]
["75236","Dallas","TX","N/A","N/A",93.910003700000004]
["75249","Dallas","TX","N/A","N/A",93.910003700000004]
["75492","Windom","TX","N/A","N/A",93.910003700000004]
["76678","Prairie Hill","TX","N/A","N/A",93.910003700000004]
["78754","Austin","TX","N/A","N/A",93.910003700000004]
["94560","Newark","CA",1.77,4.4958,93.910003700000004]
["94105","San Francisco","CA",2.2780000999999999,5.7861202540000001,93.910003700000004]
["94103","San Francisco","CA",2.2890000000000001,5.8140600000000004,93.910003700000004]
["46761","LaGrange","IN",2.6219999999999999,6.6598800000000002,93.910003700000004]
["46732","Cromwell","IN",2.6670001000000001,6.774180254,93.910003700000004]
["46580","Warsaw","IN",2.7069999999999999,6.8757799999999998,93.910003700000004]
["46544","Mishawaka","IN",2.8010001,7.1145402540000005,93.910003700000004]
["46563","Plymouth","IN",2.8510000999999998,7.2415402539999993,93.910003700000004]
["46366","North Judson","IN",2.8620000000000001,7.2694800000000006,93.910003700000004]
["46385","Valparaiso","IN",2.9230000999999999,7.4244202540000002,93.910003700000004]
["46360","Michigan City","IN",2.9860001,7.5844402540000004,93.910003700000004]
["75076","Pottsboro","TX",4.2220000999999998,10.723880253999999,93.910003700000004]
["32221","Jacksonville","FL",4.5489997999999998,11.554459491999999,93.910003700000004]
["96021","Corning","CA",4.7629999999999999,12.09802,93.910003700000004]
["70570","Opelousas","LA",5.2240000000000002,13.26896,93.910003700000004]
["70125","New Orleans","LA",5.4640002000000001,13.878560508,93.910003700000004]
["95966","Oroville","CA",5.6189999999999998,14.272259999999999,93.919998199999995]
["83320","Carey","ID","N/A","N/A",93.940002399999997]
["89311","Baker","NV",2.04,5.1816000000000004,93.940002399999997]
["57534","Hamill","SD",2.3529998999999999,5.9766197459999999,93.940002399999997]
["63436","Center","MO",3.2730000000000001,8.3134200000000007,93.940002399999997]
["65283","Stoutsville","MO",3.3650000000000002,8.5471000000000004,93.940002399999997]
["31545","Jesup","GA",4.1539998000000002,10.551159492,93.940002399999997]
["32805","Orlando","FL",4.29,10.896599999999999,93.940002399999997]
["32058","Lawtey","FL",4.3299998999999998,10.998199745999999,93.940002399999997]
["32087","Sanderson","FL",4.4120001999999996,11.206480507999999,93.940002399999997]
["34289","North Port","FL",4.5139999,11.465559746,93.940002399999997]
["32128","Port Orange","FL",4.6830001000000001,11.894820254000001,93.940002399999997]
["32937","Satellite Beach","FL",4.7329998,12.021819492000001,93.940002399999997]
["34236","Sarasota","FL",4.7540002000000001,12.075160508,93.940002399999997]
["34428","Crystal River","FL",4.9980000999999996,12.694920253999999,93.940002399999997]
["70764","Plaquemine","LA",5.1389999,13.053059746000001,93.940002399999997]
["48475","Ubly","MI",2.2309999,5.6667397460000002,93.970001199999999]
["48741","Kingston","MI",2.2770000000000001,5.7835800000000006,93.970001199999999]
["48632","Lake","MI",2.3650000000000002,6.0071000000000003,93.970001199999999]
["48855","Howell","MI",2.3770001000000001,6.0375802539999999,93.970001199999999]
["48114","Brighton","MI",2.391,6.0731400000000004,93.970001199999999]
["48823","East Lansing","MI",2.4219998999999999,6.1518797459999996,93.970001199999999]
["58042","Harwood","ND",2.444,6.2077600000000004,93.970001199999999]
["48813","Charlotte","MI",2.4649999,6.2610997460000002,93.970001199999999]
["49284","Springport","MI",2.4710000000000001,6.2763400000000003,93.970001199999999]
["49073","Nashville","MI",2.5109998999999998,6.377939746,93.970001199999999]
["49319","Cedar Springs","MI",2.5569999000000001,6.4947797460000007,93.970001199999999]
["49519","Wyoming","MI",2.5760000000000001,6.5430400000000004,93.970001199999999]
["49442","Muskegon","MI",2.6040000999999999,6.6141602539999997,93.970001199999999]
["49120","Niles","MI",2.7360001,6.9494402540000006,93.970001199999999]
["71266","Pioneer","LA",4.5110001999999998,11.457940508,93.970001199999999]
["12072","Fultonville","NY","N/A","N/A",94]
["13030","Bridgeport","NY","N/A","N/A",94]
["13082","Kirkville","NY","N/A","N/A",94]
["13408","Morrisville","NY","N/A","N/A",94]
["14006","Angola","NY","N/A","N/A",94]
["14013","Basom","NY","N/A","N/A",94]
["14414","Avon","NY","N/A","N/A",94]
["14507","Middlesex","NY","N/A","N/A",94]
["14719","Cattaraugus","NY","N/A","N/A",94]
["59087","Winnett","MT","N/A","N/A",94]
["59527","Hays","MT","N/A","N/A",94]
["59762","Wise River","MT","N/A","N/A",94]
["75148","Malakoff","TX","N/A","N/A",94]
["75401","Greenville","TX","N/A","N/A",94]
["76524","Eddy","TX","N/A","N/A",94]
["77019","Houston","TX","N/A","N/A",94]
["77026","Houston","TX","N/A","N/A",94]
["77048","Houston","TX","N/A","N/A",94]
["77075","Houston","TX","N/A","N/A",94]
["77414","Bay City","TX","N/A","N/A",94]
["77455","Louise","TX","N/A","N/A",94]
["77484","Waller","TX","N/A","N/A",94]
["77494","Katy","TX","N/A","N/A",94]
["77520","Baytown","TX","N/A","N/A",94]
["77564","Hull","TX","N/A","N/A",94]
["77591","Texas City","TX","N/A","N/A",94]
["77705","Beaumont","TX","N/A","N/A",94]
["77901","Victoria","TX","N/A","N/A",94]
["78382","Rockport","TX","N/A","N/A",94]
["79085","Summerfield","TX","N/A","N/A",94]
["83013","Moran","WY","N/A","N/A",94]
["83670","Sweet","ID","N/A","N/A",94]
["97049","Rhododendron","OR","N/A","N/A",94]
["97730","Camp Sherman","OR","N/A","N/A",94]
["97883","Union","OR","N/A","N/A",94]
["89012","Henderson","NV",1.137,2.8879800000000002,94]
["86044","Tonalea","AZ",1.3080000000000001,3.3223200000000004,94]
["84533","Lake Powell","UT",1.37,3.4798000000000004,94]
["87325","Tohatchi","NM",1.4379999999999999,3.65252,94]
["85339","Laveen","AZ",1.5,3.81,94]
["85042","Phoenix","AZ",1.526,3.8760400000000002,94]
["85032","Phoenix","AZ",1.571,3.9903399999999998,94]
["81419","Hotchkiss","CO",1.6059999,4.0792397459999998,94]
["86036","Marble Canyon","AZ",1.6160000999999999,4.1046402539999995,94]
["87301","Gallup","NM",1.671,4.2443400000000002,94]
["95340","Merced","CA",1.77,4.4958,94]
["95386","Waterford","CA",1.8220000000000001,4.6278800000000002,94]
["87024","Jemez Pueblo","NM",1.88,4.7751999999999999,94]
["89008","Caliente","NV",1.9510000000000001,{"$f":"D29169*2.54","v":4.9555400000000001},94]
["85193","Casa Grande","AZ",1.952,4.9580799999999998,94]
["85086","Phoenix","AZ",2.0150001,5.1181002539999998,94]
["57766","Oral","SD",2.0469998999999999,5.199379746,94]
["57717","Belle Fourche","SD",2.0739999,5.2679597459999998,94]
["58781","Sawyer","ND",2.1280000000000001,5.4051200000000001,94]
["84062","Pleasant Grove","UT",2.1480000000000001,5.4559200000000008,94]
["85342","Morristown","AZ",2.1489999000000002,5.4584597460000008,94]
["57531","Draper","SD",2.1949999,5.5752997459999998,94]
["85631","San Manuel","AZ",2.234,5.6743600000000001,94]
["85611","Elgin","AZ",2.2839999,5.8013597460000002,94]
["56757","Stephen","MN",2.3299998999999998,5.918199746,94]
["96101","Alturas","CA",2.3729998999999999,6.0274197459999996,94]
["84535","Monticello","UT",2.3879999999999999,6.0655200000000002,94]
["56685","Waskish","MN",2.4560000999999998,6.2382402539999999,94]
["85623","Oracle","AZ",2.4900000000000002,6.3246000000000002,94]
["00199","Tonto National Forest","AZ",2.5469998999999999,6.4693797459999995,94]
["86024","Happy Jack","AZ",2.6240000999999999,6.6649602540000004,94]
["94506","Danville","CA",2.6459999000000001,6.7208397460000002,94]
["86332","Kirkland","AZ",2.7229999999999999,6.9164199999999996,94]
["56134","Hardwick","MN",2.8199999,7.1627997460000001,94]
["54661","Trempealeau","WI",2.931,7.4447400000000004,94]
["56045","Hollandale","MN",2.98,7.5692000000000004,94]
["56016","Clarks Grove","MN",2.9969999999999999,7.6123799999999999,94]
["23440","Tangier","VA",3.1059999,7.8892397460000003,94]
["23337","Wallops Island","VA",3.2160001,8.1686402539999996,94]
["23413","Nassawadox","VA",3.3640001000000002,8.5445602540000003,94]
["65014","Bland","MO",3.3980000000000001,8.6309199999999997,94]
["29550","Hartsville","SC",3.5790000000000002,9.0906599999999997,94]
["29520","Cheraw","SC",3.641,9.2481399999999994,94]
["29827","Fairfax","SC",3.734,9.4843600000000006,94]
["27980","Tyner","NC",3.7789999999999999,9.5986600000000006,94]
["30461","Statesboro","GA",3.8740000999999999,9.8399602539999993,94]
["27808","Bath","NC",4.0050001000000002,10.172700254,94]
["27962","Plymouth","NC",4.0320001000000003,10.241280254000001,94]
["33852","Lake Placid","FL",4.0949998000000001,10.401299492,94]
["29410","Hanahan","SC",4.1630000999999996,10.574020253999999,94]
["34756","Montverde","FL",4.1869997999999997,10.634979491999999,94]
["33585","Sumterville","FL",4.21,10.6934,94]
["29940","Seabrook","SC",4.2129998000000004,10.701019492,94]
["29492","Charleston","SC",4.2220000999999998,10.723880253999999,94]
["32162","The Villages","FL",4.2350000999999997,10.756900254,94]
["32712","Apopka","FL",4.2690001000000004,10.843260254,94]
["29438","Edisto Island","SC",4.2950001000000002,10.909300254000001,94]
["32773","Sanford","FL",4.3280000999999997,10.993120253999999,94]
["33841","Fort Meade","FL",4.3280000999999997,10.993120253999999,94]
["32817","Orlando","FL",4.3439999,11.033759745999999,94]
["33896","Davenport","FL",4.3660002000000002,11.089640508,94]
["32725","Deltona","FL",4.3829998999999997,11.132819745999999,94]
["33493","South Bay","FL",4.4070001000000003,11.193780254000002,94]
["32720","Deland","FL",4.4320002000000001,11.257280508000001,94]
["34473","Ocala","FL",4.4340000000000002,11.262360000000001,94]
["32180","Pierson","FL",4.4590000999999999,11.325860254,94]
["32174","Ormond Beach","FL",4.4710001999999998,11.356340507999999,94]
["71237","Epps","LA",4.4860001,11.394440254000001,94]
["29926","Hilton Head Island","SC",4.5270000000000001,11.49858,94]
["33430","Belle Glade","FL",4.5489997999999998,11.554459491999999,94]
["33647","Tampa","FL",4.5580001000000001,11.577320254,94]
["34987","Port Saint Lucie","FL",4.5900002000000004,11.658600508000001,94]
["32759","Oak Hill","FL",4.6149997999999997,11.722099492,94]
["34224","Englewood","FL",4.6420002,11.790680507999999,94]
["34442","Hernando","FL",4.6750002000000004,11.874500508000001,94]
["32141","Edgewater","FL",4.6760001000000004,11.877040254000001,94]
["34639","Land O Lakes","FL",4.6769999999999996,11.879579999999999,94]
["33917","North Fort Myers","FL",4.6779999999999999,11.88212,94]
["32976","Sebastian","FL",4.6789999,11.884659746000001,94]
["34222","Ellenton","FL",4.6789999,11.884659746000001,94]
["34211","Bradenton","FL",4.6799998,11.887199492000001,94]
["34606","Spring Hill","FL",4.6799998,11.887199492000001,94]
["71269","Rayville","LA",4.6799998,11.887199492000001,94]
["33544","Wesley Chapel","FL",4.6830001000000001,11.894820254000001,94]
["00042","Southwest Brevard Cnty","FL",4.6840000000000002,11.897360000000001,94]
["34202","Bradenton","FL",4.6840000000000002,11.897360000000001,94]
["32008","Branford","FL",4.6849999000000002,11.899899746000001,94]
["34613","Brooksville","FL",4.6859998999999997,11.902439745999999,94]
["34951","Fort Pierce","FL",4.6859998999999997,11.902439745999999,94]
["33905","Fort Myers","FL",4.6869997999999997,11.904979491999999,94]
["71282","Tallulah","LA",4.6880002000000003,11.907520508000001,94]
["00087","NW Indian River County","FL",4.6900000999999998,11.912600253999999,94]
["33764","Clearwater","FL",4.6900000999999998,11.912600253999999,94]
["34251","Myakka City","FL",4.6900000999999998,11.912600253999999,94]
["34946","Fort Pierce","FL",4.6900000999999998,11.912600253999999,94]
["32909","Palm Bay","FL",4.6909999999999998,11.915139999999999,94]
["34275","Nokomis","FL",4.6919998999999999,11.917679745999999,94]
["34232","Sarasota","FL",4.6929997999999999,11.920219491999999,94]
["32925","Patrick AFB","FL",4.6939998000000003,11.922759492000001,94]
["33921","Boca Grande","FL",4.6939998000000003,11.922759492000001,94]
["34201","Bradenton","FL",4.6950002,11.925300507999999,94]
["34950","Fort Pierce","FL",4.6950002,11.925300507999999,94]
["32927","Cocoa","FL",4.6970000000000001,11.93038,94]
["34953","Port Saint Lucie","FL",4.6970000000000001,11.93038,94]
["33523","Dade City","FL",4.6989998999999996,11.935459745999999,94]
["33570","Ruskin","FL",4.6989998999999996,11.935459745999999,94]
["33771","Largo","FL",4.7030000999999997,11.945620254,94]
["34235","Sarasota","FL",4.7030000999999997,11.945620254,94]
["32948","Fellsmere","FL",4.7049998999999998,11.950699746,94]
["32950","Malabar","FL",4.7049998999999998,11.950699746,94]
["32958","Sebastian","FL",4.7059999000000001,11.953239746000001,94]
["33909","Cape Coral","FL",4.7059999000000001,11.953239746000001,94]
["31331","Townsend","GA",4.7069998000000002,11.955779492000001,94]
["31568","White Oak","GA",4.7069998000000002,11.955779492000001,94]
["34607","Spring Hill","FL",4.7069998000000002,11.955779492000001,94]
["33576","San Antonio","FL",4.7080001999999999,{"$f":"D30065*2.54","v":11.958320508},94]
["33924","Captiva","FL",4.7090000999999999,11.960860254,94]
["34208","Bradenton","FL",4.7090000999999999,11.960860254,94]
["32907","Palm Bay","FL",4.71,11.9634,94]
["32940","Melbourne","FL",4.71,11.9634,94]
["33525","Dade City","FL",4.71,11.9634,94]
["33762","Clearwater","FL",4.7119999000000004,11.968479746000002,94]
["32618","Archer","FL",4.7129998000000004,11.971019492000002,94]
["32011","Callahan","FL",4.7140002000000001,11.973560508,94]
["32046","Hilliard","FL",4.7140002000000001,11.973560508,94]
["31406","Savannah","GA",4.7150002000000004,11.976100508000002,94]
["34134","Bonita Springs","FL",4.7150002000000004,11.976100508000002,94]
["33760","Clearwater","FL",4.7160000999999996,11.978640253999998,94]
["34240","Sarasota","FL",4.7160000999999996,11.978640253999998,94]
["32132","Edgewater","FL",4.7169999999999996,11.981179999999998,94]
["34110","Naples","FL",4.7169999999999996,11.981179999999998,94]
["34135","Bonita Springs","FL",4.7179998999999997,11.983719746,94]
["33773","Largo","FL",4.7199998000000001,11.988799492,94]
["33922","Bokeelia","FL",4.7220000999999998,11.993880254,94]
["32934","Melbourne","FL",4.7240000000000002,11.99896,94]
["34221","Palmetto","FL",4.7240000000000002,11.99896,94]
["34446","Homosassa","FL",4.7240000000000002,11.99896,94]
["34677","Oldsmar","FL",4.7249999000000003,12.001499746,94]
["32081","Ponte Vedra","FL",4.7329998,12.021819492000001,94]
["34203","Bradenton","FL",4.7329998,12.021819492000001,94]
["33928","Estero","FL",4.7340001999999997,12.024360507999999,94]
["34614","Brooksville","FL",4.7340001999999997,12.024360507999999,94]
["34241","Sarasota","FL",4.7360001,12.029440254000001,94]
["33993","Cape Coral","FL",4.7370000000000001,12.031980000000001,94]
["34120","Naples","FL",4.7370000000000001,12.031980000000001,94]
["33957","Sanibel","FL",4.7379999000000002,12.034519746000001,94]
["34205","Bradenton","FL",4.7389998000000002,12.037059492000001,94]
["34667","Hudson","FL",4.7389998000000002,12.037059492000001,94]
["33916","Fort Myers","FL",4.7420001000000003,12.044680254000001,94]
["33716","Saint Petersburg","FL",4.7430000000000003,12.047220000000001,94]
["33956","Saint James City","FL",4.7430000000000003,12.047220000000001,94]
["34234","Sarasota","FL",4.7430000000000003,12.047220000000001,94]
["32904","Melbourne","FL",4.7449998999999998,12.052299745999999,94]
["33903","North Fort Myers","FL",4.7449998999999998,12.052299745999999,94]
["32127","Port Orange","FL",4.7459997999999999,12.054839491999999,94]
["33913","Fort Myers","FL",4.7459997999999999,12.054839491999999,94]
["34982","Fort Pierce","FL",4.7470001999999996,12.057380508,94]
["32926","Cocoa","FL",4.7490000999999999,12.062460253999999,94]
["34108","Naples","FL",4.75,12.065,94]
["33782","Pinellas Park","FL",4.7509999000000001,12.067539746,94]
["34138","Chokoloskee","FL",4.7509999000000001,12.067539746,94]
["34638","Land O Lakes","FL",4.7509999000000001,12.067539746,94]
["32218","Jacksonville","FL",4.7519999000000004,12.070079746000001,94]
["71259","Mangham","LA",4.7519999000000004,12.070079746000001,94]
["33556","Odessa","FL",4.7529998000000004,12.072619492000001,94]
["34109","Naples","FL",4.7529998000000004,12.072619492000001,94]
["34119","Naples","FL",4.7529998000000004,12.072619492000001,94]
["32169","New Smyrna Beach","FL",4.7550001000000002,12.077700254,94]
["34243","Sarasota","FL",4.7550001000000002,12.077700254,94]
["33772","Seminole","FL",4.7569999999999997,12.08278,94]
["32168","New Smyrna Beach","FL",4.7579998999999997,12.085319746,94]
["33967","Fort Myers","FL",4.7579998999999997,12.085319746,94]
["33991","Cape Coral","FL",4.7579998999999997,12.085319746,94]
["34432","Dunnellon","FL",4.7589997999999998,12.087859492,94]
["34140","Goodland","FL",4.7600002000000003,12.090400508000002,94]
["32955","Rockledge","FL",4.7610001999999998,12.092940508,94]
["32922","Cocoa","FL",4.7620000999999998,12.095480254,94]
["33901","Fort Myers","FL",4.7620000999999998,12.095480254,94]
["32952","Merritt Island","FL",4.7629999999999999,12.09802,94]
["32953","Merritt Island","FL",4.7629999999999999,{"$f":"D30129*2.54","v":12.09802},94]
["32966","Vero Beach","FL",4.7639999,12.100559746,94]
["32968","Vero Beach","FL",4.7639999,12.100559746,94]
["33990","Cape Coral","FL",4.7639999,12.100559746,94]
["34139","Everglades City","FL",4.7639999,12.100559746,94]
["34117","Naples","FL",4.7659998000000003,12.105639492000002,94]
["34145","Marco Island","FL",4.7659998000000003,12.105639492000002,94]
["34207","Bradenton","FL",4.7659998000000003,12.105639492000002,94]
["33966","Fort Myers","FL",4.7699999999999996,12.115799999999998,94]
["34654","New Port Richey","FL",4.7709998999999996,12.118339745999998,94]
["33777","Seminole","FL",4.7729998,12.123419492,94]
["33931","Fort Myers Beach","FL",4.7750000999999997,12.128500253999999,94]
["34209","Bradenton","FL",4.7750000999999997,12.128500253999999,94]
["32967","Vero Beach","FL",4.7810001,12.143740254000001,94]
["33912","Fort Myers","FL",4.7810001,12.143740254000001,94]
["34116","Naples","FL",4.7830000000000004,12.148820000000001,94]
["33914","Cape Coral","FL",4.7839999000000004,12.151359746000001,94]
["34448","Homosassa","FL",4.7839999000000004,12.151359746000001,94]
["33907","Fort Myers","FL",4.7849997999999996,12.153899491999999,94]
["34668","Port Richey","FL",4.7849997999999996,12.153899491999999,94]
["34114","Naples","FL",4.7859997999999999,12.156439492000001,94]
["33781","Pinellas Park","FL",4.7919998000000001,12.171679492000001,94]
["33904","Cape Coral","FL",4.7930001999999998,12.174220507999999,94]
["33908","Fort Myers","FL",4.7930001999999998,12.174220507999999,94]
["33919","Fort Myers","FL",4.7930001999999998,12.174220507999999,94]
["34984","Port Saint Lucie","FL",4.7930001999999998,12.174220507999999,94]
["32962","Vero Beach","FL",4.7940000999999999,12.176760254,94]
["31320","Midway","GA",4.7950001000000002,12.179300254000001,94]
["33702","Saint Petersburg","FL",4.7960000000000003,12.181840000000001,94]
["29440","Georgetown","SC",4.8010001000000004,12.194540254000001,94]
["32960","Vero Beach","FL",4.8010001000000004,12.194540254000001,94]
["34949","Fort Pierce","FL",4.8010001000000004,12.194540254000001,94]
["33708","Saint Petersburg","FL",4.8019999999999996,12.19708,94]
["34434","Dunnellon","FL",4.8019999999999996,12.19708,94]
["34952","Port Saint Lucie","FL",4.8019999999999996,12.19708,94]
["32963","Vero Beach","FL",4.8029999999999999,12.199619999999999,94]
["34141","Ochopee","FL",4.8029999999999999,12.199619999999999,94]
["34685","Palm Harbor","FL",4.8029999999999999,12.199619999999999,94]
["32225","Jacksonville","FL",4.8039999,12.202159746,94]
["32082","Ponte Vedra Beach","FL",4.8090000000000002,12.21486,94]
["34105","Naples","FL",4.8090000000000002,12.21486,94]
["34210","Bradenton","FL",4.8109998999999997,12.219939746,94]
["31419","Savannah","GA",4.8119997999999997,12.222479492,94]
["32227","Jacksonville","FL",4.8159999999999998,12.23264,94]
["32224","Jacksonville","FL",4.8169998999999999,12.235179746,94]
["34652","New Port Richey","FL",4.8210001,12.245340254,94]
["34688","Tarpon Springs","FL",4.8230000000000004,12.250420000000002,94]
["34113","Naples","FL",4.8239998999999996,12.252959745999998,94]
["34655","New Port Richey","FL",4.8239998999999996,12.252959745999998,94]
["71357","Newellton","LA",4.8260002000000002,12.258040508000001,94]
["32233","Atlantic Beach","FL",4.8280000999999997,12.263120253999999,94]
["31548","Kingsland","GA",4.8289999999999997,12.265659999999999,94]
["32250","Jacksonville Beach","FL",4.8309999000000001,12.270739746,94]
["34104","Naples","FL",4.8309999000000001,12.270739746,94]
["32266","Neptune Beach","FL",4.8319998000000002,12.273279492,94]
["34691","Holiday","FL",4.8319998000000002,12.273279492,94]
["31523","Brunswick","GA",4.8340000999999999,12.278360254000001,94]
["29576","Murrells Inlet","SC",4.8360000000000003,12.283440000000001,94]
["34112","Naples","FL",4.8379998000000004,12.288519492000001,94]
["29585","Pawleys Island","SC",4.8400002000000004,12.293600508000001,94]
["34102","Naples","FL",4.8400002000000004,12.293600508000001,94]
["31565","Waverly","GA",4.8410000999999996,12.296140253999999,94]
["33327","Fort Lauderdale","FL",4.8410000999999996,12.296140253999999,94]
["33709","Saint Petersburg","FL",4.8439999,12.303759746000001,94]
["31304","Crescent","GA",4.8470000999999998,{"$f":"D30193*2.54","v":12.311380253999999},94]
["32226","Jacksonville","FL",4.8479999999999999,12.31392,94]
["31411","Savannah","GA",4.8490000000000002,12.316460000000001,94]
["31328","Tybee Island","GA",4.8499999000000003,12.318999746000001,94]
["31569","Woodbine","GA",4.8610001,12.346940254,94]
["32696","Williston","FL",4.8610001,12.346940254,94]
["33703","Saint Petersburg","FL",4.8730000999999996,12.377420253999999,94]
["32619","Bell","FL",4.875,12.3825,94]
["31410","Savannah","GA",4.8850002000000003,12.407900508000001,94]
["31525","Brunswick","GA",4.8909998000000003,12.423139492000001,94]
["31305","Darien","GA",4.8959998999999996,12.435839745999999,94]
["31520","Brunswick","GA",4.9080000000000004,12.466320000000001,94]
["71366","Saint Joseph","LA",4.9229998999999998,12.504419746,94]
["34498","Yankeetown","FL",4.9320002000000001,12.527280508,94]
["34957","Jensen Beach","FL",4.9340000000000002,12.532360000000001,94]
["31527","Jekyll Island","GA",4.9369997999999997,12.539979491999999,94]
["31547","Kings Bay","GA",4.9409999999999998,12.550139999999999,94]
["33332","Fort Lauderdale","FL",4.9409999999999998,12.550139999999999,94]
["71336","Gilbert","LA",4.9530000999999997,12.580620253999999,94]
["32097","Yulee","FL",4.9569998000000002,12.590779492000001,94]
["71375","Waterproof","LA",4.9580001999999999,12.593320508,94]
["31558","Saint Marys","GA",4.9790001000000004,12.646660254,94]
["71295","Winnsboro","LA",4.9840001999999997,12.659360507999999,94]
["31561","Sea Island","GA",5.0069999999999997,12.717779999999999,94]
["32034","Fernandina Beach","FL",5.0069999999999997,12.717779999999999,94]
["31522","Saint Simons Island","GA",5.0100002000000003,12.725400508000002,94]
["34996","Stuart","FL",5.0159998000000003,12.740639492000001,94]
["32668","Morriston","FL",5.0229998,12.758419492,94]
["71418","Columbia","LA",5.0270000000000001,12.76858,94]
["33190","Miami","FL",5.0300001999999999,12.776200508000001,94]
["71243","Fort Necessity","LA",5.0380000999999996,12.796520253999999,94]
["71378","Wisner","LA",5.0479998999999998,12.821919745999999,94]
["32693","Trenton","FL",5.0529999999999999,12.834619999999999,94]
["32625","Cedar Key","FL",5.0609998999999997,12.854939745999999,94]
["32344","Monticello","FL",5.0659999999999998,12.86764,94]
["33449","Lake Worth","FL",5.0789999999999997,12.90066,94]
["95928","Chico","CA",5.0830001999999999,12.910820508,94]
["33473","Boynton Beach","FL",5.0860000000000003,12.91844,94]
["33029","Hollywood","FL",5.0879998000000004,12.923519492,94]
["71326","Clayton","LA",5.1009998000000003,12.956539492000001,94]
["33039","Homestead Air Force Base","FL",5.1020002,12.959080508,94]
["34449","Inglis","FL",5.1059998999999996,12.969239746,94]
["32621","Bronson","FL",5.1129999000000002,12.987019746000001,94]
["33326","Fort Lauderdale","FL",5.1199998999999998,13.004799746,94]
["33189","Miami","FL",5.125,13.0175,94]
["71328","Deville","LA",5.1420002,13.060680508000001,94]
["32626","Chiefland","FL",5.1440001000000004,13.065760254000001,94]
["33331","Fort Lauderdale","FL",5.1560001,13.096240254,94]
["32347","Perry","FL",5.1630000999999996,13.114020254,94]
["71342","Jena","LA",5.1700001000000002,13.131800254,94]
["32066","Mayo","FL",5.1769999999999996,13.149579999999998,94]
["71340","Harrisonburg","LA",5.1799998,13.157199492,94]
["71331","Effie","LA",5.1820002000000001,13.162280508,94]
["71343","Jonesville","LA",5.1849999000000002,13.169899746,94]
["32355","Saint Marks","FL",5.1859998999999997,13.172439745999998,94]
["00097","Everglades-Monroe County","FL",5.1869997999999997,13.174979492,94]
["32628","Cross City","FL",5.1900000999999998,13.182600254,94]
["33035","Homestead","FL",5.1900000999999998,13.182600254,94]
["33472","Boynton Beach","FL",5.1970000000000001,13.200380000000001,94]
["32336","Lamont","FL",5.2020001000000002,13.213080254000001,94]
["00053","Southwest Palm Beach Co","FL",5.2030000999999997,13.215620253999999,94]
["34990","Palm City","FL",5.2059999000000001,13.223239746000001,94]
["70447","Madisonville","LA",5.2069998000000002,13.225779492000001,94]
["71355","Moreauville","LA",5.2210001999999998,13.261340508,94]
["70471","Mandeville","LA",5.2220000999999998,{"$f":"D30257*2.54","v":13.263880254},94]
["70578","Rayne","LA",5.2370000000000001,13.30198,94]
["33437","Boynton Beach","FL",5.2389998000000002,13.307059492,94]
["33076","Pompano Beach","FL",5.2420001000000003,13.314680254000001,94]
["33032","Homestead","FL",5.2449998999999998,13.322299746000001,94]
["33467","Lake Worth","FL",5.2480000999999996,13.329920253999999,94]
["33498","Boca Raton","FL",5.2480000999999996,13.329920253999999,94]
["70068","LA Place","LA",5.2490000999999999,13.332460254000001,94]
["33033","Homestead","FL",5.25,13.335000000000001,94]
["70516","Branch","LA",5.2529998000000004,13.342619492000001,94]
["32648","Horseshoe Beach","FL",5.2649999000000003,13.373099746000001,94]
["70090","Vacherie","LA",5.2649999000000003,13.373099746000001,94]
["70448","Mandeville","LA",5.2690001000000004,13.383260254000001,94]
["32680","Old Town","FL",5.27,13.3858,94]
["70526","Crowley","LA",5.2719997999999997,13.390879492,94]
["32348","Perry","FL",5.2729998,13.393419492,94]
["32359","Steinhatchee","FL",5.2770000000000001,13.40358,94]
["33157","Miami","FL",5.2770000000000001,13.40358,94]
["32356","Salem","FL",5.2789998000000002,13.408659492,94]
["00041","West Broward County","FL",5.2820001000000003,13.416280254,94]
["71351","Marksville","LA",5.2870001999999996,13.428980507999999,94]
["71350","Mansura","LA",5.29,13.4366,94]
["33158","Miami","FL",5.2960000000000003,13.451840000000001,94]
["00098","Everglades-S Monroe Cnty","FL",5.2979998999999998,13.456919745999999,94]
["33028","Pembroke Pines","FL",5.2989997999999998,13.459459492000001,94]
["33027","Hollywood","FL",5.3000002000000004,13.462000508000001,94]
["71327","Cottonport","LA",5.3119997999999997,13.492479491999999,94]
["70531","Egan","LA",5.3130002000000003,13.495020508000001,94]
["71341","Hessmer","LA",5.3130002000000003,13.495020508000001,94]
["95979","Stonyford","CA",5.3140001000000003,13.497560254000001,94]
["00043","Everglades","FL",5.3200002,13.512800508,94]
["33034","Homestead","FL",5.3200002,13.512800508,94]
["70535","Eunice","LA",5.3239998999999996,13.522959746,94]
["70537","Evangeline","LA",5.3239998999999996,13.522959746,94]
["70543","Iota","LA",5.3280000999999997,13.533120254,94]
["70049","Edgard","LA",5.3299998999999998,13.538199746,94]
["70556","Mermentau","LA",5.3330001999999999,13.545820508,94]
["70079","Norco","LA",5.3340000999999999,13.548360254,94]
["70528","Delcambre","LA",5.3360000000000003,13.55344,94]
["33323","Fort Lauderdale","FL",5.3419999999999996,13.568679999999999,94]
["33015","Hialeah","FL",5.3429998999999997,13.571219745999999,94]
["33018","Hialeah","FL",5.3470000999999998,13.581380253999999,94]
["33196","Miami","FL",5.3490000000000002,13.586460000000001,94]
["34997","Stuart","FL",5.3559998999999996,13.604239745999999,94]
["33446","Delray Beach","FL",5.3569998999999999,13.606779746000001,94]
["70560","New Iberia","LA",5.3579998,13.609319492000001,94]
["33414","Wellington","FL",5.3600000999999997,13.614400254,94]
["70515","Basile","LA",5.3610001,13.616940254000001,94]
["70559","Morse","LA",5.3639998000000002,13.624559492000001,94]
["70342","Berwick","LA",5.3680000000000003,13.634720000000002,94]
["70380","Morgan City","LA",5.3709997999999999,13.642339492,94]
["70392","Patterson","LA",5.3709997999999999,13.642339492,94]
["33194","Miami","FL",5.375,13.6525,94]
["33185","Miami","FL",5.3769999000000004,13.657579746000001,94]
["70581","Roanoke","LA",5.3769999000000004,13.657579746000001,94]
["70065","Kenner","LA",5.3779998000000004,13.660119492000002,94]
["33325","Fort Lauderdale","FL",5.3810000000000002,13.66774,94]
["70047","Destrehan","LA",5.3810000000000002,13.66774,94]
["33330","Fort Lauderdale","FL",5.3839997999999998,13.675359492,94]
["70062","Kenner","LA",5.3860001999999998,13.680440508,94]
["70657","Ragley","LA",5.3860001999999998,13.680440508,94]
["32327","Crawfordville","FL",5.3870000999999998,13.682980254,94]
["70533","Erath","LA",5.3870000999999998,13.682980254,94]
["00116","Marsh Island","LA",5.3879999999999999,13.68552,94]
["70087","Saint Rose","LA",5.3879999999999999,{"$f":"D30321*2.54","v":13.68552},94]
["70510","Abbeville","LA",5.3930001000000001,13.698220254000001,94]
["70148","New Orleans","LA",5.3949999999999996,13.703299999999999,94]
["33016","Hialeah","FL",5.4000000999999997,13.716000253999999,94]
["70611","Lake Charles","LA",5.4020000000000001,13.721080000000001,94]
["33428","Boca Raton","FL",5.4039998000000002,13.726159492000001,94]
["33463","Lake Worth","FL",5.4050001999999999,13.728700507999999,94]
["33436","Boynton Beach","FL",5.4060001,13.731240253999999,94]
["70546","Jennings","LA",5.4070001000000003,13.733780254000001,94]
["39572","Pearlington","MS",5.4089999000000004,13.738859746000001,94]
["70445","Lacombe","LA",5.4099997999999996,13.741399491999999,94]
["34956","Indiantown","FL",5.4109997999999999,13.743939491999999,94]
["70128","New Orleans","LA",5.4169998000000001,13.759179492000001,94]
["70003","Metairie","LA",5.4180001999999998,13.761720508,94]
["70006","Metairie","LA",5.4190000999999999,13.764260254,94]
["70127","New Orleans","LA",5.4200001000000002,13.766800254000001,94]
["70601","Lake Charles","LA",5.4200001000000002,13.766800254000001,94]
["33156","Miami","FL",5.4210000000000003,13.769340000000001,94]
["70591","Welsh","LA",5.4219999000000003,13.771879746000002,94]
["33484","Delray Beach","FL",5.4229998999999998,13.774419746,94]
["33026","Hollywood","FL",5.4239997999999998,13.776959492,94]
["70122","New Orleans","LA",5.4250002000000004,13.779500508000002,94]
["70070","Luling","LA",5.4260001000000004,13.782040254000002,94]
["70615","Lake Charles","LA",5.4289999,13.789659746,94]
["33470","Loxahatchee","FL",5.4340000000000002,13.80236,94]
["70373","Larose","LA",5.4380002000000003,13.812520508,94]
["70002","Metairie","LA",5.4409999999999998,13.82014,94]
["70359","Gray","LA",5.4409999999999998,13.82014,94]
["70032","Arabi","LA",5.4419998999999999,13.822679746,94]
["70057","Hahnville","LA",5.4419998999999999,13.822679746,94]
["70092","Violet","LA",5.4419998999999999,13.822679746,94]
["70126","New Orleans","LA",5.4429997999999999,13.825219492,94]
["70124","New Orleans","LA",5.4450002,13.830300508000001,94]
["70039","Boutte","LA",5.4460001,13.832840254000001,94]
["70080","Paradis","LA",5.4460001,13.832840254000001,94]
["33025","Hollywood","FL",5.4499997999999996,13.842999491999999,94]
["33065","Pompano Beach","FL",5.4499997999999996,13.842999491999999,94]
["70043","Chalmette","LA",5.4499997999999996,13.842999491999999,94]
["70075","Meraux","LA",5.4499997999999996,13.842999491999999,94]
["70669","Westlake","LA",5.4499997999999996,13.842999491999999,94]
["70001","Metairie","LA",5.4530000999999997,13.850620253999999,94]
["70005","Metairie","LA",5.4530000999999997,13.850620253999999,94]
["70129","New Orleans","LA",5.4530000999999997,13.850620253999999,94]
["70031","Ama","LA",5.4549998999999998,13.855699745999999,94]
["70650","Lacassine","LA",5.4569998000000002,13.860779492000001,94]
["70344","Chauvin","LA",5.4629998000000004,13.876019492000001,94]
["70647","Iowa","LA",5.4629998000000004,13.876019492000001,94]
["70356","Gibson","LA",5.4640002000000001,13.878560508,94]
["70375","Mathews","LA",5.4650002000000004,13.881100508000001,94]
["70301","Thibodaux","LA",5.4660000999999996,13.883640253999999,94]
["70374","Lockport","LA",5.4689999,13.891259746000001,94]
["70355","Gheens","LA",5.4720000999999998,13.898880254,94]
["70377","Montegut","LA",5.4729999999999999,13.90142,94]
["70343","Bourg","LA",5.4740000000000002,13.903960000000001,94]
["33182","Miami","FL",5.4749999000000003,13.906499746000001,94]
["33184","Miami","FL",5.4770002,13.911580508,94]
["70542","Gueydan","LA",5.4780002000000003,13.914120508000002,94]
["70549","Lake Arthur","LA",5.4780002000000003,13.914120508000002,94]
["70397","Theriot","LA",5.4790001000000004,13.916660254000002,94]
["70036","Barataria","LA",5.4819998999999999,13.924279746,94]
["70364","Houma","LA",5.4819998999999999,13.924279746,94]
["70460","Slidell","LA",5.4840001999999997,13.929360507999998,94]
["70548","Kaplan","LA",5.4840001999999997,13.929360507999998,94]
["33175","Miami","FL",5.4860001,13.934440254,94]
["33178","Miami","FL",5.4889998000000002,{"$f":"D30385*2.54","v":13.942059492},94]
["70360","Houma","LA",5.4889998000000002,13.942059492,94]
["70363","Houma","LA",5.4889998000000002,13.942059492,94]
["70072","Marrero","LA",5.4899997999999997,13.944599492,94]
["33166","Miami","FL",5.4910002000000002,13.947140508,94]
["70094","Westwego","LA",5.4910002000000002,13.947140508,94]
["70030","Des Allemands","LA",5.4920001000000003,13.949680254,94]
["70394","Raceland","LA",5.4930000000000003,13.952220000000001,94]
["70544","Jeanerette","LA",5.4930000000000003,13.952220000000001,94]
["70345","Cut Off","LA",5.4959997999999999,13.959839492,94]
["95973","Chico","CA",5.4959997999999999,13.959839492,94]
["33445","Delray Beach","FL",5.4970001999999996,13.962380507999999,94]
["32346","Panacea","FL",5.4980000999999996,13.964920253999999,94]
["33496","Boca Raton","FL",5.4980000999999996,13.964920253999999,94]
["70458","Slidell","LA",5.5,13.97,94]
["33071","Pompano Beach","FL",5.5009999000000001,13.972539746000001,94]
["95969","Paradise","CA",5.5009999000000001,13.972539746000001,94]
["70630","Bell City","LA",5.5029998000000004,13.977619492000001,94]
["70461","Slidell","LA",5.5050001000000002,13.982700254000001,94]
["70538","Franklin","LA",5.5079998999999997,13.990319745999999,94]
["33426","Boynton Beach","FL",5.5089997999999998,13.992859491999999,94]
["33023","Hollywood","FL",5.5110001999999998,13.997940507999999,94]
["33179","Miami","FL",5.5120000999999998,14.000480253999999,94]
["70633","Dequincy","LA",5.5149999000000003,14.008099746000001,94]
["33172","Miami","FL",5.5180001000000001,14.015720254,94]
["33434","Boca Raton","FL",5.52,14.020799999999999,94]
["33067","Pompano Beach","FL",5.5209998999999996,14.023339746,94]
["33180","Miami","FL",5.5219997999999997,14.025879492,94]
["33024","Hollywood","FL",5.5349997999999996,14.058899491999998,94]
["33444","Delray Beach","FL",5.5349997999999996,14.058899491999998,94]
["70353","Dulac","LA",5.5349997999999996,14.058899491999998,94]
["33321","Fort Lauderdale","FL",5.5409999000000001,14.074139746,94]
["33328","Fort Lauderdale","FL",5.5419998000000001,14.076679492,94]
["70605","Lake Charles","LA",5.5430001999999998,14.079220508000001,94]
["32322","Carrabelle","FL",5.5479998999999998,14.091919746,94]
["33009","Hallandale","FL",5.5489997999999998,14.094459492,94]
["33351","Fort Lauderdale","FL",5.5489997999999998,14.094459492,94]
["32334","Hosford","FL",5.5519999999999996,14.102079999999999,94]
["33021","Hollywood","FL",5.5549998,14.109699492000001,94]
["70037","Belle Chasse","LA",5.5580001000000001,14.117320254000001,94]
["32358","Sopchoppy","FL",5.5599999000000002,14.122399746000001,94]
["70607","Lake Charles","LA",5.5609998999999997,14.124939745999999,94]
["32328","Eastpoint","FL",5.5650000999999998,14.135100253999999,94]
["33020","Hollywood","FL",5.5659999999999998,14.137639999999999,94]
["33322","Fort Lauderdale","FL",5.5710001,14.150340254,94]
["70643","Grand Chenier","LA",5.5720000000000001,14.15288,94]
["33324","Fort Lauderdale","FL",5.5749997999999996,14.160499492,94]
["33413","West Palm Beach","FL",5.5970000999999998,14.216380254000001,94]
["33314","Fort Lauderdale","FL",5.5979999999999999,14.218920000000001,94]
["33461","Lake Worth","FL",5.6030002000000003,14.231620508000001,94]
["33019","Hollywood","FL",5.6040001000000004,14.234160254000001,94]
["70354","Galliano","LA",5.6110001,14.251940254000001,94]
["33487","Boca Raton","FL",5.6329998999999997,14.307819746,94]
["70632","Creole","LA",5.6339997999999998,14.310359492,94]
["33433","Boca Raton","FL",5.6360001999999998,14.315440508,94]
["70663","Sulphur","LA",5.6370000999999998,14.317980254,94]
["33403","West Palm Beach","FL",5.6399999000000003,14.325599746000002,94]
["33415","West Palm Beach","FL",5.6420002,14.330680508,94]
["00121","Mississippi Delta","LA",5.6520000000000001,14.35608,94]
["33455","Hobe Sound","FL",5.6550001999999999,14.363700508000001,94]
["33412","West Palm Beach","FL",5.6560001,14.366240254000001,94]
["36610","Mobile","AL",5.6630000999999996,14.384020253999999,94]
["70091","Venice","LA",5.665,14.389100000000001,94]
["33435","Boynton Beach","FL",5.6680001999999998,14.396720508,94]
["33408","North Palm Beach","FL",5.6710000000000003,{"$f":"D30449*2.54","v":14.404340000000001},94]
["33411","West Palm Beach","FL",5.6760001000000004,14.417040254000002,94]
["33462","Lake Worth","FL",5.6810001999999997,14.429740508,94]
["33004","Dania","FL",5.6820002000000001,14.432280508,94]
["33404","West Palm Beach","FL",5.6890001000000003,14.450060254,94]
["33410","Palm Beach Gardens","FL",5.6890001000000003,14.450060254,94]
["33317","Fort Lauderdale","FL",5.6939998000000003,14.462759492000002,94]
["33319","Fort Lauderdale","FL",5.7010002000000002,14.480540508000001,94]
["33431","Boca Raton","FL",5.7030000999999997,14.485620253999999,94]
["33073","Pompano Beach","FL",5.7039999999999997,14.488159999999999,94]
["33068","Pompano Beach","FL",5.7049998999999998,14.490699745999999,94]
["33315","Fort Lauderdale","FL",5.7080001999999999,14.498320507999999,94]
["33313","Fort Lauderdale","FL",5.7140002000000001,14.513560508000001,94]
["33063","Pompano Beach","FL",5.7150002000000004,14.516100508000001,94]
["33417","West Palm Beach","FL",5.7150002000000004,14.516100508000001,94]
["70041","Buras","LA",5.7150002000000004,14.516100508000001,94]
["39576","Waveland","MS",5.7229999999999999,14.53642,94]
["33312","Fort Lauderdale","FL",5.7240000000000002,14.538960000000001,94]
["33066","Pompano Beach","FL",5.7290001000000004,14.551660254000002,94]
["33486","Boca Raton","FL",5.73,14.554200000000002,94]
["33478","Jupiter","FL",5.7319998999999999,14.559279746,94]
["39520","Bay Saint Louis","MS",5.7329998,14.561819492,94]
["33418","Palm Beach Gardens","FL",5.7340001999999997,14.564360508,94]
["70040","Braithwaite","LA",5.7340001999999997,14.564360508,94]
["70081","Pilottown","LA",5.7340001999999997,14.564360508,94]
["33406","West Palm Beach","FL",5.7350000999999997,14.566900254,94]
["33442","Deerfield Beach","FL",5.7350000999999997,14.566900254,94]
["70645","Hackberry","LA",5.7399997999999997,14.579599492,94]
["70665","Sulphur","LA",5.7449998999999998,14.592299746,94]
["33458","Jupiter","FL",5.7470001999999996,14.597380507999999,94]
["39525","Diamondhead","MS",5.7490000999999999,14.602460254,94]
["33405","West Palm Beach","FL",5.7519999000000004,14.610079746000002,94]
["33407","West Palm Beach","FL",5.7540002000000001,14.615160508000001,94]
["96013","Burney","CA",5.7540002000000001,14.615160508000001,94]
["70083","Port Sulphur","LA",5.7579998999999997,14.625319745999999,94]
["33409","West Palm Beach","FL",5.7600002000000003,14.630400508000001,94]
["70085","Saint Bernard","LA",5.7759999999999998,14.67104,94]
["77630","Orange","TX",5.7759999999999998,14.67104,94]
["33432","Boca Raton","FL",5.7889999999999997,14.70406,94]
["77611","Bridge City","TX",5.7919998000000001,14.711679492,94]
["70067","Lafitte","LA",5.7940000999999999,14.716760254,94]
["70357","Golden Meadow","LA",5.7940000999999999,14.716760254,94]
["33441","Deerfield Beach","FL",5.8179997999999999,14.777719491999999,94]
["33301","Fort Lauderdale","FL",5.8189998000000003,14.780259492000001,94]
["70661","Starks","LA",5.8239998999999996,14.792959745999999,94]
["33311","Fort Lauderdale","FL",5.8270001000000002,14.800580254000002,94]
["39507","Gulfport","MS",5.8369999000000004,14.825979746000002,94]
["77632","Orange","TX",5.8379998000000004,14.828519492000002,94]
["70668","Vinton","LA",5.8390002000000001,14.831060508,94]
["33069","Pompano Beach","FL",5.8460001999999998,14.848840508,94]
["39532","Biloxi","MS",5.8509998000000003,14.861539492,94]
["39556","Kiln","MS",5.8540001000000004,14.869160254000001,94]
["33309","Fort Lauderdale","FL",5.8559998999999996,14.874239745999999,94]
["39560","Long Beach","MS",5.8569998999999999,14.876779746,94]
["36527","Spanish Fort","AL",5.8600000999999997,14.884400253999999,94]
["39503","Gulfport","MS",5.8600000999999997,14.884400253999999,94]
["39571","Pass Christian","MS",5.8629999000000002,14.892019746000001,94]
["70631","Cameron","LA",5.8629999000000002,14.892019746000001,94]
["33064","Pompano Beach","FL",5.8730000999999996,14.917420254,94]
["77640","Port Arthur","TX",5.8909998000000003,14.963139492000002,94]
["39564","Ocean Springs","MS",5.8959998999999996,14.975839746,94]
["33304","Fort Lauderdale","FL",5.9020000000000001,14.99108,94]
["33334","Fort Lauderdale","FL",5.9089999000000004,15.008859746000001,94]
["33305","Fort Lauderdale","FL",5.9190000999999999,15.034260253999999,94]
["33060","Pompano Beach","FL",5.9210000000000003,{"$f":"D30513*2.54","v":15.039340000000001},94]
["33306","Fort Lauderdale","FL",5.9219999000000003,15.041879746000001,94]
["39553","Gautier","MS",5.9260001000000004,15.052040254000001,94]
["36541","Grand Bay","AL",5.9439998000000003,15.097759492000002,94]
["39565","Vancleave","MS",5.9460001,15.102840254,94]
["33062","Pompano Beach","FL",5.9480000000000004,15.107920000000002,94]
["36526","Daphne","AL",5.9619999000000004,15.143479746000001,94]
["39563","Moss Point","MS",5.9819998999999999,15.194279745999999,94]
["39562","Moss Point","MS",5.9889998000000002,15.212059492000002,94]
["39567","Pascagoula","MS",5.9899997999999997,15.214599492,94]
["39581","Pascagoula","MS",5.9970001999999996,15.232380507999999,94]
["95965","Oroville","CA",7.1389999,18.133059746000001,94]